BEGIN:VCALENDAR
VERSION:2.0
PRODID:-//Woodruff Place Baptist Church - ECPv6.15.18//NONSGML v1.0//EN
CALSCALE:GREGORIAN
METHOD:PUBLISH
X-WR-CALNAME:Woodruff Place Baptist Church
X-ORIGINAL-URL:https://woodruffplacebaptist.org
X-WR-CALDESC:Events for Woodruff Place Baptist Church
REFRESH-INTERVAL;VALUE=DURATION:PT1H
X-Robots-Tag:noindex
X-PUBLISHED-TTL:PT1H
BEGIN:VTIMEZONE
TZID:America/Indiana/Indianapolis
BEGIN:DAYLIGHT
TZOFFSETFROM:-0500
TZOFFSETTO:-0400
TZNAME:EDT
DTSTART:20250309T070000
END:DAYLIGHT
BEGIN:STANDARD
TZOFFSETFROM:-0400
TZOFFSETTO:-0500
TZNAME:EST
DTSTART:20251102T060000
END:STANDARD
BEGIN:DAYLIGHT
TZOFFSETFROM:-0500
TZOFFSETTO:-0400
TZNAME:EDT
DTSTART:20260308T070000
END:DAYLIGHT
BEGIN:STANDARD
TZOFFSETFROM:-0400
TZOFFSETTO:-0500
TZNAME:EST
DTSTART:20261101T060000
END:STANDARD
BEGIN:DAYLIGHT
TZOFFSETFROM:-0500
TZOFFSETTO:-0400
TZNAME:EDT
DTSTART:20270314T070000
END:DAYLIGHT
BEGIN:STANDARD
TZOFFSETFROM:-0400
TZOFFSETTO:-0500
TZNAME:EST
DTSTART:20271107T060000
END:STANDARD
BEGIN:DAYLIGHT
TZOFFSETFROM:-0500
TZOFFSETTO:-0400
TZNAME:EDT
DTSTART:20280312T070000
END:DAYLIGHT
BEGIN:STANDARD
TZOFFSETFROM:-0400
TZOFFSETTO:-0500
TZNAME:EST
DTSTART:20281105T060000
END:STANDARD
END:VTIMEZONE
BEGIN:VEVENT
DTSTART;TZID=America/Indiana/Indianapolis:20260719T160000
DTEND;TZID=America/Indiana/Indianapolis:20260719T200000
DTSTAMP:20260420T223204
CREATED:20260420T194010Z
LAST-MODIFIED:20260420T194010Z
UID:10005955-1784476800-1784491200@woodruffplacebaptist.org
SUMMARY:Urban Hope Basketball
DESCRIPTION:
URL:https://woodruffplacebaptist.org/event/urban-hope-basketball/2026-07-19/
END:VEVENT
BEGIN:VEVENT
DTSTART;TZID=America/Indiana/Indianapolis:20260726T160000
DTEND;TZID=America/Indiana/Indianapolis:20260726T200000
DTSTAMP:20260420T223204
CREATED:20260420T194010Z
LAST-MODIFIED:20260420T194010Z
UID:10005956-1785081600-1785096000@woodruffplacebaptist.org
SUMMARY:Urban Hope Basketball
DESCRIPTION:
URL:https://woodruffplacebaptist.org/event/urban-hope-basketball/2026-07-26/
END:VEVENT
BEGIN:VEVENT
DTSTART;TZID=America/Indiana/Indianapolis:20260802T160000
DTEND;TZID=America/Indiana/Indianapolis:20260802T200000
DTSTAMP:20260420T223204
CREATED:20260420T194010Z
LAST-MODIFIED:20260420T194010Z
UID:10005957-1785686400-1785700800@woodruffplacebaptist.org
SUMMARY:Urban Hope Basketball
DESCRIPTION:
URL:https://woodruffplacebaptist.org/event/urban-hope-basketball/2026-08-02/
END:VEVENT
BEGIN:VEVENT
DTSTART;TZID=America/Indiana/Indianapolis:20260809T160000
DTEND;TZID=America/Indiana/Indianapolis:20260809T200000
DTSTAMP:20260420T223204
CREATED:20260420T194010Z
LAST-MODIFIED:20260420T194010Z
UID:10005958-1786291200-1786305600@woodruffplacebaptist.org
SUMMARY:Urban Hope Basketball
DESCRIPTION:
URL:https://woodruffplacebaptist.org/event/urban-hope-basketball/2026-08-09/
END:VEVENT
BEGIN:VEVENT
DTSTART;TZID=America/Indiana/Indianapolis:20260816T160000
DTEND;TZID=America/Indiana/Indianapolis:20260816T200000
DTSTAMP:20260420T223204
CREATED:20260420T194010Z
LAST-MODIFIED:20260420T194010Z
UID:10005959-1786896000-1786910400@woodruffplacebaptist.org
SUMMARY:Urban Hope Basketball
DESCRIPTION:
URL:https://woodruffplacebaptist.org/event/urban-hope-basketball/2026-08-16/
END:VEVENT
BEGIN:VEVENT
DTSTART;TZID=America/Indiana/Indianapolis:20260823T160000
DTEND;TZID=America/Indiana/Indianapolis:20260823T200000
DTSTAMP:20260420T223204
CREATED:20260420T194010Z
LAST-MODIFIED:20260420T194010Z
UID:10005960-1787500800-1787515200@woodruffplacebaptist.org
SUMMARY:Urban Hope Basketball
DESCRIPTION:
URL:https://woodruffplacebaptist.org/event/urban-hope-basketball/2026-08-23/
END:VEVENT
BEGIN:VEVENT
DTSTART;TZID=America/Indiana/Indianapolis:20260830T160000
DTEND;TZID=America/Indiana/Indianapolis:20260830T200000
DTSTAMP:20260420T223204
CREATED:20260420T194010Z
LAST-MODIFIED:20260420T194010Z
UID:10005961-1788105600-1788120000@woodruffplacebaptist.org
SUMMARY:Urban Hope Basketball
DESCRIPTION:
URL:https://woodruffplacebaptist.org/event/urban-hope-basketball/2026-08-30/
END:VEVENT
BEGIN:VEVENT
DTSTART;TZID=America/Indiana/Indianapolis:20260906T160000
DTEND;TZID=America/Indiana/Indianapolis:20260906T200000
DTSTAMP:20260420T223204
CREATED:20260420T194010Z
LAST-MODIFIED:20260420T194010Z
UID:10005962-1788710400-1788724800@woodruffplacebaptist.org
SUMMARY:Urban Hope Basketball
DESCRIPTION:
URL:https://woodruffplacebaptist.org/event/urban-hope-basketball/2026-09-06/
END:VEVENT
BEGIN:VEVENT
DTSTART;TZID=America/Indiana/Indianapolis:20260913T160000
DTEND;TZID=America/Indiana/Indianapolis:20260913T200000
DTSTAMP:20260420T223204
CREATED:20260420T194010Z
LAST-MODIFIED:20260420T194010Z
UID:10005963-1789315200-1789329600@woodruffplacebaptist.org
SUMMARY:Urban Hope Basketball
DESCRIPTION:
URL:https://woodruffplacebaptist.org/event/urban-hope-basketball/2026-09-13/
END:VEVENT
BEGIN:VEVENT
DTSTART;TZID=America/Indiana/Indianapolis:20260920T160000
DTEND;TZID=America/Indiana/Indianapolis:20260920T200000
DTSTAMP:20260420T223204
CREATED:20260420T194010Z
LAST-MODIFIED:20260420T194010Z
UID:10005964-1789920000-1789934400@woodruffplacebaptist.org
SUMMARY:Urban Hope Basketball
DESCRIPTION:
URL:https://woodruffplacebaptist.org/event/urban-hope-basketball/2026-09-20/
END:VEVENT
BEGIN:VEVENT
DTSTART;TZID=America/Indiana/Indianapolis:20260927T160000
DTEND;TZID=America/Indiana/Indianapolis:20260927T200000
DTSTAMP:20260420T223204
CREATED:20260420T194010Z
LAST-MODIFIED:20260420T194010Z
UID:10005965-1790524800-1790539200@woodruffplacebaptist.org
SUMMARY:Urban Hope Basketball
DESCRIPTION:
URL:https://woodruffplacebaptist.org/event/urban-hope-basketball/2026-09-27/
END:VEVENT
BEGIN:VEVENT
DTSTART;TZID=America/Indiana/Indianapolis:20261004T160000
DTEND;TZID=America/Indiana/Indianapolis:20261004T200000
DTSTAMP:20260420T223204
CREATED:20260420T194010Z
LAST-MODIFIED:20260420T194010Z
UID:10005966-1791129600-1791144000@woodruffplacebaptist.org
SUMMARY:Urban Hope Basketball
DESCRIPTION:
URL:https://woodruffplacebaptist.org/event/urban-hope-basketball/2026-10-04/
END:VEVENT
BEGIN:VEVENT
DTSTART;TZID=America/Indiana/Indianapolis:20261011T160000
DTEND;TZID=America/Indiana/Indianapolis:20261011T200000
DTSTAMP:20260420T223204
CREATED:20260420T194010Z
LAST-MODIFIED:20260420T194010Z
UID:10005967-1791734400-1791748800@woodruffplacebaptist.org
SUMMARY:Urban Hope Basketball
DESCRIPTION:
URL:https://woodruffplacebaptist.org/event/urban-hope-basketball/2026-10-11/
END:VEVENT
BEGIN:VEVENT
DTSTART;TZID=America/Indiana/Indianapolis:20261018T160000
DTEND;TZID=America/Indiana/Indianapolis:20261018T200000
DTSTAMP:20260420T223204
CREATED:20260420T194010Z
LAST-MODIFIED:20260420T194010Z
UID:10005968-1792339200-1792353600@woodruffplacebaptist.org
SUMMARY:Urban Hope Basketball
DESCRIPTION:
URL:https://woodruffplacebaptist.org/event/urban-hope-basketball/2026-10-18/
END:VEVENT
BEGIN:VEVENT
DTSTART;TZID=America/Indiana/Indianapolis:20261025T160000
DTEND;TZID=America/Indiana/Indianapolis:20261025T200000
DTSTAMP:20260420T223204
CREATED:20260420T194010Z
LAST-MODIFIED:20260420T194010Z
UID:10005969-1792944000-1792958400@woodruffplacebaptist.org
SUMMARY:Urban Hope Basketball
DESCRIPTION:
URL:https://woodruffplacebaptist.org/event/urban-hope-basketball/2026-10-25/
END:VEVENT
BEGIN:VEVENT
DTSTART;TZID=America/Indiana/Indianapolis:20261101T160000
DTEND;TZID=America/Indiana/Indianapolis:20261101T200000
DTSTAMP:20260420T223204
CREATED:20260420T194010Z
LAST-MODIFIED:20260420T194010Z
UID:10005970-1793548800-1793563200@woodruffplacebaptist.org
SUMMARY:Urban Hope Basketball
DESCRIPTION:
URL:https://woodruffplacebaptist.org/event/urban-hope-basketball/2026-11-01/
END:VEVENT
BEGIN:VEVENT
DTSTART;TZID=America/Indiana/Indianapolis:20261108T160000
DTEND;TZID=America/Indiana/Indianapolis:20261108T200000
DTSTAMP:20260420T223204
CREATED:20260420T194010Z
LAST-MODIFIED:20260420T194010Z
UID:10005971-1794153600-1794168000@woodruffplacebaptist.org
SUMMARY:Urban Hope Basketball
DESCRIPTION:
URL:https://woodruffplacebaptist.org/event/urban-hope-basketball/2026-11-08/
END:VEVENT
BEGIN:VEVENT
DTSTART;TZID=America/Indiana/Indianapolis:20261115T160000
DTEND;TZID=America/Indiana/Indianapolis:20261115T200000
DTSTAMP:20260420T223204
CREATED:20260420T194010Z
LAST-MODIFIED:20260420T194010Z
UID:10005972-1794758400-1794772800@woodruffplacebaptist.org
SUMMARY:Urban Hope Basketball
DESCRIPTION:
URL:https://woodruffplacebaptist.org/event/urban-hope-basketball/2026-11-15/
END:VEVENT
BEGIN:VEVENT
DTSTART;TZID=America/Indiana/Indianapolis:20261122T160000
DTEND;TZID=America/Indiana/Indianapolis:20261122T200000
DTSTAMP:20260420T223204
CREATED:20260420T194010Z
LAST-MODIFIED:20260420T194010Z
UID:10005973-1795363200-1795377600@woodruffplacebaptist.org
SUMMARY:Urban Hope Basketball
DESCRIPTION:
URL:https://woodruffplacebaptist.org/event/urban-hope-basketball/2026-11-22/
END:VEVENT
BEGIN:VEVENT
DTSTART;TZID=America/Indiana/Indianapolis:20261129T160000
DTEND;TZID=America/Indiana/Indianapolis:20261129T200000
DTSTAMP:20260420T223204
CREATED:20260420T194010Z
LAST-MODIFIED:20260420T194010Z
UID:10005974-1795968000-1795982400@woodruffplacebaptist.org
SUMMARY:Urban Hope Basketball
DESCRIPTION:
URL:https://woodruffplacebaptist.org/event/urban-hope-basketball/2026-11-29/
END:VEVENT
BEGIN:VEVENT
DTSTART;TZID=America/Indiana/Indianapolis:20261206T160000
DTEND;TZID=America/Indiana/Indianapolis:20261206T200000
DTSTAMP:20260420T223204
CREATED:20260420T194010Z
LAST-MODIFIED:20260420T194010Z
UID:10005975-1796572800-1796587200@woodruffplacebaptist.org
SUMMARY:Urban Hope Basketball
DESCRIPTION:
URL:https://woodruffplacebaptist.org/event/urban-hope-basketball/2026-12-06/
END:VEVENT
BEGIN:VEVENT
DTSTART;TZID=America/Indiana/Indianapolis:20261213T160000
DTEND;TZID=America/Indiana/Indianapolis:20261213T200000
DTSTAMP:20260420T223204
CREATED:20260420T194010Z
LAST-MODIFIED:20260420T194010Z
UID:10005976-1797177600-1797192000@woodruffplacebaptist.org
SUMMARY:Urban Hope Basketball
DESCRIPTION:
URL:https://woodruffplacebaptist.org/event/urban-hope-basketball/2026-12-13/
END:VEVENT
BEGIN:VEVENT
DTSTART;TZID=America/Indiana/Indianapolis:20261220T160000
DTEND;TZID=America/Indiana/Indianapolis:20261220T200000
DTSTAMP:20260420T223204
CREATED:20260420T194010Z
LAST-MODIFIED:20260420T194010Z
UID:10005977-1797782400-1797796800@woodruffplacebaptist.org
SUMMARY:Urban Hope Basketball
DESCRIPTION:
URL:https://woodruffplacebaptist.org/event/urban-hope-basketball/2026-12-20/
END:VEVENT
BEGIN:VEVENT
DTSTART;TZID=America/Indiana/Indianapolis:20261227T160000
DTEND;TZID=America/Indiana/Indianapolis:20261227T200000
DTSTAMP:20260420T223204
CREATED:20260420T194010Z
LAST-MODIFIED:20260420T194010Z
UID:10005978-1798387200-1798401600@woodruffplacebaptist.org
SUMMARY:Urban Hope Basketball
DESCRIPTION:
URL:https://woodruffplacebaptist.org/event/urban-hope-basketball/2026-12-27/
END:VEVENT
BEGIN:VEVENT
DTSTART;TZID=America/Indiana/Indianapolis:20270103T160000
DTEND;TZID=America/Indiana/Indianapolis:20270103T200000
DTSTAMP:20260420T223204
CREATED:20260420T194010Z
LAST-MODIFIED:20260420T194010Z
UID:10005979-1798992000-1799006400@woodruffplacebaptist.org
SUMMARY:Urban Hope Basketball
DESCRIPTION:
URL:https://woodruffplacebaptist.org/event/urban-hope-basketball/2027-01-03/
END:VEVENT
BEGIN:VEVENT
DTSTART;TZID=America/Indiana/Indianapolis:20270110T160000
DTEND;TZID=America/Indiana/Indianapolis:20270110T200000
DTSTAMP:20260420T223204
CREATED:20260420T194010Z
LAST-MODIFIED:20260420T194010Z
UID:10005980-1799596800-1799611200@woodruffplacebaptist.org
SUMMARY:Urban Hope Basketball
DESCRIPTION:
URL:https://woodruffplacebaptist.org/event/urban-hope-basketball/2027-01-10/
END:VEVENT
BEGIN:VEVENT
DTSTART;TZID=America/Indiana/Indianapolis:20270117T160000
DTEND;TZID=America/Indiana/Indianapolis:20270117T200000
DTSTAMP:20260420T223204
CREATED:20260420T194010Z
LAST-MODIFIED:20260420T194010Z
UID:10005981-1800201600-1800216000@woodruffplacebaptist.org
SUMMARY:Urban Hope Basketball
DESCRIPTION:
URL:https://woodruffplacebaptist.org/event/urban-hope-basketball/2027-01-17/
END:VEVENT
BEGIN:VEVENT
DTSTART;TZID=America/Indiana/Indianapolis:20270124T160000
DTEND;TZID=America/Indiana/Indianapolis:20270124T200000
DTSTAMP:20260420T223204
CREATED:20260420T194010Z
LAST-MODIFIED:20260420T194010Z
UID:10005982-1800806400-1800820800@woodruffplacebaptist.org
SUMMARY:Urban Hope Basketball
DESCRIPTION:
URL:https://woodruffplacebaptist.org/event/urban-hope-basketball/2027-01-24/
END:VEVENT
BEGIN:VEVENT
DTSTART;TZID=America/Indiana/Indianapolis:20270131T160000
DTEND;TZID=America/Indiana/Indianapolis:20270131T200000
DTSTAMP:20260420T223204
CREATED:20260420T194010Z
LAST-MODIFIED:20260420T194010Z
UID:10005983-1801411200-1801425600@woodruffplacebaptist.org
SUMMARY:Urban Hope Basketball
DESCRIPTION:
URL:https://woodruffplacebaptist.org/event/urban-hope-basketball/2027-01-31/
END:VEVENT
BEGIN:VEVENT
DTSTART;TZID=America/Indiana/Indianapolis:20270207T160000
DTEND;TZID=America/Indiana/Indianapolis:20270207T200000
DTSTAMP:20260420T223204
CREATED:20260420T194010Z
LAST-MODIFIED:20260420T194010Z
UID:10005984-1802016000-1802030400@woodruffplacebaptist.org
SUMMARY:Urban Hope Basketball
DESCRIPTION:
URL:https://woodruffplacebaptist.org/event/urban-hope-basketball/2027-02-07/
END:VEVENT
END:VCALENDAR