BEGIN:VCALENDAR
VERSION:2.0
PRODID:-//Woodruff Place Baptist Church - ECPv6.15.18//NONSGML v1.0//EN
CALSCALE:GREGORIAN
METHOD:PUBLISH
X-ORIGINAL-URL:https://woodruffplacebaptist.org
X-WR-CALDESC:Events for Woodruff Place Baptist Church
REFRESH-INTERVAL;VALUE=DURATION:PT1H
X-Robots-Tag:noindex
X-PUBLISHED-TTL:PT1H
BEGIN:VTIMEZONE
TZID:America/Indiana/Indianapolis
BEGIN:DAYLIGHT
TZOFFSETFROM:-0500
TZOFFSETTO:-0400
TZNAME:EDT
DTSTART:20260308T070000
END:DAYLIGHT
BEGIN:STANDARD
TZOFFSETFROM:-0400
TZOFFSETTO:-0500
TZNAME:EST
DTSTART:20261101T060000
END:STANDARD
BEGIN:DAYLIGHT
TZOFFSETFROM:-0500
TZOFFSETTO:-0400
TZNAME:EDT
DTSTART:20270314T070000
END:DAYLIGHT
BEGIN:STANDARD
TZOFFSETFROM:-0400
TZOFFSETTO:-0500
TZNAME:EST
DTSTART:20271107T060000
END:STANDARD
BEGIN:DAYLIGHT
TZOFFSETFROM:-0500
TZOFFSETTO:-0400
TZNAME:EDT
DTSTART:20280312T070000
END:DAYLIGHT
BEGIN:STANDARD
TZOFFSETFROM:-0400
TZOFFSETTO:-0500
TZNAME:EST
DTSTART:20281105T060000
END:STANDARD
END:VTIMEZONE
BEGIN:VEVENT
DTSTART;TZID=America/Indiana/Indianapolis:20270811T190000
DTEND;TZID=America/Indiana/Indianapolis:20270811T210000
DTSTAMP:20260422T061042
CREATED:20251110T164117Z
LAST-MODIFIED:20251110T164117Z
UID:10003936-1818010800-1818018000@woodruffplacebaptist.org
SUMMARY:N.A
DESCRIPTION:Located Downstairs
URL:https://woodruffplacebaptist.org/event/n-a-2/2027-08-11/
LOCATION:Woodruff Place Church\, 1739 E Michigan St\, Indianapolis\, Indiana\, 46201\, United States
CATEGORIES:Wednesday
ORGANIZER;CN="Amy Ilherd":MAILTO:amy.ilherd@yahoo.com
END:VEVENT
BEGIN:VEVENT
DTSTART;TZID=America/Indiana/Indianapolis:20270813T193000
DTEND;TZID=America/Indiana/Indianapolis:20270813T204500
DTSTAMP:20260422T061042
CREATED:20251110T164259Z
LAST-MODIFIED:20251110T164259Z
UID:10004198-1818185400-1818189900@woodruffplacebaptist.org
SUMMARY:N.A
DESCRIPTION:Located Downstairs
URL:https://woodruffplacebaptist.org/event/n-a-3/2027-08-13/
LOCATION:Woodruff Place Church\, 1739 E Michigan St\, Indianapolis\, Indiana\, 46201\, United States
CATEGORIES:Friday
ORGANIZER;CN="Amy Ilherd":MAILTO:amy.ilherd@yahoo.com
END:VEVENT
BEGIN:VEVENT
DTSTART;TZID=America/Indiana/Indianapolis:20270817T193000
DTEND;TZID=America/Indiana/Indianapolis:20270817T210000
DTSTAMP:20260422T061042
CREATED:20251110T163930Z
LAST-MODIFIED:20251110T163930Z
UID:10003675-1818531000-1818536400@woodruffplacebaptist.org
SUMMARY:N.A
DESCRIPTION:Located Downstairs
URL:https://woodruffplacebaptist.org/event/n-a/2027-08-17/
LOCATION:Woodruff Place Church\, 1739 E Michigan St\, Indianapolis\, Indiana\, 46201\, United States
CATEGORIES:Tuesday
ORGANIZER;CN="Amy Ilherd":MAILTO:amy.ilherd@yahoo.com
END:VEVENT
BEGIN:VEVENT
DTSTART;TZID=America/Indiana/Indianapolis:20270818T190000
DTEND;TZID=America/Indiana/Indianapolis:20270818T210000
DTSTAMP:20260422T061042
CREATED:20251110T164117Z
LAST-MODIFIED:20251110T164117Z
UID:10003937-1818615600-1818622800@woodruffplacebaptist.org
SUMMARY:N.A
DESCRIPTION:Located Downstairs
URL:https://woodruffplacebaptist.org/event/n-a-2/2027-08-18/
LOCATION:Woodruff Place Church\, 1739 E Michigan St\, Indianapolis\, Indiana\, 46201\, United States
CATEGORIES:Wednesday
ORGANIZER;CN="Amy Ilherd":MAILTO:amy.ilherd@yahoo.com
END:VEVENT
BEGIN:VEVENT
DTSTART;TZID=America/Indiana/Indianapolis:20270820T193000
DTEND;TZID=America/Indiana/Indianapolis:20270820T204500
DTSTAMP:20260422T061042
CREATED:20251110T164259Z
LAST-MODIFIED:20251110T164259Z
UID:10004199-1818790200-1818794700@woodruffplacebaptist.org
SUMMARY:N.A
DESCRIPTION:Located Downstairs
URL:https://woodruffplacebaptist.org/event/n-a-3/2027-08-20/
LOCATION:Woodruff Place Church\, 1739 E Michigan St\, Indianapolis\, Indiana\, 46201\, United States
CATEGORIES:Friday
ORGANIZER;CN="Amy Ilherd":MAILTO:amy.ilherd@yahoo.com
END:VEVENT
BEGIN:VEVENT
DTSTART;TZID=America/Indiana/Indianapolis:20270824T193000
DTEND;TZID=America/Indiana/Indianapolis:20270824T210000
DTSTAMP:20260422T061042
CREATED:20251110T163930Z
LAST-MODIFIED:20251110T163930Z
UID:10003676-1819135800-1819141200@woodruffplacebaptist.org
SUMMARY:N.A
DESCRIPTION:Located Downstairs
URL:https://woodruffplacebaptist.org/event/n-a/2027-08-24/
LOCATION:Woodruff Place Church\, 1739 E Michigan St\, Indianapolis\, Indiana\, 46201\, United States
CATEGORIES:Tuesday
ORGANIZER;CN="Amy Ilherd":MAILTO:amy.ilherd@yahoo.com
END:VEVENT
BEGIN:VEVENT
DTSTART;TZID=America/Indiana/Indianapolis:20270825T190000
DTEND;TZID=America/Indiana/Indianapolis:20270825T210000
DTSTAMP:20260422T061042
CREATED:20251110T164117Z
LAST-MODIFIED:20251110T164117Z
UID:10003938-1819220400-1819227600@woodruffplacebaptist.org
SUMMARY:N.A
DESCRIPTION:Located Downstairs
URL:https://woodruffplacebaptist.org/event/n-a-2/2027-08-25/
LOCATION:Woodruff Place Church\, 1739 E Michigan St\, Indianapolis\, Indiana\, 46201\, United States
CATEGORIES:Wednesday
ORGANIZER;CN="Amy Ilherd":MAILTO:amy.ilherd@yahoo.com
END:VEVENT
BEGIN:VEVENT
DTSTART;TZID=America/Indiana/Indianapolis:20270827T193000
DTEND;TZID=America/Indiana/Indianapolis:20270827T204500
DTSTAMP:20260422T061042
CREATED:20251110T164259Z
LAST-MODIFIED:20251110T164259Z
UID:10004200-1819395000-1819399500@woodruffplacebaptist.org
SUMMARY:N.A
DESCRIPTION:Located Downstairs
URL:https://woodruffplacebaptist.org/event/n-a-3/2027-08-27/
LOCATION:Woodruff Place Church\, 1739 E Michigan St\, Indianapolis\, Indiana\, 46201\, United States
CATEGORIES:Friday
ORGANIZER;CN="Amy Ilherd":MAILTO:amy.ilherd@yahoo.com
END:VEVENT
BEGIN:VEVENT
DTSTART;TZID=America/Indiana/Indianapolis:20270831T193000
DTEND;TZID=America/Indiana/Indianapolis:20270831T210000
DTSTAMP:20260422T061042
CREATED:20251110T163930Z
LAST-MODIFIED:20251110T163930Z
UID:10003677-1819740600-1819746000@woodruffplacebaptist.org
SUMMARY:N.A
DESCRIPTION:Located Downstairs
URL:https://woodruffplacebaptist.org/event/n-a/2027-08-31/
LOCATION:Woodruff Place Church\, 1739 E Michigan St\, Indianapolis\, Indiana\, 46201\, United States
CATEGORIES:Tuesday
ORGANIZER;CN="Amy Ilherd":MAILTO:amy.ilherd@yahoo.com
END:VEVENT
BEGIN:VEVENT
DTSTART;TZID=America/Indiana/Indianapolis:20270901T190000
DTEND;TZID=America/Indiana/Indianapolis:20270901T210000
DTSTAMP:20260422T061042
CREATED:20251110T164117Z
LAST-MODIFIED:20251110T164117Z
UID:10003939-1819825200-1819832400@woodruffplacebaptist.org
SUMMARY:N.A
DESCRIPTION:Located Downstairs
URL:https://woodruffplacebaptist.org/event/n-a-2/2027-09-01/
LOCATION:Woodruff Place Church\, 1739 E Michigan St\, Indianapolis\, Indiana\, 46201\, United States
CATEGORIES:Wednesday
ORGANIZER;CN="Amy Ilherd":MAILTO:amy.ilherd@yahoo.com
END:VEVENT
BEGIN:VEVENT
DTSTART;TZID=America/Indiana/Indianapolis:20270903T193000
DTEND;TZID=America/Indiana/Indianapolis:20270903T204500
DTSTAMP:20260422T061042
CREATED:20251110T164259Z
LAST-MODIFIED:20251110T164259Z
UID:10004201-1819999800-1820004300@woodruffplacebaptist.org
SUMMARY:N.A
DESCRIPTION:Located Downstairs
URL:https://woodruffplacebaptist.org/event/n-a-3/2027-09-03/
LOCATION:Woodruff Place Church\, 1739 E Michigan St\, Indianapolis\, Indiana\, 46201\, United States
CATEGORIES:Friday
ORGANIZER;CN="Amy Ilherd":MAILTO:amy.ilherd@yahoo.com
END:VEVENT
BEGIN:VEVENT
DTSTART;TZID=America/Indiana/Indianapolis:20270907T193000
DTEND;TZID=America/Indiana/Indianapolis:20270907T210000
DTSTAMP:20260422T061042
CREATED:20251110T163930Z
LAST-MODIFIED:20251110T163930Z
UID:10003678-1820345400-1820350800@woodruffplacebaptist.org
SUMMARY:N.A
DESCRIPTION:Located Downstairs
URL:https://woodruffplacebaptist.org/event/n-a/2027-09-07/
LOCATION:Woodruff Place Church\, 1739 E Michigan St\, Indianapolis\, Indiana\, 46201\, United States
CATEGORIES:Tuesday
ORGANIZER;CN="Amy Ilherd":MAILTO:amy.ilherd@yahoo.com
END:VEVENT
BEGIN:VEVENT
DTSTART;TZID=America/Indiana/Indianapolis:20270908T190000
DTEND;TZID=America/Indiana/Indianapolis:20270908T210000
DTSTAMP:20260422T061043
CREATED:20251110T164117Z
LAST-MODIFIED:20251110T164117Z
UID:10003940-1820430000-1820437200@woodruffplacebaptist.org
SUMMARY:N.A
DESCRIPTION:Located Downstairs
URL:https://woodruffplacebaptist.org/event/n-a-2/2027-09-08/
LOCATION:Woodruff Place Church\, 1739 E Michigan St\, Indianapolis\, Indiana\, 46201\, United States
CATEGORIES:Wednesday
ORGANIZER;CN="Amy Ilherd":MAILTO:amy.ilherd@yahoo.com
END:VEVENT
BEGIN:VEVENT
DTSTART;TZID=America/Indiana/Indianapolis:20270910T193000
DTEND;TZID=America/Indiana/Indianapolis:20270910T204500
DTSTAMP:20260422T061043
CREATED:20251110T164259Z
LAST-MODIFIED:20251110T164259Z
UID:10004202-1820604600-1820609100@woodruffplacebaptist.org
SUMMARY:N.A
DESCRIPTION:Located Downstairs
URL:https://woodruffplacebaptist.org/event/n-a-3/2027-09-10/
LOCATION:Woodruff Place Church\, 1739 E Michigan St\, Indianapolis\, Indiana\, 46201\, United States
CATEGORIES:Friday
ORGANIZER;CN="Amy Ilherd":MAILTO:amy.ilherd@yahoo.com
END:VEVENT
BEGIN:VEVENT
DTSTART;TZID=America/Indiana/Indianapolis:20270914T193000
DTEND;TZID=America/Indiana/Indianapolis:20270914T210000
DTSTAMP:20260422T061043
CREATED:20251110T163930Z
LAST-MODIFIED:20251110T163930Z
UID:10003679-1820950200-1820955600@woodruffplacebaptist.org
SUMMARY:N.A
DESCRIPTION:Located Downstairs
URL:https://woodruffplacebaptist.org/event/n-a/2027-09-14/
LOCATION:Woodruff Place Church\, 1739 E Michigan St\, Indianapolis\, Indiana\, 46201\, United States
CATEGORIES:Tuesday
ORGANIZER;CN="Amy Ilherd":MAILTO:amy.ilherd@yahoo.com
END:VEVENT
BEGIN:VEVENT
DTSTART;TZID=America/Indiana/Indianapolis:20270915T190000
DTEND;TZID=America/Indiana/Indianapolis:20270915T210000
DTSTAMP:20260422T061043
CREATED:20251110T164117Z
LAST-MODIFIED:20251110T164117Z
UID:10003941-1821034800-1821042000@woodruffplacebaptist.org
SUMMARY:N.A
DESCRIPTION:Located Downstairs
URL:https://woodruffplacebaptist.org/event/n-a-2/2027-09-15/
LOCATION:Woodruff Place Church\, 1739 E Michigan St\, Indianapolis\, Indiana\, 46201\, United States
CATEGORIES:Wednesday
ORGANIZER;CN="Amy Ilherd":MAILTO:amy.ilherd@yahoo.com
END:VEVENT
BEGIN:VEVENT
DTSTART;TZID=America/Indiana/Indianapolis:20270917T193000
DTEND;TZID=America/Indiana/Indianapolis:20270917T204500
DTSTAMP:20260422T061043
CREATED:20251110T164259Z
LAST-MODIFIED:20251110T164259Z
UID:10004203-1821209400-1821213900@woodruffplacebaptist.org
SUMMARY:N.A
DESCRIPTION:Located Downstairs
URL:https://woodruffplacebaptist.org/event/n-a-3/2027-09-17/
LOCATION:Woodruff Place Church\, 1739 E Michigan St\, Indianapolis\, Indiana\, 46201\, United States
CATEGORIES:Friday
ORGANIZER;CN="Amy Ilherd":MAILTO:amy.ilherd@yahoo.com
END:VEVENT
BEGIN:VEVENT
DTSTART;TZID=America/Indiana/Indianapolis:20270921T193000
DTEND;TZID=America/Indiana/Indianapolis:20270921T210000
DTSTAMP:20260422T061043
CREATED:20251110T163930Z
LAST-MODIFIED:20251110T163930Z
UID:10003680-1821555000-1821560400@woodruffplacebaptist.org
SUMMARY:N.A
DESCRIPTION:Located Downstairs
URL:https://woodruffplacebaptist.org/event/n-a/2027-09-21/
LOCATION:Woodruff Place Church\, 1739 E Michigan St\, Indianapolis\, Indiana\, 46201\, United States
CATEGORIES:Tuesday
ORGANIZER;CN="Amy Ilherd":MAILTO:amy.ilherd@yahoo.com
END:VEVENT
BEGIN:VEVENT
DTSTART;TZID=America/Indiana/Indianapolis:20270922T190000
DTEND;TZID=America/Indiana/Indianapolis:20270922T210000
DTSTAMP:20260422T061043
CREATED:20251110T164117Z
LAST-MODIFIED:20251110T164117Z
UID:10003942-1821639600-1821646800@woodruffplacebaptist.org
SUMMARY:N.A
DESCRIPTION:Located Downstairs
URL:https://woodruffplacebaptist.org/event/n-a-2/2027-09-22/
LOCATION:Woodruff Place Church\, 1739 E Michigan St\, Indianapolis\, Indiana\, 46201\, United States
CATEGORIES:Wednesday
ORGANIZER;CN="Amy Ilherd":MAILTO:amy.ilherd@yahoo.com
END:VEVENT
BEGIN:VEVENT
DTSTART;TZID=America/Indiana/Indianapolis:20270924T193000
DTEND;TZID=America/Indiana/Indianapolis:20270924T204500
DTSTAMP:20260422T061043
CREATED:20251110T164259Z
LAST-MODIFIED:20251110T164259Z
UID:10004204-1821814200-1821818700@woodruffplacebaptist.org
SUMMARY:N.A
DESCRIPTION:Located Downstairs
URL:https://woodruffplacebaptist.org/event/n-a-3/2027-09-24/
LOCATION:Woodruff Place Church\, 1739 E Michigan St\, Indianapolis\, Indiana\, 46201\, United States
CATEGORIES:Friday
ORGANIZER;CN="Amy Ilherd":MAILTO:amy.ilherd@yahoo.com
END:VEVENT
BEGIN:VEVENT
DTSTART;TZID=America/Indiana/Indianapolis:20270928T193000
DTEND;TZID=America/Indiana/Indianapolis:20270928T210000
DTSTAMP:20260422T061043
CREATED:20251110T163930Z
LAST-MODIFIED:20251110T163930Z
UID:10003681-1822159800-1822165200@woodruffplacebaptist.org
SUMMARY:N.A
DESCRIPTION:Located Downstairs
URL:https://woodruffplacebaptist.org/event/n-a/2027-09-28/
LOCATION:Woodruff Place Church\, 1739 E Michigan St\, Indianapolis\, Indiana\, 46201\, United States
CATEGORIES:Tuesday
ORGANIZER;CN="Amy Ilherd":MAILTO:amy.ilherd@yahoo.com
END:VEVENT
BEGIN:VEVENT
DTSTART;TZID=America/Indiana/Indianapolis:20270929T190000
DTEND;TZID=America/Indiana/Indianapolis:20270929T210000
DTSTAMP:20260422T061043
CREATED:20251110T164117Z
LAST-MODIFIED:20251110T164117Z
UID:10003943-1822244400-1822251600@woodruffplacebaptist.org
SUMMARY:N.A
DESCRIPTION:Located Downstairs
URL:https://woodruffplacebaptist.org/event/n-a-2/2027-09-29/
LOCATION:Woodruff Place Church\, 1739 E Michigan St\, Indianapolis\, Indiana\, 46201\, United States
CATEGORIES:Wednesday
ORGANIZER;CN="Amy Ilherd":MAILTO:amy.ilherd@yahoo.com
END:VEVENT
BEGIN:VEVENT
DTSTART;TZID=America/Indiana/Indianapolis:20271001T193000
DTEND;TZID=America/Indiana/Indianapolis:20271001T204500
DTSTAMP:20260422T061043
CREATED:20251110T164259Z
LAST-MODIFIED:20251110T164259Z
UID:10004205-1822419000-1822423500@woodruffplacebaptist.org
SUMMARY:N.A
DESCRIPTION:Located Downstairs
URL:https://woodruffplacebaptist.org/event/n-a-3/2027-10-01/
LOCATION:Woodruff Place Church\, 1739 E Michigan St\, Indianapolis\, Indiana\, 46201\, United States
CATEGORIES:Friday
ORGANIZER;CN="Amy Ilherd":MAILTO:amy.ilherd@yahoo.com
END:VEVENT
BEGIN:VEVENT
DTSTART;TZID=America/Indiana/Indianapolis:20271005T193000
DTEND;TZID=America/Indiana/Indianapolis:20271005T210000
DTSTAMP:20260422T061043
CREATED:20251110T163930Z
LAST-MODIFIED:20251110T163930Z
UID:10003682-1822764600-1822770000@woodruffplacebaptist.org
SUMMARY:N.A
DESCRIPTION:Located Downstairs
URL:https://woodruffplacebaptist.org/event/n-a/2027-10-05/
LOCATION:Woodruff Place Church\, 1739 E Michigan St\, Indianapolis\, Indiana\, 46201\, United States
CATEGORIES:Tuesday
ORGANIZER;CN="Amy Ilherd":MAILTO:amy.ilherd@yahoo.com
END:VEVENT
BEGIN:VEVENT
DTSTART;TZID=America/Indiana/Indianapolis:20271006T190000
DTEND;TZID=America/Indiana/Indianapolis:20271006T210000
DTSTAMP:20260422T061043
CREATED:20251110T164117Z
LAST-MODIFIED:20251110T164117Z
UID:10003944-1822849200-1822856400@woodruffplacebaptist.org
SUMMARY:N.A
DESCRIPTION:Located Downstairs
URL:https://woodruffplacebaptist.org/event/n-a-2/2027-10-06/
LOCATION:Woodruff Place Church\, 1739 E Michigan St\, Indianapolis\, Indiana\, 46201\, United States
CATEGORIES:Wednesday
ORGANIZER;CN="Amy Ilherd":MAILTO:amy.ilherd@yahoo.com
END:VEVENT
BEGIN:VEVENT
DTSTART;TZID=America/Indiana/Indianapolis:20271008T193000
DTEND;TZID=America/Indiana/Indianapolis:20271008T204500
DTSTAMP:20260422T061043
CREATED:20251110T164259Z
LAST-MODIFIED:20251110T164259Z
UID:10004206-1823023800-1823028300@woodruffplacebaptist.org
SUMMARY:N.A
DESCRIPTION:Located Downstairs
URL:https://woodruffplacebaptist.org/event/n-a-3/2027-10-08/
LOCATION:Woodruff Place Church\, 1739 E Michigan St\, Indianapolis\, Indiana\, 46201\, United States
CATEGORIES:Friday
ORGANIZER;CN="Amy Ilherd":MAILTO:amy.ilherd@yahoo.com
END:VEVENT
BEGIN:VEVENT
DTSTART;TZID=America/Indiana/Indianapolis:20271012T193000
DTEND;TZID=America/Indiana/Indianapolis:20271012T210000
DTSTAMP:20260422T061043
CREATED:20251110T163930Z
LAST-MODIFIED:20251110T163930Z
UID:10003683-1823369400-1823374800@woodruffplacebaptist.org
SUMMARY:N.A
DESCRIPTION:Located Downstairs
URL:https://woodruffplacebaptist.org/event/n-a/2027-10-12/
LOCATION:Woodruff Place Church\, 1739 E Michigan St\, Indianapolis\, Indiana\, 46201\, United States
CATEGORIES:Tuesday
ORGANIZER;CN="Amy Ilherd":MAILTO:amy.ilherd@yahoo.com
END:VEVENT
BEGIN:VEVENT
DTSTART;TZID=America/Indiana/Indianapolis:20271013T190000
DTEND;TZID=America/Indiana/Indianapolis:20271013T210000
DTSTAMP:20260422T061043
CREATED:20251110T164117Z
LAST-MODIFIED:20251110T164117Z
UID:10003945-1823454000-1823461200@woodruffplacebaptist.org
SUMMARY:N.A
DESCRIPTION:Located Downstairs
URL:https://woodruffplacebaptist.org/event/n-a-2/2027-10-13/
LOCATION:Woodruff Place Church\, 1739 E Michigan St\, Indianapolis\, Indiana\, 46201\, United States
CATEGORIES:Wednesday
ORGANIZER;CN="Amy Ilherd":MAILTO:amy.ilherd@yahoo.com
END:VEVENT
BEGIN:VEVENT
DTSTART;TZID=America/Indiana/Indianapolis:20271015T193000
DTEND;TZID=America/Indiana/Indianapolis:20271015T204500
DTSTAMP:20260422T061043
CREATED:20251110T164259Z
LAST-MODIFIED:20251110T164259Z
UID:10004207-1823628600-1823633100@woodruffplacebaptist.org
SUMMARY:N.A
DESCRIPTION:Located Downstairs
URL:https://woodruffplacebaptist.org/event/n-a-3/2027-10-15/
LOCATION:Woodruff Place Church\, 1739 E Michigan St\, Indianapolis\, Indiana\, 46201\, United States
CATEGORIES:Friday
ORGANIZER;CN="Amy Ilherd":MAILTO:amy.ilherd@yahoo.com
END:VEVENT
BEGIN:VEVENT
DTSTART;TZID=America/Indiana/Indianapolis:20271019T193000
DTEND;TZID=America/Indiana/Indianapolis:20271019T210000
DTSTAMP:20260422T061043
CREATED:20251110T163930Z
LAST-MODIFIED:20251110T163930Z
UID:10003684-1823974200-1823979600@woodruffplacebaptist.org
SUMMARY:N.A
DESCRIPTION:Located Downstairs
URL:https://woodruffplacebaptist.org/event/n-a/2027-10-19/
LOCATION:Woodruff Place Church\, 1739 E Michigan St\, Indianapolis\, Indiana\, 46201\, United States
CATEGORIES:Tuesday
ORGANIZER;CN="Amy Ilherd":MAILTO:amy.ilherd@yahoo.com
END:VEVENT
END:VCALENDAR