BEGIN:VCALENDAR
VERSION:2.0
PRODID:-//Woodruff Place Baptist Church - ECPv6.15.18//NONSGML v1.0//EN
CALSCALE:GREGORIAN
METHOD:PUBLISH
X-WR-CALNAME:Woodruff Place Baptist Church
X-ORIGINAL-URL:https://woodruffplacebaptist.org
X-WR-CALDESC:Events for Woodruff Place Baptist Church
REFRESH-INTERVAL;VALUE=DURATION:PT1H
X-Robots-Tag:noindex
X-PUBLISHED-TTL:PT1H
BEGIN:VTIMEZONE
TZID:America/Indiana/Indianapolis
BEGIN:DAYLIGHT
TZOFFSETFROM:-0500
TZOFFSETTO:-0400
TZNAME:EDT
DTSTART:20270314T070000
END:DAYLIGHT
BEGIN:STANDARD
TZOFFSETFROM:-0400
TZOFFSETTO:-0500
TZNAME:EST
DTSTART:20271107T060000
END:STANDARD
BEGIN:DAYLIGHT
TZOFFSETFROM:-0500
TZOFFSETTO:-0400
TZNAME:EDT
DTSTART:20280312T070000
END:DAYLIGHT
BEGIN:STANDARD
TZOFFSETFROM:-0400
TZOFFSETTO:-0500
TZNAME:EST
DTSTART:20281105T060000
END:STANDARD
BEGIN:DAYLIGHT
TZOFFSETFROM:-0500
TZOFFSETTO:-0400
TZNAME:EDT
DTSTART:20290311T070000
END:DAYLIGHT
BEGIN:STANDARD
TZOFFSETFROM:-0400
TZOFFSETTO:-0500
TZNAME:EST
DTSTART:20291104T060000
END:STANDARD
END:VTIMEZONE
BEGIN:VEVENT
DTSTART;TZID=America/Indiana/Indianapolis:20280403T170000
DTEND;TZID=America/Indiana/Indianapolis:20280403T190000
DTSTAMP:20260421T003320
CREATED:20251110T135227Z
LAST-MODIFIED:20251110T135227Z
UID:10003125-1838394000-1838401200@woodruffplacebaptist.org
SUMMARY:Closed - Blue Tiger Group
DESCRIPTION:For questions on involvement in this time\, please contact Mike Tandy.
URL:https://woodruffplacebaptist.org/event/closed-blue-tiger-group/2028-04-03/
LOCATION:Woodruff Place Church\, 1739 E Michigan St\, Indianapolis\, Indiana\, 46201\, United States
CATEGORIES:Monday
ORGANIZER;CN="Mike Tandy":MAILTO:Tandy90@gmail.com
END:VEVENT
BEGIN:VEVENT
DTSTART;TZID=America/Indiana/Indianapolis:20280404T170000
DTEND;TZID=America/Indiana/Indianapolis:20280404T180000
DTSTAMP:20260421T003320
CREATED:20260413T150049Z
LAST-MODIFIED:20260413T150820Z
UID:10001249-1838480400-1838484000@woodruffplacebaptist.org
SUMMARY:Futsal Clinic Ages 5 - 12
DESCRIPTION:Join Coach Junior for free Futsal Training\, every Tuesday evening from 5pm – 6pm!
URL:https://woodruffplacebaptist.org/event/futsal-clinic-ages-5-12-4-2/2028-04-04/
LOCATION:Woodruff Place Church\, 1739 E Michigan St\, Indianapolis\, Indiana\, 46201\, United States
CATEGORIES:Tuesday
ATTACH;FMTTYPE=image/jpeg:https://woodruffplacebaptist.org/wp-content/uploads/2025/11/Revised-Futsol-Flyer-5-7-English.jpg
END:VEVENT
BEGIN:VEVENT
DTSTART;TZID=America/Indiana/Indianapolis:20280404T180000
DTEND;TZID=America/Indiana/Indianapolis:20280404T190000
DTSTAMP:20260421T003320
CREATED:20260413T150509Z
LAST-MODIFIED:20260413T150509Z
UID:10000992-1838484000-1838487600@woodruffplacebaptist.org
SUMMARY:Futsal Clinic Ages 13 & up
DESCRIPTION:Join Coach Junior for free Futsal Training\, every Tuesday evening from 6pm – 7pm!
URL:https://woodruffplacebaptist.org/event/futsal-clinic-ages-13-up-4-2/2028-04-04/
LOCATION:Woodruff Place Church\, 1739 E Michigan St\, Indianapolis\, Indiana\, 46201\, United States
CATEGORIES:Tuesday
ATTACH;FMTTYPE=image/jpeg:https://woodruffplacebaptist.org/wp-content/uploads/2025/11/Revised-Futsol-Flyer-5-7-English.jpg
END:VEVENT
BEGIN:VEVENT
DTSTART;TZID=America/Indiana/Indianapolis:20280405T170000
DTEND;TZID=America/Indiana/Indianapolis:20280405T190000
DTSTAMP:20260421T003320
CREATED:20251110T135440Z
LAST-MODIFIED:20251110T135440Z
UID:10003385-1838566800-1838574000@woodruffplacebaptist.org
SUMMARY:Closed - Blue Tiger Group
DESCRIPTION:For questions on involvement in this time\, please contact Mike Tandy.
URL:https://woodruffplacebaptist.org/event/closed-blue-tiger-group-2/2028-04-05/
LOCATION:Woodruff Place Church\, 1739 E Michigan St\, Indianapolis\, Indiana\, 46201\, United States
CATEGORIES:Wednesday
ORGANIZER;CN="Mike Tandy":MAILTO:Tandy90@gmail.com
END:VEVENT
BEGIN:VEVENT
DTSTART;TZID=America/Indiana/Indianapolis:20280410T170000
DTEND;TZID=America/Indiana/Indianapolis:20280410T190000
DTSTAMP:20260421T003320
CREATED:20251110T135227Z
LAST-MODIFIED:20251110T135227Z
UID:10003126-1838998800-1839006000@woodruffplacebaptist.org
SUMMARY:Closed - Blue Tiger Group
DESCRIPTION:For questions on involvement in this time\, please contact Mike Tandy.
URL:https://woodruffplacebaptist.org/event/closed-blue-tiger-group/2028-04-10/
LOCATION:Woodruff Place Church\, 1739 E Michigan St\, Indianapolis\, Indiana\, 46201\, United States
CATEGORIES:Monday
ORGANIZER;CN="Mike Tandy":MAILTO:Tandy90@gmail.com
END:VEVENT
BEGIN:VEVENT
DTSTART;TZID=America/Indiana/Indianapolis:20280411T170000
DTEND;TZID=America/Indiana/Indianapolis:20280411T180000
DTSTAMP:20260421T003320
CREATED:20260413T150049Z
LAST-MODIFIED:20260413T150820Z
UID:10001250-1839085200-1839088800@woodruffplacebaptist.org
SUMMARY:Futsal Clinic Ages 5 - 12
DESCRIPTION:Join Coach Junior for free Futsal Training\, every Tuesday evening from 5pm – 6pm!
URL:https://woodruffplacebaptist.org/event/futsal-clinic-ages-5-12-4-2/2028-04-11/
LOCATION:Woodruff Place Church\, 1739 E Michigan St\, Indianapolis\, Indiana\, 46201\, United States
CATEGORIES:Tuesday
ATTACH;FMTTYPE=image/jpeg:https://woodruffplacebaptist.org/wp-content/uploads/2025/11/Revised-Futsol-Flyer-5-7-English.jpg
END:VEVENT
BEGIN:VEVENT
DTSTART;TZID=America/Indiana/Indianapolis:20280411T180000
DTEND;TZID=America/Indiana/Indianapolis:20280411T190000
DTSTAMP:20260421T003320
CREATED:20260413T150509Z
LAST-MODIFIED:20260413T150509Z
UID:10000993-1839088800-1839092400@woodruffplacebaptist.org
SUMMARY:Futsal Clinic Ages 13 & up
DESCRIPTION:Join Coach Junior for free Futsal Training\, every Tuesday evening from 6pm – 7pm!
URL:https://woodruffplacebaptist.org/event/futsal-clinic-ages-13-up-4-2/2028-04-11/
LOCATION:Woodruff Place Church\, 1739 E Michigan St\, Indianapolis\, Indiana\, 46201\, United States
CATEGORIES:Tuesday
ATTACH;FMTTYPE=image/jpeg:https://woodruffplacebaptist.org/wp-content/uploads/2025/11/Revised-Futsol-Flyer-5-7-English.jpg
END:VEVENT
BEGIN:VEVENT
DTSTART;TZID=America/Indiana/Indianapolis:20280412T170000
DTEND;TZID=America/Indiana/Indianapolis:20280412T190000
DTSTAMP:20260421T003320
CREATED:20251110T135440Z
LAST-MODIFIED:20251110T135440Z
UID:10003386-1839171600-1839178800@woodruffplacebaptist.org
SUMMARY:Closed - Blue Tiger Group
DESCRIPTION:For questions on involvement in this time\, please contact Mike Tandy.
URL:https://woodruffplacebaptist.org/event/closed-blue-tiger-group-2/2028-04-12/
LOCATION:Woodruff Place Church\, 1739 E Michigan St\, Indianapolis\, Indiana\, 46201\, United States
CATEGORIES:Wednesday
ORGANIZER;CN="Mike Tandy":MAILTO:Tandy90@gmail.com
END:VEVENT
BEGIN:VEVENT
DTSTART;TZID=America/Indiana/Indianapolis:20280417T170000
DTEND;TZID=America/Indiana/Indianapolis:20280417T190000
DTSTAMP:20260421T003320
CREATED:20251110T135227Z
LAST-MODIFIED:20251110T135227Z
UID:10003127-1839603600-1839610800@woodruffplacebaptist.org
SUMMARY:Closed - Blue Tiger Group
DESCRIPTION:For questions on involvement in this time\, please contact Mike Tandy.
URL:https://woodruffplacebaptist.org/event/closed-blue-tiger-group/2028-04-17/
LOCATION:Woodruff Place Church\, 1739 E Michigan St\, Indianapolis\, Indiana\, 46201\, United States
CATEGORIES:Monday
ORGANIZER;CN="Mike Tandy":MAILTO:Tandy90@gmail.com
END:VEVENT
BEGIN:VEVENT
DTSTART;TZID=America/Indiana/Indianapolis:20280418T170000
DTEND;TZID=America/Indiana/Indianapolis:20280418T180000
DTSTAMP:20260421T003320
CREATED:20260413T150049Z
LAST-MODIFIED:20260413T150820Z
UID:10001251-1839690000-1839693600@woodruffplacebaptist.org
SUMMARY:Futsal Clinic Ages 5 - 12
DESCRIPTION:Join Coach Junior for free Futsal Training\, every Tuesday evening from 5pm – 6pm!
URL:https://woodruffplacebaptist.org/event/futsal-clinic-ages-5-12-4-2/2028-04-18/
LOCATION:Woodruff Place Church\, 1739 E Michigan St\, Indianapolis\, Indiana\, 46201\, United States
CATEGORIES:Tuesday
ATTACH;FMTTYPE=image/jpeg:https://woodruffplacebaptist.org/wp-content/uploads/2025/11/Revised-Futsol-Flyer-5-7-English.jpg
END:VEVENT
BEGIN:VEVENT
DTSTART;TZID=America/Indiana/Indianapolis:20280418T180000
DTEND;TZID=America/Indiana/Indianapolis:20280418T190000
DTSTAMP:20260421T003320
CREATED:20260413T150509Z
LAST-MODIFIED:20260413T150509Z
UID:10000994-1839693600-1839697200@woodruffplacebaptist.org
SUMMARY:Futsal Clinic Ages 13 & up
DESCRIPTION:Join Coach Junior for free Futsal Training\, every Tuesday evening from 6pm – 7pm!
URL:https://woodruffplacebaptist.org/event/futsal-clinic-ages-13-up-4-2/2028-04-18/
LOCATION:Woodruff Place Church\, 1739 E Michigan St\, Indianapolis\, Indiana\, 46201\, United States
CATEGORIES:Tuesday
ATTACH;FMTTYPE=image/jpeg:https://woodruffplacebaptist.org/wp-content/uploads/2025/11/Revised-Futsol-Flyer-5-7-English.jpg
END:VEVENT
BEGIN:VEVENT
DTSTART;TZID=America/Indiana/Indianapolis:20280419T170000
DTEND;TZID=America/Indiana/Indianapolis:20280419T190000
DTSTAMP:20260421T003320
CREATED:20251110T135440Z
LAST-MODIFIED:20251110T135440Z
UID:10003387-1839776400-1839783600@woodruffplacebaptist.org
SUMMARY:Closed - Blue Tiger Group
DESCRIPTION:For questions on involvement in this time\, please contact Mike Tandy.
URL:https://woodruffplacebaptist.org/event/closed-blue-tiger-group-2/2028-04-19/
LOCATION:Woodruff Place Church\, 1739 E Michigan St\, Indianapolis\, Indiana\, 46201\, United States
CATEGORIES:Wednesday
ORGANIZER;CN="Mike Tandy":MAILTO:Tandy90@gmail.com
END:VEVENT
BEGIN:VEVENT
DTSTART;TZID=America/Indiana/Indianapolis:20280424T170000
DTEND;TZID=America/Indiana/Indianapolis:20280424T190000
DTSTAMP:20260421T003320
CREATED:20251110T135227Z
LAST-MODIFIED:20251110T135227Z
UID:10003128-1840208400-1840215600@woodruffplacebaptist.org
SUMMARY:Closed - Blue Tiger Group
DESCRIPTION:For questions on involvement in this time\, please contact Mike Tandy.
URL:https://woodruffplacebaptist.org/event/closed-blue-tiger-group/2028-04-24/
LOCATION:Woodruff Place Church\, 1739 E Michigan St\, Indianapolis\, Indiana\, 46201\, United States
CATEGORIES:Monday
ORGANIZER;CN="Mike Tandy":MAILTO:Tandy90@gmail.com
END:VEVENT
BEGIN:VEVENT
DTSTART;TZID=America/Indiana/Indianapolis:20280425T170000
DTEND;TZID=America/Indiana/Indianapolis:20280425T180000
DTSTAMP:20260421T003320
CREATED:20260413T150049Z
LAST-MODIFIED:20260413T150820Z
UID:10001252-1840294800-1840298400@woodruffplacebaptist.org
SUMMARY:Futsal Clinic Ages 5 - 12
DESCRIPTION:Join Coach Junior for free Futsal Training\, every Tuesday evening from 5pm – 6pm!
URL:https://woodruffplacebaptist.org/event/futsal-clinic-ages-5-12-4-2/2028-04-25/
LOCATION:Woodruff Place Church\, 1739 E Michigan St\, Indianapolis\, Indiana\, 46201\, United States
CATEGORIES:Tuesday
ATTACH;FMTTYPE=image/jpeg:https://woodruffplacebaptist.org/wp-content/uploads/2025/11/Revised-Futsol-Flyer-5-7-English.jpg
END:VEVENT
BEGIN:VEVENT
DTSTART;TZID=America/Indiana/Indianapolis:20280425T180000
DTEND;TZID=America/Indiana/Indianapolis:20280425T190000
DTSTAMP:20260421T003320
CREATED:20260413T150509Z
LAST-MODIFIED:20260413T150509Z
UID:10000995-1840298400-1840302000@woodruffplacebaptist.org
SUMMARY:Futsal Clinic Ages 13 & up
DESCRIPTION:Join Coach Junior for free Futsal Training\, every Tuesday evening from 6pm – 7pm!
URL:https://woodruffplacebaptist.org/event/futsal-clinic-ages-13-up-4-2/2028-04-25/
LOCATION:Woodruff Place Church\, 1739 E Michigan St\, Indianapolis\, Indiana\, 46201\, United States
CATEGORIES:Tuesday
ATTACH;FMTTYPE=image/jpeg:https://woodruffplacebaptist.org/wp-content/uploads/2025/11/Revised-Futsol-Flyer-5-7-English.jpg
END:VEVENT
BEGIN:VEVENT
DTSTART;TZID=America/Indiana/Indianapolis:20280426T170000
DTEND;TZID=America/Indiana/Indianapolis:20280426T190000
DTSTAMP:20260421T003320
CREATED:20251110T135440Z
LAST-MODIFIED:20251110T135440Z
UID:10003388-1840381200-1840388400@woodruffplacebaptist.org
SUMMARY:Closed - Blue Tiger Group
DESCRIPTION:For questions on involvement in this time\, please contact Mike Tandy.
URL:https://woodruffplacebaptist.org/event/closed-blue-tiger-group-2/2028-04-26/
LOCATION:Woodruff Place Church\, 1739 E Michigan St\, Indianapolis\, Indiana\, 46201\, United States
CATEGORIES:Wednesday
ORGANIZER;CN="Mike Tandy":MAILTO:Tandy90@gmail.com
END:VEVENT
END:VCALENDAR