BEGIN:VCALENDAR
VERSION:2.0
PRODID:-//Woodruff Place Baptist Church - ECPv6.15.18//NONSGML v1.0//EN
CALSCALE:GREGORIAN
METHOD:PUBLISH
X-ORIGINAL-URL:https://woodruffplacebaptist.org
X-WR-CALDESC:Events for Woodruff Place Baptist Church
REFRESH-INTERVAL;VALUE=DURATION:PT1H
X-Robots-Tag:noindex
X-PUBLISHED-TTL:PT1H
BEGIN:VTIMEZONE
TZID:America/Indiana/Indianapolis
BEGIN:DAYLIGHT
TZOFFSETFROM:-0500
TZOFFSETTO:-0400
TZNAME:EDT
DTSTART:20260308T070000
END:DAYLIGHT
BEGIN:STANDARD
TZOFFSETFROM:-0400
TZOFFSETTO:-0500
TZNAME:EST
DTSTART:20261101T060000
END:STANDARD
BEGIN:DAYLIGHT
TZOFFSETFROM:-0500
TZOFFSETTO:-0400
TZNAME:EDT
DTSTART:20270314T070000
END:DAYLIGHT
BEGIN:STANDARD
TZOFFSETFROM:-0400
TZOFFSETTO:-0500
TZNAME:EST
DTSTART:20271107T060000
END:STANDARD
BEGIN:DAYLIGHT
TZOFFSETFROM:-0500
TZOFFSETTO:-0400
TZNAME:EDT
DTSTART:20280312T070000
END:DAYLIGHT
BEGIN:STANDARD
TZOFFSETFROM:-0400
TZOFFSETTO:-0500
TZNAME:EST
DTSTART:20281105T060000
END:STANDARD
END:VTIMEZONE
BEGIN:VEVENT
DTSTART;TZID=America/Indiana/Indianapolis:20270901T170000
DTEND;TZID=America/Indiana/Indianapolis:20270901T190000
DTSTAMP:20260420T171559
CREATED:20251110T135440Z
LAST-MODIFIED:20251110T135440Z
UID:10003354-1819818000-1819825200@woodruffplacebaptist.org
SUMMARY:Closed - Blue Tiger Group
DESCRIPTION:For questions on involvement in this time\, please contact Mike Tandy.
URL:https://woodruffplacebaptist.org/event/closed-blue-tiger-group-2/2027-09-01/
LOCATION:Woodruff Place Church\, 1739 E Michigan St\, Indianapolis\, Indiana\, 46201\, United States
CATEGORIES:Wednesday
ORGANIZER;CN="Mike Tandy":MAILTO:Tandy90@gmail.com
END:VEVENT
BEGIN:VEVENT
DTSTART;TZID=America/Indiana/Indianapolis:20270906T170000
DTEND;TZID=America/Indiana/Indianapolis:20270906T190000
DTSTAMP:20260420T171559
CREATED:20251110T135227Z
LAST-MODIFIED:20251110T135227Z
UID:10003095-1820250000-1820257200@woodruffplacebaptist.org
SUMMARY:Closed - Blue Tiger Group
DESCRIPTION:For questions on involvement in this time\, please contact Mike Tandy.
URL:https://woodruffplacebaptist.org/event/closed-blue-tiger-group/2027-09-06/
LOCATION:Woodruff Place Church\, 1739 E Michigan St\, Indianapolis\, Indiana\, 46201\, United States
CATEGORIES:Monday
ORGANIZER;CN="Mike Tandy":MAILTO:Tandy90@gmail.com
END:VEVENT
BEGIN:VEVENT
DTSTART;TZID=America/Indiana/Indianapolis:20270907T170000
DTEND;TZID=America/Indiana/Indianapolis:20270907T180000
DTSTAMP:20260420T171559
CREATED:20260413T150049Z
LAST-MODIFIED:20260413T150820Z
UID:10001219-1820336400-1820340000@woodruffplacebaptist.org
SUMMARY:Futsal Clinic Ages 5 - 12
DESCRIPTION:Join Coach Junior for free Futsal Training\, every Tuesday evening from 5pm – 6pm!
URL:https://woodruffplacebaptist.org/event/futsal-clinic-ages-5-12-4-2/2027-09-07/
LOCATION:Woodruff Place Church\, 1739 E Michigan St\, Indianapolis\, Indiana\, 46201\, United States
CATEGORIES:Tuesday
ATTACH;FMTTYPE=image/jpeg:https://woodruffplacebaptist.org/wp-content/uploads/2025/11/Revised-Futsol-Flyer-5-7-English.jpg
END:VEVENT
BEGIN:VEVENT
DTSTART;TZID=America/Indiana/Indianapolis:20270907T180000
DTEND;TZID=America/Indiana/Indianapolis:20270907T190000
DTSTAMP:20260420T171559
CREATED:20260413T150509Z
LAST-MODIFIED:20260413T150509Z
UID:10000962-1820340000-1820343600@woodruffplacebaptist.org
SUMMARY:Futsal Clinic Ages 13 & up
DESCRIPTION:Join Coach Junior for free Futsal Training\, every Tuesday evening from 6pm – 7pm!
URL:https://woodruffplacebaptist.org/event/futsal-clinic-ages-13-up-4-2/2027-09-07/
LOCATION:Woodruff Place Church\, 1739 E Michigan St\, Indianapolis\, Indiana\, 46201\, United States
CATEGORIES:Tuesday
ATTACH;FMTTYPE=image/jpeg:https://woodruffplacebaptist.org/wp-content/uploads/2025/11/Revised-Futsol-Flyer-5-7-English.jpg
END:VEVENT
BEGIN:VEVENT
DTSTART;TZID=America/Indiana/Indianapolis:20270908T170000
DTEND;TZID=America/Indiana/Indianapolis:20270908T190000
DTSTAMP:20260420T171559
CREATED:20251110T135440Z
LAST-MODIFIED:20251110T135440Z
UID:10003355-1820422800-1820430000@woodruffplacebaptist.org
SUMMARY:Closed - Blue Tiger Group
DESCRIPTION:For questions on involvement in this time\, please contact Mike Tandy.
URL:https://woodruffplacebaptist.org/event/closed-blue-tiger-group-2/2027-09-08/
LOCATION:Woodruff Place Church\, 1739 E Michigan St\, Indianapolis\, Indiana\, 46201\, United States
CATEGORIES:Wednesday
ORGANIZER;CN="Mike Tandy":MAILTO:Tandy90@gmail.com
END:VEVENT
BEGIN:VEVENT
DTSTART;TZID=America/Indiana/Indianapolis:20270913T170000
DTEND;TZID=America/Indiana/Indianapolis:20270913T190000
DTSTAMP:20260420T171559
CREATED:20251110T135227Z
LAST-MODIFIED:20251110T135227Z
UID:10003096-1820854800-1820862000@woodruffplacebaptist.org
SUMMARY:Closed - Blue Tiger Group
DESCRIPTION:For questions on involvement in this time\, please contact Mike Tandy.
URL:https://woodruffplacebaptist.org/event/closed-blue-tiger-group/2027-09-13/
LOCATION:Woodruff Place Church\, 1739 E Michigan St\, Indianapolis\, Indiana\, 46201\, United States
CATEGORIES:Monday
ORGANIZER;CN="Mike Tandy":MAILTO:Tandy90@gmail.com
END:VEVENT
BEGIN:VEVENT
DTSTART;TZID=America/Indiana/Indianapolis:20270914T170000
DTEND;TZID=America/Indiana/Indianapolis:20270914T180000
DTSTAMP:20260420T171559
CREATED:20260413T150049Z
LAST-MODIFIED:20260413T150820Z
UID:10001220-1820941200-1820944800@woodruffplacebaptist.org
SUMMARY:Futsal Clinic Ages 5 - 12
DESCRIPTION:Join Coach Junior for free Futsal Training\, every Tuesday evening from 5pm – 6pm!
URL:https://woodruffplacebaptist.org/event/futsal-clinic-ages-5-12-4-2/2027-09-14/
LOCATION:Woodruff Place Church\, 1739 E Michigan St\, Indianapolis\, Indiana\, 46201\, United States
CATEGORIES:Tuesday
ATTACH;FMTTYPE=image/jpeg:https://woodruffplacebaptist.org/wp-content/uploads/2025/11/Revised-Futsol-Flyer-5-7-English.jpg
END:VEVENT
BEGIN:VEVENT
DTSTART;TZID=America/Indiana/Indianapolis:20270914T180000
DTEND;TZID=America/Indiana/Indianapolis:20270914T190000
DTSTAMP:20260420T171559
CREATED:20260413T150509Z
LAST-MODIFIED:20260413T150509Z
UID:10000963-1820944800-1820948400@woodruffplacebaptist.org
SUMMARY:Futsal Clinic Ages 13 & up
DESCRIPTION:Join Coach Junior for free Futsal Training\, every Tuesday evening from 6pm – 7pm!
URL:https://woodruffplacebaptist.org/event/futsal-clinic-ages-13-up-4-2/2027-09-14/
LOCATION:Woodruff Place Church\, 1739 E Michigan St\, Indianapolis\, Indiana\, 46201\, United States
CATEGORIES:Tuesday
ATTACH;FMTTYPE=image/jpeg:https://woodruffplacebaptist.org/wp-content/uploads/2025/11/Revised-Futsol-Flyer-5-7-English.jpg
END:VEVENT
BEGIN:VEVENT
DTSTART;TZID=America/Indiana/Indianapolis:20270915T170000
DTEND;TZID=America/Indiana/Indianapolis:20270915T190000
DTSTAMP:20260420T171559
CREATED:20251110T135440Z
LAST-MODIFIED:20251110T135440Z
UID:10003356-1821027600-1821034800@woodruffplacebaptist.org
SUMMARY:Closed - Blue Tiger Group
DESCRIPTION:For questions on involvement in this time\, please contact Mike Tandy.
URL:https://woodruffplacebaptist.org/event/closed-blue-tiger-group-2/2027-09-15/
LOCATION:Woodruff Place Church\, 1739 E Michigan St\, Indianapolis\, Indiana\, 46201\, United States
CATEGORIES:Wednesday
ORGANIZER;CN="Mike Tandy":MAILTO:Tandy90@gmail.com
END:VEVENT
BEGIN:VEVENT
DTSTART;TZID=America/Indiana/Indianapolis:20270920T170000
DTEND;TZID=America/Indiana/Indianapolis:20270920T190000
DTSTAMP:20260420T171559
CREATED:20251110T135227Z
LAST-MODIFIED:20251110T135227Z
UID:10003097-1821459600-1821466800@woodruffplacebaptist.org
SUMMARY:Closed - Blue Tiger Group
DESCRIPTION:For questions on involvement in this time\, please contact Mike Tandy.
URL:https://woodruffplacebaptist.org/event/closed-blue-tiger-group/2027-09-20/
LOCATION:Woodruff Place Church\, 1739 E Michigan St\, Indianapolis\, Indiana\, 46201\, United States
CATEGORIES:Monday
ORGANIZER;CN="Mike Tandy":MAILTO:Tandy90@gmail.com
END:VEVENT
BEGIN:VEVENT
DTSTART;TZID=America/Indiana/Indianapolis:20270921T170000
DTEND;TZID=America/Indiana/Indianapolis:20270921T180000
DTSTAMP:20260420T171559
CREATED:20260413T150049Z
LAST-MODIFIED:20260413T150820Z
UID:10001221-1821546000-1821549600@woodruffplacebaptist.org
SUMMARY:Futsal Clinic Ages 5 - 12
DESCRIPTION:Join Coach Junior for free Futsal Training\, every Tuesday evening from 5pm – 6pm!
URL:https://woodruffplacebaptist.org/event/futsal-clinic-ages-5-12-4-2/2027-09-21/
LOCATION:Woodruff Place Church\, 1739 E Michigan St\, Indianapolis\, Indiana\, 46201\, United States
CATEGORIES:Tuesday
ATTACH;FMTTYPE=image/jpeg:https://woodruffplacebaptist.org/wp-content/uploads/2025/11/Revised-Futsol-Flyer-5-7-English.jpg
END:VEVENT
BEGIN:VEVENT
DTSTART;TZID=America/Indiana/Indianapolis:20270921T180000
DTEND;TZID=America/Indiana/Indianapolis:20270921T190000
DTSTAMP:20260420T171559
CREATED:20260413T150509Z
LAST-MODIFIED:20260413T150509Z
UID:10000964-1821549600-1821553200@woodruffplacebaptist.org
SUMMARY:Futsal Clinic Ages 13 & up
DESCRIPTION:Join Coach Junior for free Futsal Training\, every Tuesday evening from 6pm – 7pm!
URL:https://woodruffplacebaptist.org/event/futsal-clinic-ages-13-up-4-2/2027-09-21/
LOCATION:Woodruff Place Church\, 1739 E Michigan St\, Indianapolis\, Indiana\, 46201\, United States
CATEGORIES:Tuesday
ATTACH;FMTTYPE=image/jpeg:https://woodruffplacebaptist.org/wp-content/uploads/2025/11/Revised-Futsol-Flyer-5-7-English.jpg
END:VEVENT
BEGIN:VEVENT
DTSTART;TZID=America/Indiana/Indianapolis:20270922T170000
DTEND;TZID=America/Indiana/Indianapolis:20270922T190000
DTSTAMP:20260420T171559
CREATED:20251110T135440Z
LAST-MODIFIED:20251110T135440Z
UID:10003357-1821632400-1821639600@woodruffplacebaptist.org
SUMMARY:Closed - Blue Tiger Group
DESCRIPTION:For questions on involvement in this time\, please contact Mike Tandy.
URL:https://woodruffplacebaptist.org/event/closed-blue-tiger-group-2/2027-09-22/
LOCATION:Woodruff Place Church\, 1739 E Michigan St\, Indianapolis\, Indiana\, 46201\, United States
CATEGORIES:Wednesday
ORGANIZER;CN="Mike Tandy":MAILTO:Tandy90@gmail.com
END:VEVENT
BEGIN:VEVENT
DTSTART;TZID=America/Indiana/Indianapolis:20270927T170000
DTEND;TZID=America/Indiana/Indianapolis:20270927T190000
DTSTAMP:20260420T171559
CREATED:20251110T135227Z
LAST-MODIFIED:20251110T135227Z
UID:10003098-1822064400-1822071600@woodruffplacebaptist.org
SUMMARY:Closed - Blue Tiger Group
DESCRIPTION:For questions on involvement in this time\, please contact Mike Tandy.
URL:https://woodruffplacebaptist.org/event/closed-blue-tiger-group/2027-09-27/
LOCATION:Woodruff Place Church\, 1739 E Michigan St\, Indianapolis\, Indiana\, 46201\, United States
CATEGORIES:Monday
ORGANIZER;CN="Mike Tandy":MAILTO:Tandy90@gmail.com
END:VEVENT
BEGIN:VEVENT
DTSTART;TZID=America/Indiana/Indianapolis:20270928T170000
DTEND;TZID=America/Indiana/Indianapolis:20270928T180000
DTSTAMP:20260420T171559
CREATED:20260413T150049Z
LAST-MODIFIED:20260413T150820Z
UID:10001222-1822150800-1822154400@woodruffplacebaptist.org
SUMMARY:Futsal Clinic Ages 5 - 12
DESCRIPTION:Join Coach Junior for free Futsal Training\, every Tuesday evening from 5pm – 6pm!
URL:https://woodruffplacebaptist.org/event/futsal-clinic-ages-5-12-4-2/2027-09-28/
LOCATION:Woodruff Place Church\, 1739 E Michigan St\, Indianapolis\, Indiana\, 46201\, United States
CATEGORIES:Tuesday
ATTACH;FMTTYPE=image/jpeg:https://woodruffplacebaptist.org/wp-content/uploads/2025/11/Revised-Futsol-Flyer-5-7-English.jpg
END:VEVENT
BEGIN:VEVENT
DTSTART;TZID=America/Indiana/Indianapolis:20270928T180000
DTEND;TZID=America/Indiana/Indianapolis:20270928T190000
DTSTAMP:20260420T171559
CREATED:20260413T150509Z
LAST-MODIFIED:20260413T150509Z
UID:10000965-1822154400-1822158000@woodruffplacebaptist.org
SUMMARY:Futsal Clinic Ages 13 & up
DESCRIPTION:Join Coach Junior for free Futsal Training\, every Tuesday evening from 6pm – 7pm!
URL:https://woodruffplacebaptist.org/event/futsal-clinic-ages-13-up-4-2/2027-09-28/
LOCATION:Woodruff Place Church\, 1739 E Michigan St\, Indianapolis\, Indiana\, 46201\, United States
CATEGORIES:Tuesday
ATTACH;FMTTYPE=image/jpeg:https://woodruffplacebaptist.org/wp-content/uploads/2025/11/Revised-Futsol-Flyer-5-7-English.jpg
END:VEVENT
BEGIN:VEVENT
DTSTART;TZID=America/Indiana/Indianapolis:20270929T170000
DTEND;TZID=America/Indiana/Indianapolis:20270929T190000
DTSTAMP:20260420T171559
CREATED:20251110T135440Z
LAST-MODIFIED:20251110T135440Z
UID:10003358-1822237200-1822244400@woodruffplacebaptist.org
SUMMARY:Closed - Blue Tiger Group
DESCRIPTION:For questions on involvement in this time\, please contact Mike Tandy.
URL:https://woodruffplacebaptist.org/event/closed-blue-tiger-group-2/2027-09-29/
LOCATION:Woodruff Place Church\, 1739 E Michigan St\, Indianapolis\, Indiana\, 46201\, United States
CATEGORIES:Wednesday
ORGANIZER;CN="Mike Tandy":MAILTO:Tandy90@gmail.com
END:VEVENT
END:VCALENDAR