BEGIN:VCALENDAR
VERSION:2.0
PRODID:-//Woodruff Place Baptist Church - ECPv6.15.18//NONSGML v1.0//EN
CALSCALE:GREGORIAN
METHOD:PUBLISH
X-ORIGINAL-URL:https://woodruffplacebaptist.org
X-WR-CALDESC:Events for Woodruff Place Baptist Church
REFRESH-INTERVAL;VALUE=DURATION:PT1H
X-Robots-Tag:noindex
X-PUBLISHED-TTL:PT1H
BEGIN:VTIMEZONE
TZID:America/Indiana/Indianapolis
BEGIN:DAYLIGHT
TZOFFSETFROM:-0500
TZOFFSETTO:-0400
TZNAME:EDT
DTSTART:20260308T070000
END:DAYLIGHT
BEGIN:STANDARD
TZOFFSETFROM:-0400
TZOFFSETTO:-0500
TZNAME:EST
DTSTART:20261101T060000
END:STANDARD
BEGIN:DAYLIGHT
TZOFFSETFROM:-0500
TZOFFSETTO:-0400
TZNAME:EDT
DTSTART:20270314T070000
END:DAYLIGHT
BEGIN:STANDARD
TZOFFSETFROM:-0400
TZOFFSETTO:-0500
TZNAME:EST
DTSTART:20271107T060000
END:STANDARD
BEGIN:DAYLIGHT
TZOFFSETFROM:-0500
TZOFFSETTO:-0400
TZNAME:EDT
DTSTART:20280312T070000
END:DAYLIGHT
BEGIN:STANDARD
TZOFFSETFROM:-0400
TZOFFSETTO:-0500
TZNAME:EST
DTSTART:20281105T060000
END:STANDARD
END:VTIMEZONE
BEGIN:VEVENT
DTSTART;TZID=America/Indiana/Indianapolis:20270802T170000
DTEND;TZID=America/Indiana/Indianapolis:20270802T190000
DTSTAMP:20260420T160917
CREATED:20251110T135227Z
LAST-MODIFIED:20251110T135227Z
UID:10003090-1817226000-1817233200@woodruffplacebaptist.org
SUMMARY:Closed - Blue Tiger Group
DESCRIPTION:For questions on involvement in this time\, please contact Mike Tandy.
URL:https://woodruffplacebaptist.org/event/closed-blue-tiger-group/2027-08-02/
LOCATION:Woodruff Place Church\, 1739 E Michigan St\, Indianapolis\, Indiana\, 46201\, United States
CATEGORIES:Monday
ORGANIZER;CN="Mike Tandy":MAILTO:Tandy90@gmail.com
END:VEVENT
BEGIN:VEVENT
DTSTART;TZID=America/Indiana/Indianapolis:20270803T170000
DTEND;TZID=America/Indiana/Indianapolis:20270803T180000
DTSTAMP:20260420T160917
CREATED:20260413T150049Z
LAST-MODIFIED:20260413T150820Z
UID:10001214-1817312400-1817316000@woodruffplacebaptist.org
SUMMARY:Futsal Clinic Ages 5 - 12
DESCRIPTION:Join Coach Junior for free Futsal Training\, every Tuesday evening from 5pm – 6pm!
URL:https://woodruffplacebaptist.org/event/futsal-clinic-ages-5-12-4-2/2027-08-03/
LOCATION:Woodruff Place Church\, 1739 E Michigan St\, Indianapolis\, Indiana\, 46201\, United States
CATEGORIES:Tuesday
ATTACH;FMTTYPE=image/jpeg:https://woodruffplacebaptist.org/wp-content/uploads/2025/11/Revised-Futsol-Flyer-5-7-English.jpg
END:VEVENT
BEGIN:VEVENT
DTSTART;TZID=America/Indiana/Indianapolis:20270803T180000
DTEND;TZID=America/Indiana/Indianapolis:20270803T190000
DTSTAMP:20260420T160917
CREATED:20260413T150509Z
LAST-MODIFIED:20260413T150509Z
UID:10000957-1817316000-1817319600@woodruffplacebaptist.org
SUMMARY:Futsal Clinic Ages 13 & up
DESCRIPTION:Join Coach Junior for free Futsal Training\, every Tuesday evening from 6pm – 7pm!
URL:https://woodruffplacebaptist.org/event/futsal-clinic-ages-13-up-4-2/2027-08-03/
LOCATION:Woodruff Place Church\, 1739 E Michigan St\, Indianapolis\, Indiana\, 46201\, United States
CATEGORIES:Tuesday
ATTACH;FMTTYPE=image/jpeg:https://woodruffplacebaptist.org/wp-content/uploads/2025/11/Revised-Futsol-Flyer-5-7-English.jpg
END:VEVENT
BEGIN:VEVENT
DTSTART;TZID=America/Indiana/Indianapolis:20270804T170000
DTEND;TZID=America/Indiana/Indianapolis:20270804T190000
DTSTAMP:20260420T160917
CREATED:20251110T135440Z
LAST-MODIFIED:20251110T135440Z
UID:10003350-1817398800-1817406000@woodruffplacebaptist.org
SUMMARY:Closed - Blue Tiger Group
DESCRIPTION:For questions on involvement in this time\, please contact Mike Tandy.
URL:https://woodruffplacebaptist.org/event/closed-blue-tiger-group-2/2027-08-04/
LOCATION:Woodruff Place Church\, 1739 E Michigan St\, Indianapolis\, Indiana\, 46201\, United States
CATEGORIES:Wednesday
ORGANIZER;CN="Mike Tandy":MAILTO:Tandy90@gmail.com
END:VEVENT
BEGIN:VEVENT
DTSTART;TZID=America/Indiana/Indianapolis:20270809T170000
DTEND;TZID=America/Indiana/Indianapolis:20270809T190000
DTSTAMP:20260420T160917
CREATED:20251110T135227Z
LAST-MODIFIED:20251110T135227Z
UID:10003091-1817830800-1817838000@woodruffplacebaptist.org
SUMMARY:Closed - Blue Tiger Group
DESCRIPTION:For questions on involvement in this time\, please contact Mike Tandy.
URL:https://woodruffplacebaptist.org/event/closed-blue-tiger-group/2027-08-09/
LOCATION:Woodruff Place Church\, 1739 E Michigan St\, Indianapolis\, Indiana\, 46201\, United States
CATEGORIES:Monday
ORGANIZER;CN="Mike Tandy":MAILTO:Tandy90@gmail.com
END:VEVENT
BEGIN:VEVENT
DTSTART;TZID=America/Indiana/Indianapolis:20270810T170000
DTEND;TZID=America/Indiana/Indianapolis:20270810T180000
DTSTAMP:20260420T160917
CREATED:20260413T150049Z
LAST-MODIFIED:20260413T150820Z
UID:10001215-1817917200-1817920800@woodruffplacebaptist.org
SUMMARY:Futsal Clinic Ages 5 - 12
DESCRIPTION:Join Coach Junior for free Futsal Training\, every Tuesday evening from 5pm – 6pm!
URL:https://woodruffplacebaptist.org/event/futsal-clinic-ages-5-12-4-2/2027-08-10/
LOCATION:Woodruff Place Church\, 1739 E Michigan St\, Indianapolis\, Indiana\, 46201\, United States
CATEGORIES:Tuesday
ATTACH;FMTTYPE=image/jpeg:https://woodruffplacebaptist.org/wp-content/uploads/2025/11/Revised-Futsol-Flyer-5-7-English.jpg
END:VEVENT
BEGIN:VEVENT
DTSTART;TZID=America/Indiana/Indianapolis:20270810T180000
DTEND;TZID=America/Indiana/Indianapolis:20270810T190000
DTSTAMP:20260420T160917
CREATED:20260413T150509Z
LAST-MODIFIED:20260413T150509Z
UID:10000958-1817920800-1817924400@woodruffplacebaptist.org
SUMMARY:Futsal Clinic Ages 13 & up
DESCRIPTION:Join Coach Junior for free Futsal Training\, every Tuesday evening from 6pm – 7pm!
URL:https://woodruffplacebaptist.org/event/futsal-clinic-ages-13-up-4-2/2027-08-10/
LOCATION:Woodruff Place Church\, 1739 E Michigan St\, Indianapolis\, Indiana\, 46201\, United States
CATEGORIES:Tuesday
ATTACH;FMTTYPE=image/jpeg:https://woodruffplacebaptist.org/wp-content/uploads/2025/11/Revised-Futsol-Flyer-5-7-English.jpg
END:VEVENT
BEGIN:VEVENT
DTSTART;TZID=America/Indiana/Indianapolis:20270811T170000
DTEND;TZID=America/Indiana/Indianapolis:20270811T190000
DTSTAMP:20260420T160917
CREATED:20251110T135440Z
LAST-MODIFIED:20251110T135440Z
UID:10003351-1818003600-1818010800@woodruffplacebaptist.org
SUMMARY:Closed - Blue Tiger Group
DESCRIPTION:For questions on involvement in this time\, please contact Mike Tandy.
URL:https://woodruffplacebaptist.org/event/closed-blue-tiger-group-2/2027-08-11/
LOCATION:Woodruff Place Church\, 1739 E Michigan St\, Indianapolis\, Indiana\, 46201\, United States
CATEGORIES:Wednesday
ORGANIZER;CN="Mike Tandy":MAILTO:Tandy90@gmail.com
END:VEVENT
BEGIN:VEVENT
DTSTART;TZID=America/Indiana/Indianapolis:20270816T170000
DTEND;TZID=America/Indiana/Indianapolis:20270816T190000
DTSTAMP:20260420T160917
CREATED:20251110T135227Z
LAST-MODIFIED:20251110T135227Z
UID:10003092-1818435600-1818442800@woodruffplacebaptist.org
SUMMARY:Closed - Blue Tiger Group
DESCRIPTION:For questions on involvement in this time\, please contact Mike Tandy.
URL:https://woodruffplacebaptist.org/event/closed-blue-tiger-group/2027-08-16/
LOCATION:Woodruff Place Church\, 1739 E Michigan St\, Indianapolis\, Indiana\, 46201\, United States
CATEGORIES:Monday
ORGANIZER;CN="Mike Tandy":MAILTO:Tandy90@gmail.com
END:VEVENT
BEGIN:VEVENT
DTSTART;TZID=America/Indiana/Indianapolis:20270817T170000
DTEND;TZID=America/Indiana/Indianapolis:20270817T180000
DTSTAMP:20260420T160917
CREATED:20260413T150049Z
LAST-MODIFIED:20260413T150820Z
UID:10001216-1818522000-1818525600@woodruffplacebaptist.org
SUMMARY:Futsal Clinic Ages 5 - 12
DESCRIPTION:Join Coach Junior for free Futsal Training\, every Tuesday evening from 5pm – 6pm!
URL:https://woodruffplacebaptist.org/event/futsal-clinic-ages-5-12-4-2/2027-08-17/
LOCATION:Woodruff Place Church\, 1739 E Michigan St\, Indianapolis\, Indiana\, 46201\, United States
CATEGORIES:Tuesday
ATTACH;FMTTYPE=image/jpeg:https://woodruffplacebaptist.org/wp-content/uploads/2025/11/Revised-Futsol-Flyer-5-7-English.jpg
END:VEVENT
BEGIN:VEVENT
DTSTART;TZID=America/Indiana/Indianapolis:20270817T180000
DTEND;TZID=America/Indiana/Indianapolis:20270817T190000
DTSTAMP:20260420T160917
CREATED:20260413T150509Z
LAST-MODIFIED:20260413T150509Z
UID:10000959-1818525600-1818529200@woodruffplacebaptist.org
SUMMARY:Futsal Clinic Ages 13 & up
DESCRIPTION:Join Coach Junior for free Futsal Training\, every Tuesday evening from 6pm – 7pm!
URL:https://woodruffplacebaptist.org/event/futsal-clinic-ages-13-up-4-2/2027-08-17/
LOCATION:Woodruff Place Church\, 1739 E Michigan St\, Indianapolis\, Indiana\, 46201\, United States
CATEGORIES:Tuesday
ATTACH;FMTTYPE=image/jpeg:https://woodruffplacebaptist.org/wp-content/uploads/2025/11/Revised-Futsol-Flyer-5-7-English.jpg
END:VEVENT
BEGIN:VEVENT
DTSTART;TZID=America/Indiana/Indianapolis:20270818T170000
DTEND;TZID=America/Indiana/Indianapolis:20270818T190000
DTSTAMP:20260420T160917
CREATED:20251110T135440Z
LAST-MODIFIED:20251110T135440Z
UID:10003352-1818608400-1818615600@woodruffplacebaptist.org
SUMMARY:Closed - Blue Tiger Group
DESCRIPTION:For questions on involvement in this time\, please contact Mike Tandy.
URL:https://woodruffplacebaptist.org/event/closed-blue-tiger-group-2/2027-08-18/
LOCATION:Woodruff Place Church\, 1739 E Michigan St\, Indianapolis\, Indiana\, 46201\, United States
CATEGORIES:Wednesday
ORGANIZER;CN="Mike Tandy":MAILTO:Tandy90@gmail.com
END:VEVENT
BEGIN:VEVENT
DTSTART;TZID=America/Indiana/Indianapolis:20270823T170000
DTEND;TZID=America/Indiana/Indianapolis:20270823T190000
DTSTAMP:20260420T160917
CREATED:20251110T135227Z
LAST-MODIFIED:20251110T135227Z
UID:10003093-1819040400-1819047600@woodruffplacebaptist.org
SUMMARY:Closed - Blue Tiger Group
DESCRIPTION:For questions on involvement in this time\, please contact Mike Tandy.
URL:https://woodruffplacebaptist.org/event/closed-blue-tiger-group/2027-08-23/
LOCATION:Woodruff Place Church\, 1739 E Michigan St\, Indianapolis\, Indiana\, 46201\, United States
CATEGORIES:Monday
ORGANIZER;CN="Mike Tandy":MAILTO:Tandy90@gmail.com
END:VEVENT
BEGIN:VEVENT
DTSTART;TZID=America/Indiana/Indianapolis:20270824T170000
DTEND;TZID=America/Indiana/Indianapolis:20270824T180000
DTSTAMP:20260420T160917
CREATED:20260413T150049Z
LAST-MODIFIED:20260413T150820Z
UID:10001217-1819126800-1819130400@woodruffplacebaptist.org
SUMMARY:Futsal Clinic Ages 5 - 12
DESCRIPTION:Join Coach Junior for free Futsal Training\, every Tuesday evening from 5pm – 6pm!
URL:https://woodruffplacebaptist.org/event/futsal-clinic-ages-5-12-4-2/2027-08-24/
LOCATION:Woodruff Place Church\, 1739 E Michigan St\, Indianapolis\, Indiana\, 46201\, United States
CATEGORIES:Tuesday
ATTACH;FMTTYPE=image/jpeg:https://woodruffplacebaptist.org/wp-content/uploads/2025/11/Revised-Futsol-Flyer-5-7-English.jpg
END:VEVENT
BEGIN:VEVENT
DTSTART;TZID=America/Indiana/Indianapolis:20270824T180000
DTEND;TZID=America/Indiana/Indianapolis:20270824T190000
DTSTAMP:20260420T160917
CREATED:20260413T150509Z
LAST-MODIFIED:20260413T150509Z
UID:10000960-1819130400-1819134000@woodruffplacebaptist.org
SUMMARY:Futsal Clinic Ages 13 & up
DESCRIPTION:Join Coach Junior for free Futsal Training\, every Tuesday evening from 6pm – 7pm!
URL:https://woodruffplacebaptist.org/event/futsal-clinic-ages-13-up-4-2/2027-08-24/
LOCATION:Woodruff Place Church\, 1739 E Michigan St\, Indianapolis\, Indiana\, 46201\, United States
CATEGORIES:Tuesday
ATTACH;FMTTYPE=image/jpeg:https://woodruffplacebaptist.org/wp-content/uploads/2025/11/Revised-Futsol-Flyer-5-7-English.jpg
END:VEVENT
BEGIN:VEVENT
DTSTART;TZID=America/Indiana/Indianapolis:20270825T170000
DTEND;TZID=America/Indiana/Indianapolis:20270825T190000
DTSTAMP:20260420T160917
CREATED:20251110T135440Z
LAST-MODIFIED:20251110T135440Z
UID:10003353-1819213200-1819220400@woodruffplacebaptist.org
SUMMARY:Closed - Blue Tiger Group
DESCRIPTION:For questions on involvement in this time\, please contact Mike Tandy.
URL:https://woodruffplacebaptist.org/event/closed-blue-tiger-group-2/2027-08-25/
LOCATION:Woodruff Place Church\, 1739 E Michigan St\, Indianapolis\, Indiana\, 46201\, United States
CATEGORIES:Wednesday
ORGANIZER;CN="Mike Tandy":MAILTO:Tandy90@gmail.com
END:VEVENT
BEGIN:VEVENT
DTSTART;TZID=America/Indiana/Indianapolis:20270830T170000
DTEND;TZID=America/Indiana/Indianapolis:20270830T190000
DTSTAMP:20260420T160917
CREATED:20251110T135227Z
LAST-MODIFIED:20251110T135227Z
UID:10003094-1819645200-1819652400@woodruffplacebaptist.org
SUMMARY:Closed - Blue Tiger Group
DESCRIPTION:For questions on involvement in this time\, please contact Mike Tandy.
URL:https://woodruffplacebaptist.org/event/closed-blue-tiger-group/2027-08-30/
LOCATION:Woodruff Place Church\, 1739 E Michigan St\, Indianapolis\, Indiana\, 46201\, United States
CATEGORIES:Monday
ORGANIZER;CN="Mike Tandy":MAILTO:Tandy90@gmail.com
END:VEVENT
BEGIN:VEVENT
DTSTART;TZID=America/Indiana/Indianapolis:20270831T170000
DTEND;TZID=America/Indiana/Indianapolis:20270831T180000
DTSTAMP:20260420T160917
CREATED:20260413T150049Z
LAST-MODIFIED:20260413T150820Z
UID:10001218-1819731600-1819735200@woodruffplacebaptist.org
SUMMARY:Futsal Clinic Ages 5 - 12
DESCRIPTION:Join Coach Junior for free Futsal Training\, every Tuesday evening from 5pm – 6pm!
URL:https://woodruffplacebaptist.org/event/futsal-clinic-ages-5-12-4-2/2027-08-31/
LOCATION:Woodruff Place Church\, 1739 E Michigan St\, Indianapolis\, Indiana\, 46201\, United States
CATEGORIES:Tuesday
ATTACH;FMTTYPE=image/jpeg:https://woodruffplacebaptist.org/wp-content/uploads/2025/11/Revised-Futsol-Flyer-5-7-English.jpg
END:VEVENT
BEGIN:VEVENT
DTSTART;TZID=America/Indiana/Indianapolis:20270831T180000
DTEND;TZID=America/Indiana/Indianapolis:20270831T190000
DTSTAMP:20260420T160917
CREATED:20260413T150509Z
LAST-MODIFIED:20260413T150509Z
UID:10000961-1819735200-1819738800@woodruffplacebaptist.org
SUMMARY:Futsal Clinic Ages 13 & up
DESCRIPTION:Join Coach Junior for free Futsal Training\, every Tuesday evening from 6pm – 7pm!
URL:https://woodruffplacebaptist.org/event/futsal-clinic-ages-13-up-4-2/2027-08-31/
LOCATION:Woodruff Place Church\, 1739 E Michigan St\, Indianapolis\, Indiana\, 46201\, United States
CATEGORIES:Tuesday
ATTACH;FMTTYPE=image/jpeg:https://woodruffplacebaptist.org/wp-content/uploads/2025/11/Revised-Futsol-Flyer-5-7-English.jpg
END:VEVENT
END:VCALENDAR