BEGIN:VCALENDAR
VERSION:2.0
PRODID:-//Woodruff Place Baptist Church - ECPv6.15.18//NONSGML v1.0//EN
CALSCALE:GREGORIAN
METHOD:PUBLISH
X-WR-CALNAME:Woodruff Place Baptist Church
X-ORIGINAL-URL:https://woodruffplacebaptist.org
X-WR-CALDESC:Events for Woodruff Place Baptist Church
REFRESH-INTERVAL;VALUE=DURATION:PT1H
X-Robots-Tag:noindex
X-PUBLISHED-TTL:PT1H
BEGIN:VTIMEZONE
TZID:America/Indiana/Indianapolis
BEGIN:DAYLIGHT
TZOFFSETFROM:-0500
TZOFFSETTO:-0400
TZNAME:EDT
DTSTART:20260308T070000
END:DAYLIGHT
BEGIN:STANDARD
TZOFFSETFROM:-0400
TZOFFSETTO:-0500
TZNAME:EST
DTSTART:20261101T060000
END:STANDARD
BEGIN:DAYLIGHT
TZOFFSETFROM:-0500
TZOFFSETTO:-0400
TZNAME:EDT
DTSTART:20270314T070000
END:DAYLIGHT
BEGIN:STANDARD
TZOFFSETFROM:-0400
TZOFFSETTO:-0500
TZNAME:EST
DTSTART:20271107T060000
END:STANDARD
BEGIN:DAYLIGHT
TZOFFSETFROM:-0500
TZOFFSETTO:-0400
TZNAME:EDT
DTSTART:20280312T070000
END:DAYLIGHT
BEGIN:STANDARD
TZOFFSETFROM:-0400
TZOFFSETTO:-0500
TZNAME:EST
DTSTART:20281105T060000
END:STANDARD
END:VTIMEZONE
BEGIN:VEVENT
DTSTART;TZID=America/Indiana/Indianapolis:20270705T170000
DTEND;TZID=America/Indiana/Indianapolis:20270705T190000
DTSTAMP:20260420T150344
CREATED:20251110T135227Z
LAST-MODIFIED:20251110T135227Z
UID:10003086-1814806800-1814814000@woodruffplacebaptist.org
SUMMARY:Closed - Blue Tiger Group
DESCRIPTION:For questions on involvement in this time\, please contact Mike Tandy.
URL:https://woodruffplacebaptist.org/event/closed-blue-tiger-group/2027-07-05/
LOCATION:Woodruff Place Church\, 1739 E Michigan St\, Indianapolis\, Indiana\, 46201\, United States
CATEGORIES:Monday
ORGANIZER;CN="Mike Tandy":MAILTO:Tandy90@gmail.com
END:VEVENT
BEGIN:VEVENT
DTSTART;TZID=America/Indiana/Indianapolis:20270706T170000
DTEND;TZID=America/Indiana/Indianapolis:20270706T180000
DTSTAMP:20260420T150344
CREATED:20260413T150049Z
LAST-MODIFIED:20260413T150820Z
UID:10001210-1814893200-1814896800@woodruffplacebaptist.org
SUMMARY:Futsal Clinic Ages 5 - 12
DESCRIPTION:Join Coach Junior for free Futsal Training\, every Tuesday evening from 5pm – 6pm!
URL:https://woodruffplacebaptist.org/event/futsal-clinic-ages-5-12-4-2/2027-07-06/
LOCATION:Woodruff Place Church\, 1739 E Michigan St\, Indianapolis\, Indiana\, 46201\, United States
CATEGORIES:Tuesday
ATTACH;FMTTYPE=image/jpeg:https://woodruffplacebaptist.org/wp-content/uploads/2025/11/Revised-Futsol-Flyer-5-7-English.jpg
END:VEVENT
BEGIN:VEVENT
DTSTART;TZID=America/Indiana/Indianapolis:20270706T180000
DTEND;TZID=America/Indiana/Indianapolis:20270706T190000
DTSTAMP:20260420T150344
CREATED:20260413T150509Z
LAST-MODIFIED:20260413T150509Z
UID:10000953-1814896800-1814900400@woodruffplacebaptist.org
SUMMARY:Futsal Clinic Ages 13 & up
DESCRIPTION:Join Coach Junior for free Futsal Training\, every Tuesday evening from 6pm – 7pm!
URL:https://woodruffplacebaptist.org/event/futsal-clinic-ages-13-up-4-2/2027-07-06/
LOCATION:Woodruff Place Church\, 1739 E Michigan St\, Indianapolis\, Indiana\, 46201\, United States
CATEGORIES:Tuesday
ATTACH;FMTTYPE=image/jpeg:https://woodruffplacebaptist.org/wp-content/uploads/2025/11/Revised-Futsol-Flyer-5-7-English.jpg
END:VEVENT
BEGIN:VEVENT
DTSTART;TZID=America/Indiana/Indianapolis:20270707T170000
DTEND;TZID=America/Indiana/Indianapolis:20270707T190000
DTSTAMP:20260420T150344
CREATED:20251110T135440Z
LAST-MODIFIED:20251110T135440Z
UID:10003346-1814979600-1814986800@woodruffplacebaptist.org
SUMMARY:Closed - Blue Tiger Group
DESCRIPTION:For questions on involvement in this time\, please contact Mike Tandy.
URL:https://woodruffplacebaptist.org/event/closed-blue-tiger-group-2/2027-07-07/
LOCATION:Woodruff Place Church\, 1739 E Michigan St\, Indianapolis\, Indiana\, 46201\, United States
CATEGORIES:Wednesday
ORGANIZER;CN="Mike Tandy":MAILTO:Tandy90@gmail.com
END:VEVENT
BEGIN:VEVENT
DTSTART;TZID=America/Indiana/Indianapolis:20270712T170000
DTEND;TZID=America/Indiana/Indianapolis:20270712T190000
DTSTAMP:20260420T150344
CREATED:20251110T135227Z
LAST-MODIFIED:20251110T135227Z
UID:10003087-1815411600-1815418800@woodruffplacebaptist.org
SUMMARY:Closed - Blue Tiger Group
DESCRIPTION:For questions on involvement in this time\, please contact Mike Tandy.
URL:https://woodruffplacebaptist.org/event/closed-blue-tiger-group/2027-07-12/
LOCATION:Woodruff Place Church\, 1739 E Michigan St\, Indianapolis\, Indiana\, 46201\, United States
CATEGORIES:Monday
ORGANIZER;CN="Mike Tandy":MAILTO:Tandy90@gmail.com
END:VEVENT
BEGIN:VEVENT
DTSTART;TZID=America/Indiana/Indianapolis:20270713T170000
DTEND;TZID=America/Indiana/Indianapolis:20270713T180000
DTSTAMP:20260420T150344
CREATED:20260413T150049Z
LAST-MODIFIED:20260413T150820Z
UID:10001211-1815498000-1815501600@woodruffplacebaptist.org
SUMMARY:Futsal Clinic Ages 5 - 12
DESCRIPTION:Join Coach Junior for free Futsal Training\, every Tuesday evening from 5pm – 6pm!
URL:https://woodruffplacebaptist.org/event/futsal-clinic-ages-5-12-4-2/2027-07-13/
LOCATION:Woodruff Place Church\, 1739 E Michigan St\, Indianapolis\, Indiana\, 46201\, United States
CATEGORIES:Tuesday
ATTACH;FMTTYPE=image/jpeg:https://woodruffplacebaptist.org/wp-content/uploads/2025/11/Revised-Futsol-Flyer-5-7-English.jpg
END:VEVENT
BEGIN:VEVENT
DTSTART;TZID=America/Indiana/Indianapolis:20270713T180000
DTEND;TZID=America/Indiana/Indianapolis:20270713T190000
DTSTAMP:20260420T150344
CREATED:20260413T150509Z
LAST-MODIFIED:20260413T150509Z
UID:10000954-1815501600-1815505200@woodruffplacebaptist.org
SUMMARY:Futsal Clinic Ages 13 & up
DESCRIPTION:Join Coach Junior for free Futsal Training\, every Tuesday evening from 6pm – 7pm!
URL:https://woodruffplacebaptist.org/event/futsal-clinic-ages-13-up-4-2/2027-07-13/
LOCATION:Woodruff Place Church\, 1739 E Michigan St\, Indianapolis\, Indiana\, 46201\, United States
CATEGORIES:Tuesday
ATTACH;FMTTYPE=image/jpeg:https://woodruffplacebaptist.org/wp-content/uploads/2025/11/Revised-Futsol-Flyer-5-7-English.jpg
END:VEVENT
BEGIN:VEVENT
DTSTART;TZID=America/Indiana/Indianapolis:20270714T170000
DTEND;TZID=America/Indiana/Indianapolis:20270714T190000
DTSTAMP:20260420T150344
CREATED:20251110T135440Z
LAST-MODIFIED:20251110T135440Z
UID:10003347-1815584400-1815591600@woodruffplacebaptist.org
SUMMARY:Closed - Blue Tiger Group
DESCRIPTION:For questions on involvement in this time\, please contact Mike Tandy.
URL:https://woodruffplacebaptist.org/event/closed-blue-tiger-group-2/2027-07-14/
LOCATION:Woodruff Place Church\, 1739 E Michigan St\, Indianapolis\, Indiana\, 46201\, United States
CATEGORIES:Wednesday
ORGANIZER;CN="Mike Tandy":MAILTO:Tandy90@gmail.com
END:VEVENT
BEGIN:VEVENT
DTSTART;TZID=America/Indiana/Indianapolis:20270719T170000
DTEND;TZID=America/Indiana/Indianapolis:20270719T190000
DTSTAMP:20260420T150344
CREATED:20251110T135227Z
LAST-MODIFIED:20251110T135227Z
UID:10003088-1816016400-1816023600@woodruffplacebaptist.org
SUMMARY:Closed - Blue Tiger Group
DESCRIPTION:For questions on involvement in this time\, please contact Mike Tandy.
URL:https://woodruffplacebaptist.org/event/closed-blue-tiger-group/2027-07-19/
LOCATION:Woodruff Place Church\, 1739 E Michigan St\, Indianapolis\, Indiana\, 46201\, United States
CATEGORIES:Monday
ORGANIZER;CN="Mike Tandy":MAILTO:Tandy90@gmail.com
END:VEVENT
BEGIN:VEVENT
DTSTART;TZID=America/Indiana/Indianapolis:20270720T170000
DTEND;TZID=America/Indiana/Indianapolis:20270720T180000
DTSTAMP:20260420T150344
CREATED:20260413T150049Z
LAST-MODIFIED:20260413T150820Z
UID:10001212-1816102800-1816106400@woodruffplacebaptist.org
SUMMARY:Futsal Clinic Ages 5 - 12
DESCRIPTION:Join Coach Junior for free Futsal Training\, every Tuesday evening from 5pm – 6pm!
URL:https://woodruffplacebaptist.org/event/futsal-clinic-ages-5-12-4-2/2027-07-20/
LOCATION:Woodruff Place Church\, 1739 E Michigan St\, Indianapolis\, Indiana\, 46201\, United States
CATEGORIES:Tuesday
ATTACH;FMTTYPE=image/jpeg:https://woodruffplacebaptist.org/wp-content/uploads/2025/11/Revised-Futsol-Flyer-5-7-English.jpg
END:VEVENT
BEGIN:VEVENT
DTSTART;TZID=America/Indiana/Indianapolis:20270720T180000
DTEND;TZID=America/Indiana/Indianapolis:20270720T190000
DTSTAMP:20260420T150344
CREATED:20260413T150509Z
LAST-MODIFIED:20260413T150509Z
UID:10000955-1816106400-1816110000@woodruffplacebaptist.org
SUMMARY:Futsal Clinic Ages 13 & up
DESCRIPTION:Join Coach Junior for free Futsal Training\, every Tuesday evening from 6pm – 7pm!
URL:https://woodruffplacebaptist.org/event/futsal-clinic-ages-13-up-4-2/2027-07-20/
LOCATION:Woodruff Place Church\, 1739 E Michigan St\, Indianapolis\, Indiana\, 46201\, United States
CATEGORIES:Tuesday
ATTACH;FMTTYPE=image/jpeg:https://woodruffplacebaptist.org/wp-content/uploads/2025/11/Revised-Futsol-Flyer-5-7-English.jpg
END:VEVENT
BEGIN:VEVENT
DTSTART;TZID=America/Indiana/Indianapolis:20270721T170000
DTEND;TZID=America/Indiana/Indianapolis:20270721T190000
DTSTAMP:20260420T150344
CREATED:20251110T135440Z
LAST-MODIFIED:20251110T135440Z
UID:10003348-1816189200-1816196400@woodruffplacebaptist.org
SUMMARY:Closed - Blue Tiger Group
DESCRIPTION:For questions on involvement in this time\, please contact Mike Tandy.
URL:https://woodruffplacebaptist.org/event/closed-blue-tiger-group-2/2027-07-21/
LOCATION:Woodruff Place Church\, 1739 E Michigan St\, Indianapolis\, Indiana\, 46201\, United States
CATEGORIES:Wednesday
ORGANIZER;CN="Mike Tandy":MAILTO:Tandy90@gmail.com
END:VEVENT
BEGIN:VEVENT
DTSTART;TZID=America/Indiana/Indianapolis:20270726T170000
DTEND;TZID=America/Indiana/Indianapolis:20270726T190000
DTSTAMP:20260420T150344
CREATED:20251110T135227Z
LAST-MODIFIED:20251110T135227Z
UID:10003089-1816621200-1816628400@woodruffplacebaptist.org
SUMMARY:Closed - Blue Tiger Group
DESCRIPTION:For questions on involvement in this time\, please contact Mike Tandy.
URL:https://woodruffplacebaptist.org/event/closed-blue-tiger-group/2027-07-26/
LOCATION:Woodruff Place Church\, 1739 E Michigan St\, Indianapolis\, Indiana\, 46201\, United States
CATEGORIES:Monday
ORGANIZER;CN="Mike Tandy":MAILTO:Tandy90@gmail.com
END:VEVENT
BEGIN:VEVENT
DTSTART;TZID=America/Indiana/Indianapolis:20270727T170000
DTEND;TZID=America/Indiana/Indianapolis:20270727T180000
DTSTAMP:20260420T150344
CREATED:20260413T150049Z
LAST-MODIFIED:20260413T150820Z
UID:10001213-1816707600-1816711200@woodruffplacebaptist.org
SUMMARY:Futsal Clinic Ages 5 - 12
DESCRIPTION:Join Coach Junior for free Futsal Training\, every Tuesday evening from 5pm – 6pm!
URL:https://woodruffplacebaptist.org/event/futsal-clinic-ages-5-12-4-2/2027-07-27/
LOCATION:Woodruff Place Church\, 1739 E Michigan St\, Indianapolis\, Indiana\, 46201\, United States
CATEGORIES:Tuesday
ATTACH;FMTTYPE=image/jpeg:https://woodruffplacebaptist.org/wp-content/uploads/2025/11/Revised-Futsol-Flyer-5-7-English.jpg
END:VEVENT
BEGIN:VEVENT
DTSTART;TZID=America/Indiana/Indianapolis:20270727T180000
DTEND;TZID=America/Indiana/Indianapolis:20270727T190000
DTSTAMP:20260420T150344
CREATED:20260413T150509Z
LAST-MODIFIED:20260413T150509Z
UID:10000956-1816711200-1816714800@woodruffplacebaptist.org
SUMMARY:Futsal Clinic Ages 13 & up
DESCRIPTION:Join Coach Junior for free Futsal Training\, every Tuesday evening from 6pm – 7pm!
URL:https://woodruffplacebaptist.org/event/futsal-clinic-ages-13-up-4-2/2027-07-27/
LOCATION:Woodruff Place Church\, 1739 E Michigan St\, Indianapolis\, Indiana\, 46201\, United States
CATEGORIES:Tuesday
ATTACH;FMTTYPE=image/jpeg:https://woodruffplacebaptist.org/wp-content/uploads/2025/11/Revised-Futsol-Flyer-5-7-English.jpg
END:VEVENT
BEGIN:VEVENT
DTSTART;TZID=America/Indiana/Indianapolis:20270728T170000
DTEND;TZID=America/Indiana/Indianapolis:20270728T190000
DTSTAMP:20260420T150344
CREATED:20251110T135440Z
LAST-MODIFIED:20251110T135440Z
UID:10003349-1816794000-1816801200@woodruffplacebaptist.org
SUMMARY:Closed - Blue Tiger Group
DESCRIPTION:For questions on involvement in this time\, please contact Mike Tandy.
URL:https://woodruffplacebaptist.org/event/closed-blue-tiger-group-2/2027-07-28/
LOCATION:Woodruff Place Church\, 1739 E Michigan St\, Indianapolis\, Indiana\, 46201\, United States
CATEGORIES:Wednesday
ORGANIZER;CN="Mike Tandy":MAILTO:Tandy90@gmail.com
END:VEVENT
END:VCALENDAR