BEGIN:VCALENDAR
VERSION:2.0
PRODID:-//Woodruff Place Baptist Church - ECPv6.15.18//NONSGML v1.0//EN
CALSCALE:GREGORIAN
METHOD:PUBLISH
X-ORIGINAL-URL:https://woodruffplacebaptist.org
X-WR-CALDESC:Events for Woodruff Place Baptist Church
REFRESH-INTERVAL;VALUE=DURATION:PT1H
X-Robots-Tag:noindex
X-PUBLISHED-TTL:PT1H
BEGIN:VTIMEZONE
TZID:America/Indiana/Indianapolis
BEGIN:DAYLIGHT
TZOFFSETFROM:-0500
TZOFFSETTO:-0400
TZNAME:EDT
DTSTART:20260308T070000
END:DAYLIGHT
BEGIN:STANDARD
TZOFFSETFROM:-0400
TZOFFSETTO:-0500
TZNAME:EST
DTSTART:20261101T060000
END:STANDARD
BEGIN:DAYLIGHT
TZOFFSETFROM:-0500
TZOFFSETTO:-0400
TZNAME:EDT
DTSTART:20270314T070000
END:DAYLIGHT
BEGIN:STANDARD
TZOFFSETFROM:-0400
TZOFFSETTO:-0500
TZNAME:EST
DTSTART:20271107T060000
END:STANDARD
BEGIN:DAYLIGHT
TZOFFSETFROM:-0500
TZOFFSETTO:-0400
TZNAME:EDT
DTSTART:20280312T070000
END:DAYLIGHT
BEGIN:STANDARD
TZOFFSETFROM:-0400
TZOFFSETTO:-0500
TZNAME:EST
DTSTART:20281105T060000
END:STANDARD
END:VTIMEZONE
BEGIN:VEVENT
DTSTART;TZID=America/Indiana/Indianapolis:20270405T170000
DTEND;TZID=America/Indiana/Indianapolis:20270405T190000
DTSTAMP:20260420T115741
CREATED:20251110T135227Z
LAST-MODIFIED:20251110T135227Z
UID:10003073-1806944400-1806951600@woodruffplacebaptist.org
SUMMARY:Closed - Blue Tiger Group
DESCRIPTION:For questions on involvement in this time\, please contact Mike Tandy.
URL:https://woodruffplacebaptist.org/event/closed-blue-tiger-group/2027-04-05/
LOCATION:Woodruff Place Church\, 1739 E Michigan St\, Indianapolis\, Indiana\, 46201\, United States
CATEGORIES:Monday
ORGANIZER;CN="Mike Tandy":MAILTO:Tandy90@gmail.com
END:VEVENT
BEGIN:VEVENT
DTSTART;TZID=America/Indiana/Indianapolis:20270406T170000
DTEND;TZID=America/Indiana/Indianapolis:20270406T180000
DTSTAMP:20260420T115741
CREATED:20260413T150049Z
LAST-MODIFIED:20260413T150820Z
UID:10001197-1807030800-1807034400@woodruffplacebaptist.org
SUMMARY:Futsal Clinic Ages 5 - 12
DESCRIPTION:Join Coach Junior for free Futsal Training\, every Tuesday evening from 5pm – 6pm!
URL:https://woodruffplacebaptist.org/event/futsal-clinic-ages-5-12-4-2/2027-04-06/
LOCATION:Woodruff Place Church\, 1739 E Michigan St\, Indianapolis\, Indiana\, 46201\, United States
CATEGORIES:Tuesday
ATTACH;FMTTYPE=image/jpeg:https://woodruffplacebaptist.org/wp-content/uploads/2025/11/Revised-Futsol-Flyer-5-7-English.jpg
END:VEVENT
BEGIN:VEVENT
DTSTART;TZID=America/Indiana/Indianapolis:20270406T180000
DTEND;TZID=America/Indiana/Indianapolis:20270406T190000
DTSTAMP:20260420T115741
CREATED:20260413T150509Z
LAST-MODIFIED:20260413T150509Z
UID:10000940-1807034400-1807038000@woodruffplacebaptist.org
SUMMARY:Futsal Clinic Ages 13 & up
DESCRIPTION:Join Coach Junior for free Futsal Training\, every Tuesday evening from 6pm – 7pm!
URL:https://woodruffplacebaptist.org/event/futsal-clinic-ages-13-up-4-2/2027-04-06/
LOCATION:Woodruff Place Church\, 1739 E Michigan St\, Indianapolis\, Indiana\, 46201\, United States
CATEGORIES:Tuesday
ATTACH;FMTTYPE=image/jpeg:https://woodruffplacebaptist.org/wp-content/uploads/2025/11/Revised-Futsol-Flyer-5-7-English.jpg
END:VEVENT
BEGIN:VEVENT
DTSTART;TZID=America/Indiana/Indianapolis:20270407T170000
DTEND;TZID=America/Indiana/Indianapolis:20270407T190000
DTSTAMP:20260420T115741
CREATED:20251110T135440Z
LAST-MODIFIED:20251110T135440Z
UID:10003333-1807117200-1807124400@woodruffplacebaptist.org
SUMMARY:Closed - Blue Tiger Group
DESCRIPTION:For questions on involvement in this time\, please contact Mike Tandy.
URL:https://woodruffplacebaptist.org/event/closed-blue-tiger-group-2/2027-04-07/
LOCATION:Woodruff Place Church\, 1739 E Michigan St\, Indianapolis\, Indiana\, 46201\, United States
CATEGORIES:Wednesday
ORGANIZER;CN="Mike Tandy":MAILTO:Tandy90@gmail.com
END:VEVENT
BEGIN:VEVENT
DTSTART;TZID=America/Indiana/Indianapolis:20270412T170000
DTEND;TZID=America/Indiana/Indianapolis:20270412T190000
DTSTAMP:20260420T115741
CREATED:20251110T135227Z
LAST-MODIFIED:20251110T135227Z
UID:10003074-1807549200-1807556400@woodruffplacebaptist.org
SUMMARY:Closed - Blue Tiger Group
DESCRIPTION:For questions on involvement in this time\, please contact Mike Tandy.
URL:https://woodruffplacebaptist.org/event/closed-blue-tiger-group/2027-04-12/
LOCATION:Woodruff Place Church\, 1739 E Michigan St\, Indianapolis\, Indiana\, 46201\, United States
CATEGORIES:Monday
ORGANIZER;CN="Mike Tandy":MAILTO:Tandy90@gmail.com
END:VEVENT
BEGIN:VEVENT
DTSTART;TZID=America/Indiana/Indianapolis:20270413T170000
DTEND;TZID=America/Indiana/Indianapolis:20270413T180000
DTSTAMP:20260420T115741
CREATED:20260413T150049Z
LAST-MODIFIED:20260413T150820Z
UID:10001198-1807635600-1807639200@woodruffplacebaptist.org
SUMMARY:Futsal Clinic Ages 5 - 12
DESCRIPTION:Join Coach Junior for free Futsal Training\, every Tuesday evening from 5pm – 6pm!
URL:https://woodruffplacebaptist.org/event/futsal-clinic-ages-5-12-4-2/2027-04-13/
LOCATION:Woodruff Place Church\, 1739 E Michigan St\, Indianapolis\, Indiana\, 46201\, United States
CATEGORIES:Tuesday
ATTACH;FMTTYPE=image/jpeg:https://woodruffplacebaptist.org/wp-content/uploads/2025/11/Revised-Futsol-Flyer-5-7-English.jpg
END:VEVENT
BEGIN:VEVENT
DTSTART;TZID=America/Indiana/Indianapolis:20270413T180000
DTEND;TZID=America/Indiana/Indianapolis:20270413T190000
DTSTAMP:20260420T115741
CREATED:20260413T150509Z
LAST-MODIFIED:20260413T150509Z
UID:10000941-1807639200-1807642800@woodruffplacebaptist.org
SUMMARY:Futsal Clinic Ages 13 & up
DESCRIPTION:Join Coach Junior for free Futsal Training\, every Tuesday evening from 6pm – 7pm!
URL:https://woodruffplacebaptist.org/event/futsal-clinic-ages-13-up-4-2/2027-04-13/
LOCATION:Woodruff Place Church\, 1739 E Michigan St\, Indianapolis\, Indiana\, 46201\, United States
CATEGORIES:Tuesday
ATTACH;FMTTYPE=image/jpeg:https://woodruffplacebaptist.org/wp-content/uploads/2025/11/Revised-Futsol-Flyer-5-7-English.jpg
END:VEVENT
BEGIN:VEVENT
DTSTART;TZID=America/Indiana/Indianapolis:20270414T170000
DTEND;TZID=America/Indiana/Indianapolis:20270414T190000
DTSTAMP:20260420T115741
CREATED:20251110T135440Z
LAST-MODIFIED:20251110T135440Z
UID:10003334-1807722000-1807729200@woodruffplacebaptist.org
SUMMARY:Closed - Blue Tiger Group
DESCRIPTION:For questions on involvement in this time\, please contact Mike Tandy.
URL:https://woodruffplacebaptist.org/event/closed-blue-tiger-group-2/2027-04-14/
LOCATION:Woodruff Place Church\, 1739 E Michigan St\, Indianapolis\, Indiana\, 46201\, United States
CATEGORIES:Wednesday
ORGANIZER;CN="Mike Tandy":MAILTO:Tandy90@gmail.com
END:VEVENT
BEGIN:VEVENT
DTSTART;TZID=America/Indiana/Indianapolis:20270419T170000
DTEND;TZID=America/Indiana/Indianapolis:20270419T190000
DTSTAMP:20260420T115741
CREATED:20251110T135227Z
LAST-MODIFIED:20251110T135227Z
UID:10003075-1808154000-1808161200@woodruffplacebaptist.org
SUMMARY:Closed - Blue Tiger Group
DESCRIPTION:For questions on involvement in this time\, please contact Mike Tandy.
URL:https://woodruffplacebaptist.org/event/closed-blue-tiger-group/2027-04-19/
LOCATION:Woodruff Place Church\, 1739 E Michigan St\, Indianapolis\, Indiana\, 46201\, United States
CATEGORIES:Monday
ORGANIZER;CN="Mike Tandy":MAILTO:Tandy90@gmail.com
END:VEVENT
BEGIN:VEVENT
DTSTART;TZID=America/Indiana/Indianapolis:20270420T170000
DTEND;TZID=America/Indiana/Indianapolis:20270420T180000
DTSTAMP:20260420T115741
CREATED:20260413T150049Z
LAST-MODIFIED:20260413T150820Z
UID:10001199-1808240400-1808244000@woodruffplacebaptist.org
SUMMARY:Futsal Clinic Ages 5 - 12
DESCRIPTION:Join Coach Junior for free Futsal Training\, every Tuesday evening from 5pm – 6pm!
URL:https://woodruffplacebaptist.org/event/futsal-clinic-ages-5-12-4-2/2027-04-20/
LOCATION:Woodruff Place Church\, 1739 E Michigan St\, Indianapolis\, Indiana\, 46201\, United States
CATEGORIES:Tuesday
ATTACH;FMTTYPE=image/jpeg:https://woodruffplacebaptist.org/wp-content/uploads/2025/11/Revised-Futsol-Flyer-5-7-English.jpg
END:VEVENT
BEGIN:VEVENT
DTSTART;TZID=America/Indiana/Indianapolis:20270420T180000
DTEND;TZID=America/Indiana/Indianapolis:20270420T190000
DTSTAMP:20260420T115741
CREATED:20260413T150509Z
LAST-MODIFIED:20260413T150509Z
UID:10000942-1808244000-1808247600@woodruffplacebaptist.org
SUMMARY:Futsal Clinic Ages 13 & up
DESCRIPTION:Join Coach Junior for free Futsal Training\, every Tuesday evening from 6pm – 7pm!
URL:https://woodruffplacebaptist.org/event/futsal-clinic-ages-13-up-4-2/2027-04-20/
LOCATION:Woodruff Place Church\, 1739 E Michigan St\, Indianapolis\, Indiana\, 46201\, United States
CATEGORIES:Tuesday
ATTACH;FMTTYPE=image/jpeg:https://woodruffplacebaptist.org/wp-content/uploads/2025/11/Revised-Futsol-Flyer-5-7-English.jpg
END:VEVENT
BEGIN:VEVENT
DTSTART;TZID=America/Indiana/Indianapolis:20270421T170000
DTEND;TZID=America/Indiana/Indianapolis:20270421T190000
DTSTAMP:20260420T115741
CREATED:20251110T135440Z
LAST-MODIFIED:20251110T135440Z
UID:10003335-1808326800-1808334000@woodruffplacebaptist.org
SUMMARY:Closed - Blue Tiger Group
DESCRIPTION:For questions on involvement in this time\, please contact Mike Tandy.
URL:https://woodruffplacebaptist.org/event/closed-blue-tiger-group-2/2027-04-21/
LOCATION:Woodruff Place Church\, 1739 E Michigan St\, Indianapolis\, Indiana\, 46201\, United States
CATEGORIES:Wednesday
ORGANIZER;CN="Mike Tandy":MAILTO:Tandy90@gmail.com
END:VEVENT
BEGIN:VEVENT
DTSTART;TZID=America/Indiana/Indianapolis:20270426T170000
DTEND;TZID=America/Indiana/Indianapolis:20270426T190000
DTSTAMP:20260420T115741
CREATED:20251110T135227Z
LAST-MODIFIED:20251110T135227Z
UID:10003076-1808758800-1808766000@woodruffplacebaptist.org
SUMMARY:Closed - Blue Tiger Group
DESCRIPTION:For questions on involvement in this time\, please contact Mike Tandy.
URL:https://woodruffplacebaptist.org/event/closed-blue-tiger-group/2027-04-26/
LOCATION:Woodruff Place Church\, 1739 E Michigan St\, Indianapolis\, Indiana\, 46201\, United States
CATEGORIES:Monday
ORGANIZER;CN="Mike Tandy":MAILTO:Tandy90@gmail.com
END:VEVENT
BEGIN:VEVENT
DTSTART;TZID=America/Indiana/Indianapolis:20270427T170000
DTEND;TZID=America/Indiana/Indianapolis:20270427T180000
DTSTAMP:20260420T115741
CREATED:20260413T150049Z
LAST-MODIFIED:20260413T150820Z
UID:10001200-1808845200-1808848800@woodruffplacebaptist.org
SUMMARY:Futsal Clinic Ages 5 - 12
DESCRIPTION:Join Coach Junior for free Futsal Training\, every Tuesday evening from 5pm – 6pm!
URL:https://woodruffplacebaptist.org/event/futsal-clinic-ages-5-12-4-2/2027-04-27/
LOCATION:Woodruff Place Church\, 1739 E Michigan St\, Indianapolis\, Indiana\, 46201\, United States
CATEGORIES:Tuesday
ATTACH;FMTTYPE=image/jpeg:https://woodruffplacebaptist.org/wp-content/uploads/2025/11/Revised-Futsol-Flyer-5-7-English.jpg
END:VEVENT
BEGIN:VEVENT
DTSTART;TZID=America/Indiana/Indianapolis:20270427T180000
DTEND;TZID=America/Indiana/Indianapolis:20270427T190000
DTSTAMP:20260420T115741
CREATED:20260413T150509Z
LAST-MODIFIED:20260413T150509Z
UID:10000943-1808848800-1808852400@woodruffplacebaptist.org
SUMMARY:Futsal Clinic Ages 13 & up
DESCRIPTION:Join Coach Junior for free Futsal Training\, every Tuesday evening from 6pm – 7pm!
URL:https://woodruffplacebaptist.org/event/futsal-clinic-ages-13-up-4-2/2027-04-27/
LOCATION:Woodruff Place Church\, 1739 E Michigan St\, Indianapolis\, Indiana\, 46201\, United States
CATEGORIES:Tuesday
ATTACH;FMTTYPE=image/jpeg:https://woodruffplacebaptist.org/wp-content/uploads/2025/11/Revised-Futsol-Flyer-5-7-English.jpg
END:VEVENT
BEGIN:VEVENT
DTSTART;TZID=America/Indiana/Indianapolis:20270428T170000
DTEND;TZID=America/Indiana/Indianapolis:20270428T190000
DTSTAMP:20260420T115741
CREATED:20251110T135440Z
LAST-MODIFIED:20251110T135440Z
UID:10003336-1808931600-1808938800@woodruffplacebaptist.org
SUMMARY:Closed - Blue Tiger Group
DESCRIPTION:For questions on involvement in this time\, please contact Mike Tandy.
URL:https://woodruffplacebaptist.org/event/closed-blue-tiger-group-2/2027-04-28/
LOCATION:Woodruff Place Church\, 1739 E Michigan St\, Indianapolis\, Indiana\, 46201\, United States
CATEGORIES:Wednesday
ORGANIZER;CN="Mike Tandy":MAILTO:Tandy90@gmail.com
END:VEVENT
END:VCALENDAR