BEGIN:VCALENDAR
VERSION:2.0
PRODID:-//Woodruff Place Baptist Church - ECPv6.15.18//NONSGML v1.0//EN
CALSCALE:GREGORIAN
METHOD:PUBLISH
X-ORIGINAL-URL:https://woodruffplacebaptist.org
X-WR-CALDESC:Events for Woodruff Place Baptist Church
REFRESH-INTERVAL;VALUE=DURATION:PT1H
X-Robots-Tag:noindex
X-PUBLISHED-TTL:PT1H
BEGIN:VTIMEZONE
TZID:America/Indiana/Indianapolis
BEGIN:DAYLIGHT
TZOFFSETFROM:-0500
TZOFFSETTO:-0400
TZNAME:EDT
DTSTART:20260308T070000
END:DAYLIGHT
BEGIN:STANDARD
TZOFFSETFROM:-0400
TZOFFSETTO:-0500
TZNAME:EST
DTSTART:20261101T060000
END:STANDARD
BEGIN:DAYLIGHT
TZOFFSETFROM:-0500
TZOFFSETTO:-0400
TZNAME:EDT
DTSTART:20270314T070000
END:DAYLIGHT
BEGIN:STANDARD
TZOFFSETFROM:-0400
TZOFFSETTO:-0500
TZNAME:EST
DTSTART:20271107T060000
END:STANDARD
BEGIN:DAYLIGHT
TZOFFSETFROM:-0500
TZOFFSETTO:-0400
TZNAME:EDT
DTSTART:20280312T070000
END:DAYLIGHT
BEGIN:STANDARD
TZOFFSETFROM:-0400
TZOFFSETTO:-0500
TZNAME:EST
DTSTART:20281105T060000
END:STANDARD
END:VTIMEZONE
BEGIN:VEVENT
DTSTART;TZID=America/Indiana/Indianapolis:20270211T170000
DTEND;TZID=America/Indiana/Indianapolis:20270211T200000
DTSTAMP:20260422T085640
CREATED:20251106T190923Z
LAST-MODIFIED:20251110T134727Z
UID:10002266-1802365200-1802376000@woodruffplacebaptist.org
SUMMARY:Body\, Mind\, Spirit - Upstairs
DESCRIPTION:Join Master Nate Miller for Body\, Mind\, & Spirit Tawkwondo! For questions please reach out.
URL:https://woodruffplacebaptist.org/event/body-mind-spirit-upstairs/2027-02-11/
LOCATION:Woodruff Place Church\, 1739 E Michigan St\, Indianapolis\, Indiana\, 46201\, United States
CATEGORIES:Thursday
ORGANIZER;CN="Nathan Miller":MAILTO:mindbodyspirit.tawkwondo@gmail.com
END:VEVENT
BEGIN:VEVENT
DTSTART;TZID=America/Indiana/Indianapolis:20270215T110000
DTEND;TZID=America/Indiana/Indianapolis:20270215T130000
DTSTAMP:20260422T085640
CREATED:20251106T190134Z
LAST-MODIFIED:20251106T191005Z
UID:10002005-1802689200-1802696400@woodruffplacebaptist.org
SUMMARY:Body\, Mind\, Spirit - Upstairs
DESCRIPTION:Join Master Nate Miller for Body\, Mind\, & Spirit Tawkwondo! For questions please reach out.
URL:https://woodruffplacebaptist.org/event/body-mind-spirit/2027-02-15/
LOCATION:Woodruff Place Church\, 1739 E Michigan St\, Indianapolis\, Indiana\, 46201\, United States
CATEGORIES:Monday
ATTACH;FMTTYPE=image/png:https://woodruffplacebaptist.org/wp-content/uploads/2025/11/307697928_133039132808907_7444946958828365739_n.png
ORGANIZER;CN="Nathan Miller":MAILTO:mindbodyspirit.tawkwondo@gmail.com
END:VEVENT
BEGIN:VEVENT
DTSTART;TZID=America/Indiana/Indianapolis:20270218T170000
DTEND;TZID=America/Indiana/Indianapolis:20270218T200000
DTSTAMP:20260422T085640
CREATED:20251106T190923Z
LAST-MODIFIED:20251110T134727Z
UID:10002267-1802970000-1802980800@woodruffplacebaptist.org
SUMMARY:Body\, Mind\, Spirit - Upstairs
DESCRIPTION:Join Master Nate Miller for Body\, Mind\, & Spirit Tawkwondo! For questions please reach out.
URL:https://woodruffplacebaptist.org/event/body-mind-spirit-upstairs/2027-02-18/
LOCATION:Woodruff Place Church\, 1739 E Michigan St\, Indianapolis\, Indiana\, 46201\, United States
CATEGORIES:Thursday
ORGANIZER;CN="Nathan Miller":MAILTO:mindbodyspirit.tawkwondo@gmail.com
END:VEVENT
BEGIN:VEVENT
DTSTART;TZID=America/Indiana/Indianapolis:20270222T110000
DTEND;TZID=America/Indiana/Indianapolis:20270222T130000
DTSTAMP:20260422T085640
CREATED:20251106T190134Z
LAST-MODIFIED:20251106T191005Z
UID:10002006-1803294000-1803301200@woodruffplacebaptist.org
SUMMARY:Body\, Mind\, Spirit - Upstairs
DESCRIPTION:Join Master Nate Miller for Body\, Mind\, & Spirit Tawkwondo! For questions please reach out.
URL:https://woodruffplacebaptist.org/event/body-mind-spirit/2027-02-22/
LOCATION:Woodruff Place Church\, 1739 E Michigan St\, Indianapolis\, Indiana\, 46201\, United States
CATEGORIES:Monday
ATTACH;FMTTYPE=image/png:https://woodruffplacebaptist.org/wp-content/uploads/2025/11/307697928_133039132808907_7444946958828365739_n.png
ORGANIZER;CN="Nathan Miller":MAILTO:mindbodyspirit.tawkwondo@gmail.com
END:VEVENT
BEGIN:VEVENT
DTSTART;TZID=America/Indiana/Indianapolis:20270225T170000
DTEND;TZID=America/Indiana/Indianapolis:20270225T200000
DTSTAMP:20260422T085640
CREATED:20251106T190923Z
LAST-MODIFIED:20251110T134727Z
UID:10002268-1803574800-1803585600@woodruffplacebaptist.org
SUMMARY:Body\, Mind\, Spirit - Upstairs
DESCRIPTION:Join Master Nate Miller for Body\, Mind\, & Spirit Tawkwondo! For questions please reach out.
URL:https://woodruffplacebaptist.org/event/body-mind-spirit-upstairs/2027-02-25/
LOCATION:Woodruff Place Church\, 1739 E Michigan St\, Indianapolis\, Indiana\, 46201\, United States
CATEGORIES:Thursday
ORGANIZER;CN="Nathan Miller":MAILTO:mindbodyspirit.tawkwondo@gmail.com
END:VEVENT
BEGIN:VEVENT
DTSTART;TZID=America/Indiana/Indianapolis:20270301T110000
DTEND;TZID=America/Indiana/Indianapolis:20270301T130000
DTSTAMP:20260422T085640
CREATED:20251106T190134Z
LAST-MODIFIED:20251106T191005Z
UID:10002007-1803898800-1803906000@woodruffplacebaptist.org
SUMMARY:Body\, Mind\, Spirit - Upstairs
DESCRIPTION:Join Master Nate Miller for Body\, Mind\, & Spirit Tawkwondo! For questions please reach out.
URL:https://woodruffplacebaptist.org/event/body-mind-spirit/2027-03-01/
LOCATION:Woodruff Place Church\, 1739 E Michigan St\, Indianapolis\, Indiana\, 46201\, United States
CATEGORIES:Monday
ATTACH;FMTTYPE=image/png:https://woodruffplacebaptist.org/wp-content/uploads/2025/11/307697928_133039132808907_7444946958828365739_n.png
ORGANIZER;CN="Nathan Miller":MAILTO:mindbodyspirit.tawkwondo@gmail.com
END:VEVENT
BEGIN:VEVENT
DTSTART;TZID=America/Indiana/Indianapolis:20270304T170000
DTEND;TZID=America/Indiana/Indianapolis:20270304T200000
DTSTAMP:20260422T085640
CREATED:20251106T190923Z
LAST-MODIFIED:20251110T134727Z
UID:10002269-1804179600-1804190400@woodruffplacebaptist.org
SUMMARY:Body\, Mind\, Spirit - Upstairs
DESCRIPTION:Join Master Nate Miller for Body\, Mind\, & Spirit Tawkwondo! For questions please reach out.
URL:https://woodruffplacebaptist.org/event/body-mind-spirit-upstairs/2027-03-04/
LOCATION:Woodruff Place Church\, 1739 E Michigan St\, Indianapolis\, Indiana\, 46201\, United States
CATEGORIES:Thursday
ORGANIZER;CN="Nathan Miller":MAILTO:mindbodyspirit.tawkwondo@gmail.com
END:VEVENT
BEGIN:VEVENT
DTSTART;TZID=America/Indiana/Indianapolis:20270308T110000
DTEND;TZID=America/Indiana/Indianapolis:20270308T130000
DTSTAMP:20260422T085640
CREATED:20251106T190134Z
LAST-MODIFIED:20251106T191005Z
UID:10002008-1804503600-1804510800@woodruffplacebaptist.org
SUMMARY:Body\, Mind\, Spirit - Upstairs
DESCRIPTION:Join Master Nate Miller for Body\, Mind\, & Spirit Tawkwondo! For questions please reach out.
URL:https://woodruffplacebaptist.org/event/body-mind-spirit/2027-03-08/
LOCATION:Woodruff Place Church\, 1739 E Michigan St\, Indianapolis\, Indiana\, 46201\, United States
CATEGORIES:Monday
ATTACH;FMTTYPE=image/png:https://woodruffplacebaptist.org/wp-content/uploads/2025/11/307697928_133039132808907_7444946958828365739_n.png
ORGANIZER;CN="Nathan Miller":MAILTO:mindbodyspirit.tawkwondo@gmail.com
END:VEVENT
BEGIN:VEVENT
DTSTART;TZID=America/Indiana/Indianapolis:20270311T170000
DTEND;TZID=America/Indiana/Indianapolis:20270311T200000
DTSTAMP:20260422T085640
CREATED:20251106T190923Z
LAST-MODIFIED:20251110T134727Z
UID:10002270-1804784400-1804795200@woodruffplacebaptist.org
SUMMARY:Body\, Mind\, Spirit - Upstairs
DESCRIPTION:Join Master Nate Miller for Body\, Mind\, & Spirit Tawkwondo! For questions please reach out.
URL:https://woodruffplacebaptist.org/event/body-mind-spirit-upstairs/2027-03-11/
LOCATION:Woodruff Place Church\, 1739 E Michigan St\, Indianapolis\, Indiana\, 46201\, United States
CATEGORIES:Thursday
ORGANIZER;CN="Nathan Miller":MAILTO:mindbodyspirit.tawkwondo@gmail.com
END:VEVENT
BEGIN:VEVENT
DTSTART;TZID=America/Indiana/Indianapolis:20270315T110000
DTEND;TZID=America/Indiana/Indianapolis:20270315T130000
DTSTAMP:20260422T085640
CREATED:20251106T190134Z
LAST-MODIFIED:20251106T191005Z
UID:10002009-1805108400-1805115600@woodruffplacebaptist.org
SUMMARY:Body\, Mind\, Spirit - Upstairs
DESCRIPTION:Join Master Nate Miller for Body\, Mind\, & Spirit Tawkwondo! For questions please reach out.
URL:https://woodruffplacebaptist.org/event/body-mind-spirit/2027-03-15/
LOCATION:Woodruff Place Church\, 1739 E Michigan St\, Indianapolis\, Indiana\, 46201\, United States
CATEGORIES:Monday
ATTACH;FMTTYPE=image/png:https://woodruffplacebaptist.org/wp-content/uploads/2025/11/307697928_133039132808907_7444946958828365739_n.png
ORGANIZER;CN="Nathan Miller":MAILTO:mindbodyspirit.tawkwondo@gmail.com
END:VEVENT
BEGIN:VEVENT
DTSTART;TZID=America/Indiana/Indianapolis:20270318T170000
DTEND;TZID=America/Indiana/Indianapolis:20270318T200000
DTSTAMP:20260422T085640
CREATED:20251106T190923Z
LAST-MODIFIED:20251110T134727Z
UID:10002271-1805389200-1805400000@woodruffplacebaptist.org
SUMMARY:Body\, Mind\, Spirit - Upstairs
DESCRIPTION:Join Master Nate Miller for Body\, Mind\, & Spirit Tawkwondo! For questions please reach out.
URL:https://woodruffplacebaptist.org/event/body-mind-spirit-upstairs/2027-03-18/
LOCATION:Woodruff Place Church\, 1739 E Michigan St\, Indianapolis\, Indiana\, 46201\, United States
CATEGORIES:Thursday
ORGANIZER;CN="Nathan Miller":MAILTO:mindbodyspirit.tawkwondo@gmail.com
END:VEVENT
BEGIN:VEVENT
DTSTART;TZID=America/Indiana/Indianapolis:20270322T110000
DTEND;TZID=America/Indiana/Indianapolis:20270322T130000
DTSTAMP:20260422T085640
CREATED:20251106T190134Z
LAST-MODIFIED:20251106T191005Z
UID:10002010-1805713200-1805720400@woodruffplacebaptist.org
SUMMARY:Body\, Mind\, Spirit - Upstairs
DESCRIPTION:Join Master Nate Miller for Body\, Mind\, & Spirit Tawkwondo! For questions please reach out.
URL:https://woodruffplacebaptist.org/event/body-mind-spirit/2027-03-22/
LOCATION:Woodruff Place Church\, 1739 E Michigan St\, Indianapolis\, Indiana\, 46201\, United States
CATEGORIES:Monday
ATTACH;FMTTYPE=image/png:https://woodruffplacebaptist.org/wp-content/uploads/2025/11/307697928_133039132808907_7444946958828365739_n.png
ORGANIZER;CN="Nathan Miller":MAILTO:mindbodyspirit.tawkwondo@gmail.com
END:VEVENT
BEGIN:VEVENT
DTSTART;TZID=America/Indiana/Indianapolis:20270325T170000
DTEND;TZID=America/Indiana/Indianapolis:20270325T200000
DTSTAMP:20260422T085640
CREATED:20251106T190923Z
LAST-MODIFIED:20251110T134727Z
UID:10002272-1805994000-1806004800@woodruffplacebaptist.org
SUMMARY:Body\, Mind\, Spirit - Upstairs
DESCRIPTION:Join Master Nate Miller for Body\, Mind\, & Spirit Tawkwondo! For questions please reach out.
URL:https://woodruffplacebaptist.org/event/body-mind-spirit-upstairs/2027-03-25/
LOCATION:Woodruff Place Church\, 1739 E Michigan St\, Indianapolis\, Indiana\, 46201\, United States
CATEGORIES:Thursday
ORGANIZER;CN="Nathan Miller":MAILTO:mindbodyspirit.tawkwondo@gmail.com
END:VEVENT
BEGIN:VEVENT
DTSTART;TZID=America/Indiana/Indianapolis:20270329T110000
DTEND;TZID=America/Indiana/Indianapolis:20270329T130000
DTSTAMP:20260422T085640
CREATED:20251106T190134Z
LAST-MODIFIED:20251106T191005Z
UID:10002011-1806318000-1806325200@woodruffplacebaptist.org
SUMMARY:Body\, Mind\, Spirit - Upstairs
DESCRIPTION:Join Master Nate Miller for Body\, Mind\, & Spirit Tawkwondo! For questions please reach out.
URL:https://woodruffplacebaptist.org/event/body-mind-spirit/2027-03-29/
LOCATION:Woodruff Place Church\, 1739 E Michigan St\, Indianapolis\, Indiana\, 46201\, United States
CATEGORIES:Monday
ATTACH;FMTTYPE=image/png:https://woodruffplacebaptist.org/wp-content/uploads/2025/11/307697928_133039132808907_7444946958828365739_n.png
ORGANIZER;CN="Nathan Miller":MAILTO:mindbodyspirit.tawkwondo@gmail.com
END:VEVENT
BEGIN:VEVENT
DTSTART;TZID=America/Indiana/Indianapolis:20270401T170000
DTEND;TZID=America/Indiana/Indianapolis:20270401T200000
DTSTAMP:20260422T085640
CREATED:20251106T190923Z
LAST-MODIFIED:20251110T134727Z
UID:10002273-1806598800-1806609600@woodruffplacebaptist.org
SUMMARY:Body\, Mind\, Spirit - Upstairs
DESCRIPTION:Join Master Nate Miller for Body\, Mind\, & Spirit Tawkwondo! For questions please reach out.
URL:https://woodruffplacebaptist.org/event/body-mind-spirit-upstairs/2027-04-01/
LOCATION:Woodruff Place Church\, 1739 E Michigan St\, Indianapolis\, Indiana\, 46201\, United States
CATEGORIES:Thursday
ORGANIZER;CN="Nathan Miller":MAILTO:mindbodyspirit.tawkwondo@gmail.com
END:VEVENT
BEGIN:VEVENT
DTSTART;TZID=America/Indiana/Indianapolis:20270405T110000
DTEND;TZID=America/Indiana/Indianapolis:20270405T130000
DTSTAMP:20260422T085640
CREATED:20251106T190134Z
LAST-MODIFIED:20251106T191005Z
UID:10002012-1806922800-1806930000@woodruffplacebaptist.org
SUMMARY:Body\, Mind\, Spirit - Upstairs
DESCRIPTION:Join Master Nate Miller for Body\, Mind\, & Spirit Tawkwondo! For questions please reach out.
URL:https://woodruffplacebaptist.org/event/body-mind-spirit/2027-04-05/
LOCATION:Woodruff Place Church\, 1739 E Michigan St\, Indianapolis\, Indiana\, 46201\, United States
CATEGORIES:Monday
ATTACH;FMTTYPE=image/png:https://woodruffplacebaptist.org/wp-content/uploads/2025/11/307697928_133039132808907_7444946958828365739_n.png
ORGANIZER;CN="Nathan Miller":MAILTO:mindbodyspirit.tawkwondo@gmail.com
END:VEVENT
BEGIN:VEVENT
DTSTART;TZID=America/Indiana/Indianapolis:20270408T170000
DTEND;TZID=America/Indiana/Indianapolis:20270408T200000
DTSTAMP:20260422T085640
CREATED:20251106T190923Z
LAST-MODIFIED:20251110T134727Z
UID:10002274-1807203600-1807214400@woodruffplacebaptist.org
SUMMARY:Body\, Mind\, Spirit - Upstairs
DESCRIPTION:Join Master Nate Miller for Body\, Mind\, & Spirit Tawkwondo! For questions please reach out.
URL:https://woodruffplacebaptist.org/event/body-mind-spirit-upstairs/2027-04-08/
LOCATION:Woodruff Place Church\, 1739 E Michigan St\, Indianapolis\, Indiana\, 46201\, United States
CATEGORIES:Thursday
ORGANIZER;CN="Nathan Miller":MAILTO:mindbodyspirit.tawkwondo@gmail.com
END:VEVENT
BEGIN:VEVENT
DTSTART;TZID=America/Indiana/Indianapolis:20270412T110000
DTEND;TZID=America/Indiana/Indianapolis:20270412T130000
DTSTAMP:20260422T085640
CREATED:20251106T190134Z
LAST-MODIFIED:20251106T191005Z
UID:10002013-1807527600-1807534800@woodruffplacebaptist.org
SUMMARY:Body\, Mind\, Spirit - Upstairs
DESCRIPTION:Join Master Nate Miller for Body\, Mind\, & Spirit Tawkwondo! For questions please reach out.
URL:https://woodruffplacebaptist.org/event/body-mind-spirit/2027-04-12/
LOCATION:Woodruff Place Church\, 1739 E Michigan St\, Indianapolis\, Indiana\, 46201\, United States
CATEGORIES:Monday
ATTACH;FMTTYPE=image/png:https://woodruffplacebaptist.org/wp-content/uploads/2025/11/307697928_133039132808907_7444946958828365739_n.png
ORGANIZER;CN="Nathan Miller":MAILTO:mindbodyspirit.tawkwondo@gmail.com
END:VEVENT
BEGIN:VEVENT
DTSTART;TZID=America/Indiana/Indianapolis:20270415T170000
DTEND;TZID=America/Indiana/Indianapolis:20270415T200000
DTSTAMP:20260422T085640
CREATED:20251106T190923Z
LAST-MODIFIED:20251110T134727Z
UID:10002275-1807808400-1807819200@woodruffplacebaptist.org
SUMMARY:Body\, Mind\, Spirit - Upstairs
DESCRIPTION:Join Master Nate Miller for Body\, Mind\, & Spirit Tawkwondo! For questions please reach out.
URL:https://woodruffplacebaptist.org/event/body-mind-spirit-upstairs/2027-04-15/
LOCATION:Woodruff Place Church\, 1739 E Michigan St\, Indianapolis\, Indiana\, 46201\, United States
CATEGORIES:Thursday
ORGANIZER;CN="Nathan Miller":MAILTO:mindbodyspirit.tawkwondo@gmail.com
END:VEVENT
BEGIN:VEVENT
DTSTART;TZID=America/Indiana/Indianapolis:20270419T110000
DTEND;TZID=America/Indiana/Indianapolis:20270419T130000
DTSTAMP:20260422T085640
CREATED:20251106T190134Z
LAST-MODIFIED:20251106T191005Z
UID:10002014-1808132400-1808139600@woodruffplacebaptist.org
SUMMARY:Body\, Mind\, Spirit - Upstairs
DESCRIPTION:Join Master Nate Miller for Body\, Mind\, & Spirit Tawkwondo! For questions please reach out.
URL:https://woodruffplacebaptist.org/event/body-mind-spirit/2027-04-19/
LOCATION:Woodruff Place Church\, 1739 E Michigan St\, Indianapolis\, Indiana\, 46201\, United States
CATEGORIES:Monday
ATTACH;FMTTYPE=image/png:https://woodruffplacebaptist.org/wp-content/uploads/2025/11/307697928_133039132808907_7444946958828365739_n.png
ORGANIZER;CN="Nathan Miller":MAILTO:mindbodyspirit.tawkwondo@gmail.com
END:VEVENT
BEGIN:VEVENT
DTSTART;TZID=America/Indiana/Indianapolis:20270422T170000
DTEND;TZID=America/Indiana/Indianapolis:20270422T200000
DTSTAMP:20260422T085640
CREATED:20251106T190923Z
LAST-MODIFIED:20251110T134727Z
UID:10002276-1808413200-1808424000@woodruffplacebaptist.org
SUMMARY:Body\, Mind\, Spirit - Upstairs
DESCRIPTION:Join Master Nate Miller for Body\, Mind\, & Spirit Tawkwondo! For questions please reach out.
URL:https://woodruffplacebaptist.org/event/body-mind-spirit-upstairs/2027-04-22/
LOCATION:Woodruff Place Church\, 1739 E Michigan St\, Indianapolis\, Indiana\, 46201\, United States
CATEGORIES:Thursday
ORGANIZER;CN="Nathan Miller":MAILTO:mindbodyspirit.tawkwondo@gmail.com
END:VEVENT
BEGIN:VEVENT
DTSTART;TZID=America/Indiana/Indianapolis:20270426T110000
DTEND;TZID=America/Indiana/Indianapolis:20270426T130000
DTSTAMP:20260422T085640
CREATED:20251106T190134Z
LAST-MODIFIED:20251106T191005Z
UID:10002015-1808737200-1808744400@woodruffplacebaptist.org
SUMMARY:Body\, Mind\, Spirit - Upstairs
DESCRIPTION:Join Master Nate Miller for Body\, Mind\, & Spirit Tawkwondo! For questions please reach out.
URL:https://woodruffplacebaptist.org/event/body-mind-spirit/2027-04-26/
LOCATION:Woodruff Place Church\, 1739 E Michigan St\, Indianapolis\, Indiana\, 46201\, United States
CATEGORIES:Monday
ATTACH;FMTTYPE=image/png:https://woodruffplacebaptist.org/wp-content/uploads/2025/11/307697928_133039132808907_7444946958828365739_n.png
ORGANIZER;CN="Nathan Miller":MAILTO:mindbodyspirit.tawkwondo@gmail.com
END:VEVENT
BEGIN:VEVENT
DTSTART;TZID=America/Indiana/Indianapolis:20270429T170000
DTEND;TZID=America/Indiana/Indianapolis:20270429T200000
DTSTAMP:20260422T085640
CREATED:20251106T190923Z
LAST-MODIFIED:20251110T134727Z
UID:10002277-1809018000-1809028800@woodruffplacebaptist.org
SUMMARY:Body\, Mind\, Spirit - Upstairs
DESCRIPTION:Join Master Nate Miller for Body\, Mind\, & Spirit Tawkwondo! For questions please reach out.
URL:https://woodruffplacebaptist.org/event/body-mind-spirit-upstairs/2027-04-29/
LOCATION:Woodruff Place Church\, 1739 E Michigan St\, Indianapolis\, Indiana\, 46201\, United States
CATEGORIES:Thursday
ORGANIZER;CN="Nathan Miller":MAILTO:mindbodyspirit.tawkwondo@gmail.com
END:VEVENT
BEGIN:VEVENT
DTSTART;TZID=America/Indiana/Indianapolis:20270503T110000
DTEND;TZID=America/Indiana/Indianapolis:20270503T130000
DTSTAMP:20260422T085640
CREATED:20251106T190134Z
LAST-MODIFIED:20251106T191005Z
UID:10002016-1809342000-1809349200@woodruffplacebaptist.org
SUMMARY:Body\, Mind\, Spirit - Upstairs
DESCRIPTION:Join Master Nate Miller for Body\, Mind\, & Spirit Tawkwondo! For questions please reach out.
URL:https://woodruffplacebaptist.org/event/body-mind-spirit/2027-05-03/
LOCATION:Woodruff Place Church\, 1739 E Michigan St\, Indianapolis\, Indiana\, 46201\, United States
CATEGORIES:Monday
ATTACH;FMTTYPE=image/png:https://woodruffplacebaptist.org/wp-content/uploads/2025/11/307697928_133039132808907_7444946958828365739_n.png
ORGANIZER;CN="Nathan Miller":MAILTO:mindbodyspirit.tawkwondo@gmail.com
END:VEVENT
BEGIN:VEVENT
DTSTART;TZID=America/Indiana/Indianapolis:20270506T170000
DTEND;TZID=America/Indiana/Indianapolis:20270506T200000
DTSTAMP:20260422T085640
CREATED:20251106T190923Z
LAST-MODIFIED:20251110T134727Z
UID:10002278-1809622800-1809633600@woodruffplacebaptist.org
SUMMARY:Body\, Mind\, Spirit - Upstairs
DESCRIPTION:Join Master Nate Miller for Body\, Mind\, & Spirit Tawkwondo! For questions please reach out.
URL:https://woodruffplacebaptist.org/event/body-mind-spirit-upstairs/2027-05-06/
LOCATION:Woodruff Place Church\, 1739 E Michigan St\, Indianapolis\, Indiana\, 46201\, United States
CATEGORIES:Thursday
ORGANIZER;CN="Nathan Miller":MAILTO:mindbodyspirit.tawkwondo@gmail.com
END:VEVENT
BEGIN:VEVENT
DTSTART;TZID=America/Indiana/Indianapolis:20270510T110000
DTEND;TZID=America/Indiana/Indianapolis:20270510T130000
DTSTAMP:20260422T085640
CREATED:20251106T190134Z
LAST-MODIFIED:20251106T191005Z
UID:10002017-1809946800-1809954000@woodruffplacebaptist.org
SUMMARY:Body\, Mind\, Spirit - Upstairs
DESCRIPTION:Join Master Nate Miller for Body\, Mind\, & Spirit Tawkwondo! For questions please reach out.
URL:https://woodruffplacebaptist.org/event/body-mind-spirit/2027-05-10/
LOCATION:Woodruff Place Church\, 1739 E Michigan St\, Indianapolis\, Indiana\, 46201\, United States
CATEGORIES:Monday
ATTACH;FMTTYPE=image/png:https://woodruffplacebaptist.org/wp-content/uploads/2025/11/307697928_133039132808907_7444946958828365739_n.png
ORGANIZER;CN="Nathan Miller":MAILTO:mindbodyspirit.tawkwondo@gmail.com
END:VEVENT
BEGIN:VEVENT
DTSTART;TZID=America/Indiana/Indianapolis:20270513T170000
DTEND;TZID=America/Indiana/Indianapolis:20270513T200000
DTSTAMP:20260422T085640
CREATED:20251106T190923Z
LAST-MODIFIED:20251110T134727Z
UID:10002279-1810227600-1810238400@woodruffplacebaptist.org
SUMMARY:Body\, Mind\, Spirit - Upstairs
DESCRIPTION:Join Master Nate Miller for Body\, Mind\, & Spirit Tawkwondo! For questions please reach out.
URL:https://woodruffplacebaptist.org/event/body-mind-spirit-upstairs/2027-05-13/
LOCATION:Woodruff Place Church\, 1739 E Michigan St\, Indianapolis\, Indiana\, 46201\, United States
CATEGORIES:Thursday
ORGANIZER;CN="Nathan Miller":MAILTO:mindbodyspirit.tawkwondo@gmail.com
END:VEVENT
BEGIN:VEVENT
DTSTART;TZID=America/Indiana/Indianapolis:20270517T110000
DTEND;TZID=America/Indiana/Indianapolis:20270517T130000
DTSTAMP:20260422T085640
CREATED:20251106T190134Z
LAST-MODIFIED:20251106T191005Z
UID:10002018-1810551600-1810558800@woodruffplacebaptist.org
SUMMARY:Body\, Mind\, Spirit - Upstairs
DESCRIPTION:Join Master Nate Miller for Body\, Mind\, & Spirit Tawkwondo! For questions please reach out.
URL:https://woodruffplacebaptist.org/event/body-mind-spirit/2027-05-17/
LOCATION:Woodruff Place Church\, 1739 E Michigan St\, Indianapolis\, Indiana\, 46201\, United States
CATEGORIES:Monday
ATTACH;FMTTYPE=image/png:https://woodruffplacebaptist.org/wp-content/uploads/2025/11/307697928_133039132808907_7444946958828365739_n.png
ORGANIZER;CN="Nathan Miller":MAILTO:mindbodyspirit.tawkwondo@gmail.com
END:VEVENT
BEGIN:VEVENT
DTSTART;TZID=America/Indiana/Indianapolis:20270520T170000
DTEND;TZID=America/Indiana/Indianapolis:20270520T200000
DTSTAMP:20260422T085640
CREATED:20251106T190923Z
LAST-MODIFIED:20251110T134727Z
UID:10002280-1810832400-1810843200@woodruffplacebaptist.org
SUMMARY:Body\, Mind\, Spirit - Upstairs
DESCRIPTION:Join Master Nate Miller for Body\, Mind\, & Spirit Tawkwondo! For questions please reach out.
URL:https://woodruffplacebaptist.org/event/body-mind-spirit-upstairs/2027-05-20/
LOCATION:Woodruff Place Church\, 1739 E Michigan St\, Indianapolis\, Indiana\, 46201\, United States
CATEGORIES:Thursday
ORGANIZER;CN="Nathan Miller":MAILTO:mindbodyspirit.tawkwondo@gmail.com
END:VEVENT
BEGIN:VEVENT
DTSTART;TZID=America/Indiana/Indianapolis:20270524T110000
DTEND;TZID=America/Indiana/Indianapolis:20270524T130000
DTSTAMP:20260422T085640
CREATED:20251106T190134Z
LAST-MODIFIED:20251106T191005Z
UID:10002019-1811156400-1811163600@woodruffplacebaptist.org
SUMMARY:Body\, Mind\, Spirit - Upstairs
DESCRIPTION:Join Master Nate Miller for Body\, Mind\, & Spirit Tawkwondo! For questions please reach out.
URL:https://woodruffplacebaptist.org/event/body-mind-spirit/2027-05-24/
LOCATION:Woodruff Place Church\, 1739 E Michigan St\, Indianapolis\, Indiana\, 46201\, United States
CATEGORIES:Monday
ATTACH;FMTTYPE=image/png:https://woodruffplacebaptist.org/wp-content/uploads/2025/11/307697928_133039132808907_7444946958828365739_n.png
ORGANIZER;CN="Nathan Miller":MAILTO:mindbodyspirit.tawkwondo@gmail.com
END:VEVENT
END:VCALENDAR