BEGIN:VCALENDAR
VERSION:2.0
PRODID:-//Woodruff Place Baptist Church - ECPv6.15.18//NONSGML v1.0//EN
CALSCALE:GREGORIAN
METHOD:PUBLISH
X-ORIGINAL-URL:https://woodruffplacebaptist.org
X-WR-CALDESC:Events for Woodruff Place Baptist Church
REFRESH-INTERVAL;VALUE=DURATION:PT1H
X-Robots-Tag:noindex
X-PUBLISHED-TTL:PT1H
BEGIN:VTIMEZONE
TZID:America/Indiana/Indianapolis
BEGIN:DAYLIGHT
TZOFFSETFROM:-0500
TZOFFSETTO:-0400
TZNAME:EDT
DTSTART:20260308T070000
END:DAYLIGHT
BEGIN:STANDARD
TZOFFSETFROM:-0400
TZOFFSETTO:-0500
TZNAME:EST
DTSTART:20261101T060000
END:STANDARD
BEGIN:DAYLIGHT
TZOFFSETFROM:-0500
TZOFFSETTO:-0400
TZNAME:EDT
DTSTART:20270314T070000
END:DAYLIGHT
BEGIN:STANDARD
TZOFFSETFROM:-0400
TZOFFSETTO:-0500
TZNAME:EST
DTSTART:20271107T060000
END:STANDARD
BEGIN:DAYLIGHT
TZOFFSETFROM:-0500
TZOFFSETTO:-0400
TZNAME:EDT
DTSTART:20280312T070000
END:DAYLIGHT
BEGIN:STANDARD
TZOFFSETFROM:-0400
TZOFFSETTO:-0500
TZNAME:EST
DTSTART:20281105T060000
END:STANDARD
END:VTIMEZONE
BEGIN:VEVENT
DTSTART;TZID=America/Indiana/Indianapolis:20270407T183000
DTEND;TZID=America/Indiana/Indianapolis:20270407T200000
DTSTAMP:20260422T074257
CREATED:20251106T151627Z
LAST-MODIFIED:20251110T135633Z
UID:10001751-1807122600-1807128000@woodruffplacebaptist.org
SUMMARY:Missional Community
DESCRIPTION:
URL:https://woodruffplacebaptist.org/event/missional-community/2027-04-07/
CATEGORIES:Wednesday
ATTACH;FMTTYPE=image/jpeg:https://woodruffplacebaptist.org/wp-content/uploads/2025/11/3.23.2025_-Sunday-Slides_March-2025.jpg
END:VEVENT
BEGIN:VEVENT
DTSTART;TZID=America/Indiana/Indianapolis:20270414T183000
DTEND;TZID=America/Indiana/Indianapolis:20270414T200000
DTSTAMP:20260422T074257
CREATED:20251106T151627Z
LAST-MODIFIED:20251110T135633Z
UID:10001752-1807727400-1807732800@woodruffplacebaptist.org
SUMMARY:Missional Community
DESCRIPTION:
URL:https://woodruffplacebaptist.org/event/missional-community/2027-04-14/
CATEGORIES:Wednesday
ATTACH;FMTTYPE=image/jpeg:https://woodruffplacebaptist.org/wp-content/uploads/2025/11/3.23.2025_-Sunday-Slides_March-2025.jpg
END:VEVENT
BEGIN:VEVENT
DTSTART;TZID=America/Indiana/Indianapolis:20270421T183000
DTEND;TZID=America/Indiana/Indianapolis:20270421T200000
DTSTAMP:20260422T074257
CREATED:20251106T151627Z
LAST-MODIFIED:20251110T135633Z
UID:10001753-1808332200-1808337600@woodruffplacebaptist.org
SUMMARY:Missional Community
DESCRIPTION:
URL:https://woodruffplacebaptist.org/event/missional-community/2027-04-21/
CATEGORIES:Wednesday
ATTACH;FMTTYPE=image/jpeg:https://woodruffplacebaptist.org/wp-content/uploads/2025/11/3.23.2025_-Sunday-Slides_March-2025.jpg
END:VEVENT
BEGIN:VEVENT
DTSTART;TZID=America/Indiana/Indianapolis:20270428T183000
DTEND;TZID=America/Indiana/Indianapolis:20270428T200000
DTSTAMP:20260422T074257
CREATED:20251106T151627Z
LAST-MODIFIED:20251110T135633Z
UID:10001754-1808937000-1808942400@woodruffplacebaptist.org
SUMMARY:Missional Community
DESCRIPTION:
URL:https://woodruffplacebaptist.org/event/missional-community/2027-04-28/
CATEGORIES:Wednesday
ATTACH;FMTTYPE=image/jpeg:https://woodruffplacebaptist.org/wp-content/uploads/2025/11/3.23.2025_-Sunday-Slides_March-2025.jpg
END:VEVENT
END:VCALENDAR