BEGIN:VCALENDAR
VERSION:2.0
PRODID:-//Woodruff Place Baptist Church - ECPv6.15.18//NONSGML v1.0//EN
CALSCALE:GREGORIAN
METHOD:PUBLISH
X-WR-CALNAME:Woodruff Place Baptist Church
X-ORIGINAL-URL:https://woodruffplacebaptist.org
X-WR-CALDESC:Events for Woodruff Place Baptist Church
REFRESH-INTERVAL;VALUE=DURATION:PT1H
X-Robots-Tag:noindex
X-PUBLISHED-TTL:PT1H
BEGIN:VTIMEZONE
TZID:America/Indiana/Indianapolis
BEGIN:DAYLIGHT
TZOFFSETFROM:-0500
TZOFFSETTO:-0400
TZNAME:EDT
DTSTART:20260308T070000
END:DAYLIGHT
BEGIN:STANDARD
TZOFFSETFROM:-0400
TZOFFSETTO:-0500
TZNAME:EST
DTSTART:20261101T060000
END:STANDARD
BEGIN:DAYLIGHT
TZOFFSETFROM:-0500
TZOFFSETTO:-0400
TZNAME:EDT
DTSTART:20270314T070000
END:DAYLIGHT
BEGIN:STANDARD
TZOFFSETFROM:-0400
TZOFFSETTO:-0500
TZNAME:EST
DTSTART:20271107T060000
END:STANDARD
BEGIN:DAYLIGHT
TZOFFSETFROM:-0500
TZOFFSETTO:-0400
TZNAME:EDT
DTSTART:20280312T070000
END:DAYLIGHT
BEGIN:STANDARD
TZOFFSETFROM:-0400
TZOFFSETTO:-0500
TZNAME:EST
DTSTART:20281105T060000
END:STANDARD
END:VTIMEZONE
BEGIN:VEVENT
DTSTART;TZID=America/Indiana/Indianapolis:20270201T170000
DTEND;TZID=America/Indiana/Indianapolis:20270201T190000
DTSTAMP:20260422T063809
CREATED:20251110T135227Z
LAST-MODIFIED:20251110T135227Z
UID:10003064-1801501200-1801508400@woodruffplacebaptist.org
SUMMARY:Closed - Blue Tiger Group
DESCRIPTION:For questions on involvement in this time\, please contact Mike Tandy.
URL:https://woodruffplacebaptist.org/event/closed-blue-tiger-group/2027-02-01/
LOCATION:Woodruff Place Church\, 1739 E Michigan St\, Indianapolis\, Indiana\, 46201\, United States
CATEGORIES:Monday
ORGANIZER;CN="Mike Tandy":MAILTO:Tandy90@gmail.com
END:VEVENT
BEGIN:VEVENT
DTSTART;TZID=America/Indiana/Indianapolis:20270202T193000
DTEND;TZID=America/Indiana/Indianapolis:20270202T210000
DTSTAMP:20260422T063809
CREATED:20251110T163930Z
LAST-MODIFIED:20251110T163930Z
UID:10003647-1801596600-1801602000@woodruffplacebaptist.org
SUMMARY:N.A
DESCRIPTION:Located Downstairs
URL:https://woodruffplacebaptist.org/event/n-a/2027-02-02/
LOCATION:Woodruff Place Church\, 1739 E Michigan St\, Indianapolis\, Indiana\, 46201\, United States
CATEGORIES:Tuesday
ORGANIZER;CN="Amy Ilherd":MAILTO:amy.ilherd@yahoo.com
END:VEVENT
BEGIN:VEVENT
DTSTART;TZID=America/Indiana/Indianapolis:20270203T190000
DTEND;TZID=America/Indiana/Indianapolis:20270203T210000
DTSTAMP:20260422T063809
CREATED:20251110T164117Z
LAST-MODIFIED:20251110T164117Z
UID:10003909-1801681200-1801688400@woodruffplacebaptist.org
SUMMARY:N.A
DESCRIPTION:Located Downstairs
URL:https://woodruffplacebaptist.org/event/n-a-2/2027-02-03/
LOCATION:Woodruff Place Church\, 1739 E Michigan St\, Indianapolis\, Indiana\, 46201\, United States
CATEGORIES:Wednesday
ORGANIZER;CN="Amy Ilherd":MAILTO:amy.ilherd@yahoo.com
END:VEVENT
BEGIN:VEVENT
DTSTART;TZID=America/Indiana/Indianapolis:20270205T183000
DTEND;TZID=America/Indiana/Indianapolis:20270205T203000
DTSTAMP:20260422T063809
CREATED:20251110T170513Z
LAST-MODIFIED:20260331T221834Z
UID:10004645-1801852200-1801859400@woodruffplacebaptist.org
SUMMARY:The Friday Thing
DESCRIPTION:Join Urban Hope for a night of fun and purpose most 1st & 3rd Friday of the month! For info about this night or cancellations contact Jonny Ray.
URL:https://woodruffplacebaptist.org/event/the-friday-thing-2/2027-02-05/
LOCATION:Woodruff Place Church\, 1739 E Michigan St\, Indianapolis\, Indiana\, 46201\, United States
CATEGORIES:Friday
ATTACH;FMTTYPE=image/png:https://woodruffplacebaptist.org/wp-content/uploads/2025/11/urban-hope.png
ORGANIZER;CN="Jonny Ray":MAILTO:jonny@urbanhopeindy.org
END:VEVENT
BEGIN:VEVENT
DTSTART;TZID=America/Indiana/Indianapolis:20270205T193000
DTEND;TZID=America/Indiana/Indianapolis:20270205T204500
DTSTAMP:20260422T063809
CREATED:20251110T164259Z
LAST-MODIFIED:20251110T164259Z
UID:10004171-1801855800-1801860300@woodruffplacebaptist.org
SUMMARY:N.A
DESCRIPTION:Located Downstairs
URL:https://woodruffplacebaptist.org/event/n-a-3/2027-02-05/
LOCATION:Woodruff Place Church\, 1739 E Michigan St\, Indianapolis\, Indiana\, 46201\, United States
CATEGORIES:Friday
ORGANIZER;CN="Amy Ilherd":MAILTO:amy.ilherd@yahoo.com
END:VEVENT
BEGIN:VEVENT
DTSTART;TZID=America/Indiana/Indianapolis:20270208T170000
DTEND;TZID=America/Indiana/Indianapolis:20270208T190000
DTSTAMP:20260422T063809
CREATED:20251110T135227Z
LAST-MODIFIED:20251110T135227Z
UID:10003065-1802106000-1802113200@woodruffplacebaptist.org
SUMMARY:Closed - Blue Tiger Group
DESCRIPTION:For questions on involvement in this time\, please contact Mike Tandy.
URL:https://woodruffplacebaptist.org/event/closed-blue-tiger-group/2027-02-08/
LOCATION:Woodruff Place Church\, 1739 E Michigan St\, Indianapolis\, Indiana\, 46201\, United States
CATEGORIES:Monday
ORGANIZER;CN="Mike Tandy":MAILTO:Tandy90@gmail.com
END:VEVENT
BEGIN:VEVENT
DTSTART;TZID=America/Indiana/Indianapolis:20270209T193000
DTEND;TZID=America/Indiana/Indianapolis:20270209T210000
DTSTAMP:20260422T063809
CREATED:20251110T163930Z
LAST-MODIFIED:20251110T163930Z
UID:10003648-1802201400-1802206800@woodruffplacebaptist.org
SUMMARY:N.A
DESCRIPTION:Located Downstairs
URL:https://woodruffplacebaptist.org/event/n-a/2027-02-09/
LOCATION:Woodruff Place Church\, 1739 E Michigan St\, Indianapolis\, Indiana\, 46201\, United States
CATEGORIES:Tuesday
ORGANIZER;CN="Amy Ilherd":MAILTO:amy.ilherd@yahoo.com
END:VEVENT
BEGIN:VEVENT
DTSTART;TZID=America/Indiana/Indianapolis:20270210T190000
DTEND;TZID=America/Indiana/Indianapolis:20270210T210000
DTSTAMP:20260422T063809
CREATED:20251110T164117Z
LAST-MODIFIED:20251110T164117Z
UID:10003910-1802286000-1802293200@woodruffplacebaptist.org
SUMMARY:N.A
DESCRIPTION:Located Downstairs
URL:https://woodruffplacebaptist.org/event/n-a-2/2027-02-10/
LOCATION:Woodruff Place Church\, 1739 E Michigan St\, Indianapolis\, Indiana\, 46201\, United States
CATEGORIES:Wednesday
ORGANIZER;CN="Amy Ilherd":MAILTO:amy.ilherd@yahoo.com
END:VEVENT
BEGIN:VEVENT
DTSTART;TZID=America/Indiana/Indianapolis:20270212T193000
DTEND;TZID=America/Indiana/Indianapolis:20270212T204500
DTSTAMP:20260422T063809
CREATED:20251110T164259Z
LAST-MODIFIED:20251110T164259Z
UID:10004172-1802460600-1802465100@woodruffplacebaptist.org
SUMMARY:N.A
DESCRIPTION:Located Downstairs
URL:https://woodruffplacebaptist.org/event/n-a-3/2027-02-12/
LOCATION:Woodruff Place Church\, 1739 E Michigan St\, Indianapolis\, Indiana\, 46201\, United States
CATEGORIES:Friday
ORGANIZER;CN="Amy Ilherd":MAILTO:amy.ilherd@yahoo.com
END:VEVENT
BEGIN:VEVENT
DTSTART;TZID=America/Indiana/Indianapolis:20270215T170000
DTEND;TZID=America/Indiana/Indianapolis:20270215T190000
DTSTAMP:20260422T063809
CREATED:20251110T135227Z
LAST-MODIFIED:20251110T135227Z
UID:10003066-1802710800-1802718000@woodruffplacebaptist.org
SUMMARY:Closed - Blue Tiger Group
DESCRIPTION:For questions on involvement in this time\, please contact Mike Tandy.
URL:https://woodruffplacebaptist.org/event/closed-blue-tiger-group/2027-02-15/
LOCATION:Woodruff Place Church\, 1739 E Michigan St\, Indianapolis\, Indiana\, 46201\, United States
CATEGORIES:Monday
ORGANIZER;CN="Mike Tandy":MAILTO:Tandy90@gmail.com
END:VEVENT
BEGIN:VEVENT
DTSTART;TZID=America/Indiana/Indianapolis:20270216T193000
DTEND;TZID=America/Indiana/Indianapolis:20270216T210000
DTSTAMP:20260422T063809
CREATED:20251110T163930Z
LAST-MODIFIED:20251110T163930Z
UID:10003649-1802806200-1802811600@woodruffplacebaptist.org
SUMMARY:N.A
DESCRIPTION:Located Downstairs
URL:https://woodruffplacebaptist.org/event/n-a/2027-02-16/
LOCATION:Woodruff Place Church\, 1739 E Michigan St\, Indianapolis\, Indiana\, 46201\, United States
CATEGORIES:Tuesday
ORGANIZER;CN="Amy Ilherd":MAILTO:amy.ilherd@yahoo.com
END:VEVENT
BEGIN:VEVENT
DTSTART;TZID=America/Indiana/Indianapolis:20270217T190000
DTEND;TZID=America/Indiana/Indianapolis:20270217T210000
DTSTAMP:20260422T063809
CREATED:20251110T164117Z
LAST-MODIFIED:20251110T164117Z
UID:10003911-1802890800-1802898000@woodruffplacebaptist.org
SUMMARY:N.A
DESCRIPTION:Located Downstairs
URL:https://woodruffplacebaptist.org/event/n-a-2/2027-02-17/
LOCATION:Woodruff Place Church\, 1739 E Michigan St\, Indianapolis\, Indiana\, 46201\, United States
CATEGORIES:Wednesday
ORGANIZER;CN="Amy Ilherd":MAILTO:amy.ilherd@yahoo.com
END:VEVENT
BEGIN:VEVENT
DTSTART;TZID=America/Indiana/Indianapolis:20270219T183000
DTEND;TZID=America/Indiana/Indianapolis:20270219T203000
DTSTAMP:20260422T063809
CREATED:20251110T171014Z
LAST-MODIFIED:20260331T222017Z
UID:10004706-1803061800-1803069000@woodruffplacebaptist.org
SUMMARY:The Friday Thing
DESCRIPTION:Join Urban Hope for a night of fun and purpose most 1st & 3rd Friday of the month! For info about this night or cancellations contact Jonny Ray.
URL:https://woodruffplacebaptist.org/event/the-friday-thing-3/2027-02-19/
LOCATION:Woodruff Place Church\, 1739 E Michigan St\, Indianapolis\, Indiana\, 46201\, United States
CATEGORIES:Friday
ATTACH;FMTTYPE=image/png:https://woodruffplacebaptist.org/wp-content/uploads/2025/11/urban-hope.png
ORGANIZER;CN="Jonny Ray":MAILTO:jonny@urbanhopeindy.org
END:VEVENT
BEGIN:VEVENT
DTSTART;TZID=America/Indiana/Indianapolis:20270219T193000
DTEND;TZID=America/Indiana/Indianapolis:20270219T204500
DTSTAMP:20260422T063809
CREATED:20251110T164259Z
LAST-MODIFIED:20251110T164259Z
UID:10004173-1803065400-1803069900@woodruffplacebaptist.org
SUMMARY:N.A
DESCRIPTION:Located Downstairs
URL:https://woodruffplacebaptist.org/event/n-a-3/2027-02-19/
LOCATION:Woodruff Place Church\, 1739 E Michigan St\, Indianapolis\, Indiana\, 46201\, United States
CATEGORIES:Friday
ORGANIZER;CN="Amy Ilherd":MAILTO:amy.ilherd@yahoo.com
END:VEVENT
BEGIN:VEVENT
DTSTART;TZID=America/Indiana/Indianapolis:20270222T170000
DTEND;TZID=America/Indiana/Indianapolis:20270222T190000
DTSTAMP:20260422T063809
CREATED:20251110T135227Z
LAST-MODIFIED:20251110T135227Z
UID:10003067-1803315600-1803322800@woodruffplacebaptist.org
SUMMARY:Closed - Blue Tiger Group
DESCRIPTION:For questions on involvement in this time\, please contact Mike Tandy.
URL:https://woodruffplacebaptist.org/event/closed-blue-tiger-group/2027-02-22/
LOCATION:Woodruff Place Church\, 1739 E Michigan St\, Indianapolis\, Indiana\, 46201\, United States
CATEGORIES:Monday
ORGANIZER;CN="Mike Tandy":MAILTO:Tandy90@gmail.com
END:VEVENT
BEGIN:VEVENT
DTSTART;TZID=America/Indiana/Indianapolis:20270223T193000
DTEND;TZID=America/Indiana/Indianapolis:20270223T210000
DTSTAMP:20260422T063809
CREATED:20251110T163930Z
LAST-MODIFIED:20251110T163930Z
UID:10003650-1803411000-1803416400@woodruffplacebaptist.org
SUMMARY:N.A
DESCRIPTION:Located Downstairs
URL:https://woodruffplacebaptist.org/event/n-a/2027-02-23/
LOCATION:Woodruff Place Church\, 1739 E Michigan St\, Indianapolis\, Indiana\, 46201\, United States
CATEGORIES:Tuesday
ORGANIZER;CN="Amy Ilherd":MAILTO:amy.ilherd@yahoo.com
END:VEVENT
BEGIN:VEVENT
DTSTART;TZID=America/Indiana/Indianapolis:20270224T190000
DTEND;TZID=America/Indiana/Indianapolis:20270224T210000
DTSTAMP:20260422T063809
CREATED:20251110T164117Z
LAST-MODIFIED:20251110T164117Z
UID:10003912-1803495600-1803502800@woodruffplacebaptist.org
SUMMARY:N.A
DESCRIPTION:Located Downstairs
URL:https://woodruffplacebaptist.org/event/n-a-2/2027-02-24/
LOCATION:Woodruff Place Church\, 1739 E Michigan St\, Indianapolis\, Indiana\, 46201\, United States
CATEGORIES:Wednesday
ORGANIZER;CN="Amy Ilherd":MAILTO:amy.ilherd@yahoo.com
END:VEVENT
BEGIN:VEVENT
DTSTART;TZID=America/Indiana/Indianapolis:20270226T193000
DTEND;TZID=America/Indiana/Indianapolis:20270226T204500
DTSTAMP:20260422T063809
CREATED:20251110T164259Z
LAST-MODIFIED:20251110T164259Z
UID:10004174-1803670200-1803674700@woodruffplacebaptist.org
SUMMARY:N.A
DESCRIPTION:Located Downstairs
URL:https://woodruffplacebaptist.org/event/n-a-3/2027-02-26/
LOCATION:Woodruff Place Church\, 1739 E Michigan St\, Indianapolis\, Indiana\, 46201\, United States
CATEGORIES:Friday
ORGANIZER;CN="Amy Ilherd":MAILTO:amy.ilherd@yahoo.com
END:VEVENT
END:VCALENDAR