BEGIN:VCALENDAR
VERSION:2.0
PRODID:-//Woodruff Place Baptist Church - ECPv6.15.18//NONSGML v1.0//EN
CALSCALE:GREGORIAN
METHOD:PUBLISH
X-ORIGINAL-URL:https://woodruffplacebaptist.org
X-WR-CALDESC:Events for Woodruff Place Baptist Church
REFRESH-INTERVAL;VALUE=DURATION:PT1H
X-Robots-Tag:noindex
X-PUBLISHED-TTL:PT1H
BEGIN:VTIMEZONE
TZID:America/Indiana/Indianapolis
BEGIN:DAYLIGHT
TZOFFSETFROM:-0500
TZOFFSETTO:-0400
TZNAME:EDT
DTSTART:20250309T070000
END:DAYLIGHT
BEGIN:STANDARD
TZOFFSETFROM:-0400
TZOFFSETTO:-0500
TZNAME:EST
DTSTART:20251102T060000
END:STANDARD
BEGIN:DAYLIGHT
TZOFFSETFROM:-0500
TZOFFSETTO:-0400
TZNAME:EDT
DTSTART:20260308T070000
END:DAYLIGHT
BEGIN:STANDARD
TZOFFSETFROM:-0400
TZOFFSETTO:-0500
TZNAME:EST
DTSTART:20261101T060000
END:STANDARD
BEGIN:DAYLIGHT
TZOFFSETFROM:-0500
TZOFFSETTO:-0400
TZNAME:EDT
DTSTART:20270314T070000
END:DAYLIGHT
BEGIN:STANDARD
TZOFFSETFROM:-0400
TZOFFSETTO:-0500
TZNAME:EST
DTSTART:20271107T060000
END:STANDARD
END:VTIMEZONE
BEGIN:VEVENT
DTSTART;TZID=America/Indiana/Indianapolis:20261102T170000
DTEND;TZID=America/Indiana/Indianapolis:20261102T190000
DTSTAMP:20260422T085954
CREATED:20251110T135227Z
LAST-MODIFIED:20251110T135227Z
UID:10003051-1793638800-1793646000@woodruffplacebaptist.org
SUMMARY:Closed - Blue Tiger Group
DESCRIPTION:For questions on involvement in this time\, please contact Mike Tandy.
URL:https://woodruffplacebaptist.org/event/closed-blue-tiger-group/2026-11-02/
LOCATION:Woodruff Place Church\, 1739 E Michigan St\, Indianapolis\, Indiana\, 46201\, United States
CATEGORIES:Monday
ORGANIZER;CN="Mike Tandy":MAILTO:Tandy90@gmail.com
END:VEVENT
BEGIN:VEVENT
DTSTART;TZID=America/Indiana/Indianapolis:20261103T193000
DTEND;TZID=America/Indiana/Indianapolis:20261103T210000
DTSTAMP:20260422T085954
CREATED:20251110T163930Z
LAST-MODIFIED:20251110T163930Z
UID:10003634-1793734200-1793739600@woodruffplacebaptist.org
SUMMARY:N.A
DESCRIPTION:Located Downstairs
URL:https://woodruffplacebaptist.org/event/n-a/2026-11-03/
LOCATION:Woodruff Place Church\, 1739 E Michigan St\, Indianapolis\, Indiana\, 46201\, United States
CATEGORIES:Tuesday
ORGANIZER;CN="Amy Ilherd":MAILTO:amy.ilherd@yahoo.com
END:VEVENT
BEGIN:VEVENT
DTSTART;TZID=America/Indiana/Indianapolis:20261104T190000
DTEND;TZID=America/Indiana/Indianapolis:20261104T210000
DTSTAMP:20260422T085954
CREATED:20251110T164117Z
LAST-MODIFIED:20251110T164117Z
UID:10003896-1793818800-1793826000@woodruffplacebaptist.org
SUMMARY:N.A
DESCRIPTION:Located Downstairs
URL:https://woodruffplacebaptist.org/event/n-a-2/2026-11-04/
LOCATION:Woodruff Place Church\, 1739 E Michigan St\, Indianapolis\, Indiana\, 46201\, United States
CATEGORIES:Wednesday
ORGANIZER;CN="Amy Ilherd":MAILTO:amy.ilherd@yahoo.com
END:VEVENT
BEGIN:VEVENT
DTSTART;TZID=America/Indiana/Indianapolis:20261106T183000
DTEND;TZID=America/Indiana/Indianapolis:20261106T203000
DTSTAMP:20260422T085954
CREATED:20251110T170513Z
LAST-MODIFIED:20260331T221834Z
UID:10004642-1793989800-1793997000@woodruffplacebaptist.org
SUMMARY:The Friday Thing
DESCRIPTION:Join Urban Hope for a night of fun and purpose most 1st & 3rd Friday of the month! For info about this night or cancellations contact Jonny Ray.
URL:https://woodruffplacebaptist.org/event/the-friday-thing-2/2026-11-06/
LOCATION:Woodruff Place Church\, 1739 E Michigan St\, Indianapolis\, Indiana\, 46201\, United States
CATEGORIES:Friday
ATTACH;FMTTYPE=image/png:https://woodruffplacebaptist.org/wp-content/uploads/2025/11/urban-hope.png
ORGANIZER;CN="Jonny Ray":MAILTO:jonny@urbanhopeindy.org
END:VEVENT
BEGIN:VEVENT
DTSTART;TZID=America/Indiana/Indianapolis:20261106T193000
DTEND;TZID=America/Indiana/Indianapolis:20261106T204500
DTSTAMP:20260422T085954
CREATED:20251110T164259Z
LAST-MODIFIED:20251110T164259Z
UID:10004158-1793993400-1793997900@woodruffplacebaptist.org
SUMMARY:N.A
DESCRIPTION:Located Downstairs
URL:https://woodruffplacebaptist.org/event/n-a-3/2026-11-06/
LOCATION:Woodruff Place Church\, 1739 E Michigan St\, Indianapolis\, Indiana\, 46201\, United States
CATEGORIES:Friday
ORGANIZER;CN="Amy Ilherd":MAILTO:amy.ilherd@yahoo.com
END:VEVENT
BEGIN:VEVENT
DTSTART;TZID=America/Indiana/Indianapolis:20261109T170000
DTEND;TZID=America/Indiana/Indianapolis:20261109T190000
DTSTAMP:20260422T085954
CREATED:20251110T135227Z
LAST-MODIFIED:20251110T135227Z
UID:10003052-1794243600-1794250800@woodruffplacebaptist.org
SUMMARY:Closed - Blue Tiger Group
DESCRIPTION:For questions on involvement in this time\, please contact Mike Tandy.
URL:https://woodruffplacebaptist.org/event/closed-blue-tiger-group/2026-11-09/
LOCATION:Woodruff Place Church\, 1739 E Michigan St\, Indianapolis\, Indiana\, 46201\, United States
CATEGORIES:Monday
ORGANIZER;CN="Mike Tandy":MAILTO:Tandy90@gmail.com
END:VEVENT
BEGIN:VEVENT
DTSTART;TZID=America/Indiana/Indianapolis:20261110T193000
DTEND;TZID=America/Indiana/Indianapolis:20261110T210000
DTSTAMP:20260422T085954
CREATED:20251110T163930Z
LAST-MODIFIED:20251110T163930Z
UID:10003635-1794339000-1794344400@woodruffplacebaptist.org
SUMMARY:N.A
DESCRIPTION:Located Downstairs
URL:https://woodruffplacebaptist.org/event/n-a/2026-11-10/
LOCATION:Woodruff Place Church\, 1739 E Michigan St\, Indianapolis\, Indiana\, 46201\, United States
CATEGORIES:Tuesday
ORGANIZER;CN="Amy Ilherd":MAILTO:amy.ilherd@yahoo.com
END:VEVENT
BEGIN:VEVENT
DTSTART;TZID=America/Indiana/Indianapolis:20261111T190000
DTEND;TZID=America/Indiana/Indianapolis:20261111T210000
DTSTAMP:20260422T085954
CREATED:20251110T164117Z
LAST-MODIFIED:20251110T164117Z
UID:10003897-1794423600-1794430800@woodruffplacebaptist.org
SUMMARY:N.A
DESCRIPTION:Located Downstairs
URL:https://woodruffplacebaptist.org/event/n-a-2/2026-11-11/
LOCATION:Woodruff Place Church\, 1739 E Michigan St\, Indianapolis\, Indiana\, 46201\, United States
CATEGORIES:Wednesday
ORGANIZER;CN="Amy Ilherd":MAILTO:amy.ilherd@yahoo.com
END:VEVENT
BEGIN:VEVENT
DTSTART;TZID=America/Indiana/Indianapolis:20261113T193000
DTEND;TZID=America/Indiana/Indianapolis:20261113T204500
DTSTAMP:20260422T085954
CREATED:20251110T164259Z
LAST-MODIFIED:20251110T164259Z
UID:10004159-1794598200-1794602700@woodruffplacebaptist.org
SUMMARY:N.A
DESCRIPTION:Located Downstairs
URL:https://woodruffplacebaptist.org/event/n-a-3/2026-11-13/
LOCATION:Woodruff Place Church\, 1739 E Michigan St\, Indianapolis\, Indiana\, 46201\, United States
CATEGORIES:Friday
ORGANIZER;CN="Amy Ilherd":MAILTO:amy.ilherd@yahoo.com
END:VEVENT
BEGIN:VEVENT
DTSTART;TZID=America/Indiana/Indianapolis:20261116T170000
DTEND;TZID=America/Indiana/Indianapolis:20261116T190000
DTSTAMP:20260422T085954
CREATED:20251110T135227Z
LAST-MODIFIED:20251110T135227Z
UID:10003053-1794848400-1794855600@woodruffplacebaptist.org
SUMMARY:Closed - Blue Tiger Group
DESCRIPTION:For questions on involvement in this time\, please contact Mike Tandy.
URL:https://woodruffplacebaptist.org/event/closed-blue-tiger-group/2026-11-16/
LOCATION:Woodruff Place Church\, 1739 E Michigan St\, Indianapolis\, Indiana\, 46201\, United States
CATEGORIES:Monday
ORGANIZER;CN="Mike Tandy":MAILTO:Tandy90@gmail.com
END:VEVENT
BEGIN:VEVENT
DTSTART;TZID=America/Indiana/Indianapolis:20261117T193000
DTEND;TZID=America/Indiana/Indianapolis:20261117T210000
DTSTAMP:20260422T085954
CREATED:20251110T163930Z
LAST-MODIFIED:20251110T163930Z
UID:10003636-1794943800-1794949200@woodruffplacebaptist.org
SUMMARY:N.A
DESCRIPTION:Located Downstairs
URL:https://woodruffplacebaptist.org/event/n-a/2026-11-17/
LOCATION:Woodruff Place Church\, 1739 E Michigan St\, Indianapolis\, Indiana\, 46201\, United States
CATEGORIES:Tuesday
ORGANIZER;CN="Amy Ilherd":MAILTO:amy.ilherd@yahoo.com
END:VEVENT
BEGIN:VEVENT
DTSTART;TZID=America/Indiana/Indianapolis:20261118T190000
DTEND;TZID=America/Indiana/Indianapolis:20261118T210000
DTSTAMP:20260422T085954
CREATED:20251110T164117Z
LAST-MODIFIED:20251110T164117Z
UID:10003898-1795028400-1795035600@woodruffplacebaptist.org
SUMMARY:N.A
DESCRIPTION:Located Downstairs
URL:https://woodruffplacebaptist.org/event/n-a-2/2026-11-18/
LOCATION:Woodruff Place Church\, 1739 E Michigan St\, Indianapolis\, Indiana\, 46201\, United States
CATEGORIES:Wednesday
ORGANIZER;CN="Amy Ilherd":MAILTO:amy.ilherd@yahoo.com
END:VEVENT
BEGIN:VEVENT
DTSTART;TZID=America/Indiana/Indianapolis:20261120T183000
DTEND;TZID=America/Indiana/Indianapolis:20261120T203000
DTSTAMP:20260422T085954
CREATED:20251110T171014Z
LAST-MODIFIED:20260331T222017Z
UID:10004703-1795199400-1795206600@woodruffplacebaptist.org
SUMMARY:The Friday Thing
DESCRIPTION:Join Urban Hope for a night of fun and purpose most 1st & 3rd Friday of the month! For info about this night or cancellations contact Jonny Ray.
URL:https://woodruffplacebaptist.org/event/the-friday-thing-3/2026-11-20/
LOCATION:Woodruff Place Church\, 1739 E Michigan St\, Indianapolis\, Indiana\, 46201\, United States
CATEGORIES:Friday
ATTACH;FMTTYPE=image/png:https://woodruffplacebaptist.org/wp-content/uploads/2025/11/urban-hope.png
ORGANIZER;CN="Jonny Ray":MAILTO:jonny@urbanhopeindy.org
END:VEVENT
BEGIN:VEVENT
DTSTART;TZID=America/Indiana/Indianapolis:20261120T193000
DTEND;TZID=America/Indiana/Indianapolis:20261120T204500
DTSTAMP:20260422T085954
CREATED:20251110T164259Z
LAST-MODIFIED:20251110T164259Z
UID:10004160-1795203000-1795207500@woodruffplacebaptist.org
SUMMARY:N.A
DESCRIPTION:Located Downstairs
URL:https://woodruffplacebaptist.org/event/n-a-3/2026-11-20/
LOCATION:Woodruff Place Church\, 1739 E Michigan St\, Indianapolis\, Indiana\, 46201\, United States
CATEGORIES:Friday
ORGANIZER;CN="Amy Ilherd":MAILTO:amy.ilherd@yahoo.com
END:VEVENT
BEGIN:VEVENT
DTSTART;TZID=America/Indiana/Indianapolis:20261123T170000
DTEND;TZID=America/Indiana/Indianapolis:20261123T190000
DTSTAMP:20260422T085954
CREATED:20251110T135227Z
LAST-MODIFIED:20251110T135227Z
UID:10003054-1795453200-1795460400@woodruffplacebaptist.org
SUMMARY:Closed - Blue Tiger Group
DESCRIPTION:For questions on involvement in this time\, please contact Mike Tandy.
URL:https://woodruffplacebaptist.org/event/closed-blue-tiger-group/2026-11-23/
LOCATION:Woodruff Place Church\, 1739 E Michigan St\, Indianapolis\, Indiana\, 46201\, United States
CATEGORIES:Monday
ORGANIZER;CN="Mike Tandy":MAILTO:Tandy90@gmail.com
END:VEVENT
BEGIN:VEVENT
DTSTART;TZID=America/Indiana/Indianapolis:20261124T193000
DTEND;TZID=America/Indiana/Indianapolis:20261124T210000
DTSTAMP:20260422T085954
CREATED:20251110T163930Z
LAST-MODIFIED:20251110T163930Z
UID:10003637-1795548600-1795554000@woodruffplacebaptist.org
SUMMARY:N.A
DESCRIPTION:Located Downstairs
URL:https://woodruffplacebaptist.org/event/n-a/2026-11-24/
LOCATION:Woodruff Place Church\, 1739 E Michigan St\, Indianapolis\, Indiana\, 46201\, United States
CATEGORIES:Tuesday
ORGANIZER;CN="Amy Ilherd":MAILTO:amy.ilherd@yahoo.com
END:VEVENT
BEGIN:VEVENT
DTSTART;TZID=America/Indiana/Indianapolis:20261125T190000
DTEND;TZID=America/Indiana/Indianapolis:20261125T210000
DTSTAMP:20260422T085954
CREATED:20251110T164117Z
LAST-MODIFIED:20251110T164117Z
UID:10003899-1795633200-1795640400@woodruffplacebaptist.org
SUMMARY:N.A
DESCRIPTION:Located Downstairs
URL:https://woodruffplacebaptist.org/event/n-a-2/2026-11-25/
LOCATION:Woodruff Place Church\, 1739 E Michigan St\, Indianapolis\, Indiana\, 46201\, United States
CATEGORIES:Wednesday
ORGANIZER;CN="Amy Ilherd":MAILTO:amy.ilherd@yahoo.com
END:VEVENT
BEGIN:VEVENT
DTSTART;TZID=America/Indiana/Indianapolis:20261127T193000
DTEND;TZID=America/Indiana/Indianapolis:20261127T204500
DTSTAMP:20260422T085954
CREATED:20251110T164259Z
LAST-MODIFIED:20251110T164259Z
UID:10004161-1795807800-1795812300@woodruffplacebaptist.org
SUMMARY:N.A
DESCRIPTION:Located Downstairs
URL:https://woodruffplacebaptist.org/event/n-a-3/2026-11-27/
LOCATION:Woodruff Place Church\, 1739 E Michigan St\, Indianapolis\, Indiana\, 46201\, United States
CATEGORIES:Friday
ORGANIZER;CN="Amy Ilherd":MAILTO:amy.ilherd@yahoo.com
END:VEVENT
BEGIN:VEVENT
DTSTART;TZID=America/Indiana/Indianapolis:20261130T170000
DTEND;TZID=America/Indiana/Indianapolis:20261130T190000
DTSTAMP:20260422T085954
CREATED:20251110T135227Z
LAST-MODIFIED:20251110T135227Z
UID:10003055-1796058000-1796065200@woodruffplacebaptist.org
SUMMARY:Closed - Blue Tiger Group
DESCRIPTION:For questions on involvement in this time\, please contact Mike Tandy.
URL:https://woodruffplacebaptist.org/event/closed-blue-tiger-group/2026-11-30/
LOCATION:Woodruff Place Church\, 1739 E Michigan St\, Indianapolis\, Indiana\, 46201\, United States
CATEGORIES:Monday
ORGANIZER;CN="Mike Tandy":MAILTO:Tandy90@gmail.com
END:VEVENT
END:VCALENDAR