BEGIN:VCALENDAR
VERSION:2.0
PRODID:-//Woodruff Place Baptist Church - ECPv6.15.18//NONSGML v1.0//EN
CALSCALE:GREGORIAN
METHOD:PUBLISH
X-WR-CALNAME:Woodruff Place Baptist Church
X-ORIGINAL-URL:https://woodruffplacebaptist.org
X-WR-CALDESC:Events for Woodruff Place Baptist Church
REFRESH-INTERVAL;VALUE=DURATION:PT1H
X-Robots-Tag:noindex
X-PUBLISHED-TTL:PT1H
BEGIN:VTIMEZONE
TZID:America/Indiana/Indianapolis
BEGIN:DAYLIGHT
TZOFFSETFROM:-0500
TZOFFSETTO:-0400
TZNAME:EDT
DTSTART:20250309T070000
END:DAYLIGHT
BEGIN:STANDARD
TZOFFSETFROM:-0400
TZOFFSETTO:-0500
TZNAME:EST
DTSTART:20251102T060000
END:STANDARD
BEGIN:DAYLIGHT
TZOFFSETFROM:-0500
TZOFFSETTO:-0400
TZNAME:EDT
DTSTART:20260308T070000
END:DAYLIGHT
BEGIN:STANDARD
TZOFFSETFROM:-0400
TZOFFSETTO:-0500
TZNAME:EST
DTSTART:20261101T060000
END:STANDARD
BEGIN:DAYLIGHT
TZOFFSETFROM:-0500
TZOFFSETTO:-0400
TZNAME:EDT
DTSTART:20270314T070000
END:DAYLIGHT
BEGIN:STANDARD
TZOFFSETFROM:-0400
TZOFFSETTO:-0500
TZNAME:EST
DTSTART:20271107T060000
END:STANDARD
END:VTIMEZONE
BEGIN:VEVENT
DTSTART;TZID=America/Indiana/Indianapolis:20261002T183000
DTEND;TZID=America/Indiana/Indianapolis:20261002T203000
DTSTAMP:20260422T060715
CREATED:20251110T170513Z
LAST-MODIFIED:20260331T221834Z
UID:10004641-1790965800-1790973000@woodruffplacebaptist.org
SUMMARY:The Friday Thing
DESCRIPTION:Join Urban Hope for a night of fun and purpose most 1st & 3rd Friday of the month! For info about this night or cancellations contact Jonny Ray.
URL:https://woodruffplacebaptist.org/event/the-friday-thing-2/2026-10-02/
LOCATION:Woodruff Place Church\, 1739 E Michigan St\, Indianapolis\, Indiana\, 46201\, United States
CATEGORIES:Friday
ATTACH;FMTTYPE=image/png:https://woodruffplacebaptist.org/wp-content/uploads/2025/11/urban-hope.png
ORGANIZER;CN="Jonny Ray":MAILTO:jonny@urbanhopeindy.org
END:VEVENT
BEGIN:VEVENT
DTSTART;TZID=America/Indiana/Indianapolis:20261002T193000
DTEND;TZID=America/Indiana/Indianapolis:20261002T204500
DTSTAMP:20260422T060715
CREATED:20251110T164259Z
LAST-MODIFIED:20251110T164259Z
UID:10004153-1790969400-1790973900@woodruffplacebaptist.org
SUMMARY:N.A
DESCRIPTION:Located Downstairs
URL:https://woodruffplacebaptist.org/event/n-a-3/2026-10-02/
LOCATION:Woodruff Place Church\, 1739 E Michigan St\, Indianapolis\, Indiana\, 46201\, United States
CATEGORIES:Friday
ORGANIZER;CN="Amy Ilherd":MAILTO:amy.ilherd@yahoo.com
END:VEVENT
BEGIN:VEVENT
DTSTART;TZID=America/Indiana/Indianapolis:20261005T170000
DTEND;TZID=America/Indiana/Indianapolis:20261005T190000
DTSTAMP:20260422T060715
CREATED:20251110T135227Z
LAST-MODIFIED:20251110T135227Z
UID:10003047-1791219600-1791226800@woodruffplacebaptist.org
SUMMARY:Closed - Blue Tiger Group
DESCRIPTION:For questions on involvement in this time\, please contact Mike Tandy.
URL:https://woodruffplacebaptist.org/event/closed-blue-tiger-group/2026-10-05/
LOCATION:Woodruff Place Church\, 1739 E Michigan St\, Indianapolis\, Indiana\, 46201\, United States
CATEGORIES:Monday
ORGANIZER;CN="Mike Tandy":MAILTO:Tandy90@gmail.com
END:VEVENT
BEGIN:VEVENT
DTSTART;TZID=America/Indiana/Indianapolis:20261006T193000
DTEND;TZID=America/Indiana/Indianapolis:20261006T210000
DTSTAMP:20260422T060715
CREATED:20251110T163930Z
LAST-MODIFIED:20251110T163930Z
UID:10003630-1791315000-1791320400@woodruffplacebaptist.org
SUMMARY:N.A
DESCRIPTION:Located Downstairs
URL:https://woodruffplacebaptist.org/event/n-a/2026-10-06/
LOCATION:Woodruff Place Church\, 1739 E Michigan St\, Indianapolis\, Indiana\, 46201\, United States
CATEGORIES:Tuesday
ORGANIZER;CN="Amy Ilherd":MAILTO:amy.ilherd@yahoo.com
END:VEVENT
BEGIN:VEVENT
DTSTART;TZID=America/Indiana/Indianapolis:20261007T190000
DTEND;TZID=America/Indiana/Indianapolis:20261007T210000
DTSTAMP:20260422T060715
CREATED:20251110T164117Z
LAST-MODIFIED:20251110T164117Z
UID:10003892-1791399600-1791406800@woodruffplacebaptist.org
SUMMARY:N.A
DESCRIPTION:Located Downstairs
URL:https://woodruffplacebaptist.org/event/n-a-2/2026-10-07/
LOCATION:Woodruff Place Church\, 1739 E Michigan St\, Indianapolis\, Indiana\, 46201\, United States
CATEGORIES:Wednesday
ORGANIZER;CN="Amy Ilherd":MAILTO:amy.ilherd@yahoo.com
END:VEVENT
BEGIN:VEVENT
DTSTART;TZID=America/Indiana/Indianapolis:20261009T193000
DTEND;TZID=America/Indiana/Indianapolis:20261009T204500
DTSTAMP:20260422T060715
CREATED:20251110T164259Z
LAST-MODIFIED:20251110T164259Z
UID:10004154-1791574200-1791578700@woodruffplacebaptist.org
SUMMARY:N.A
DESCRIPTION:Located Downstairs
URL:https://woodruffplacebaptist.org/event/n-a-3/2026-10-09/
LOCATION:Woodruff Place Church\, 1739 E Michigan St\, Indianapolis\, Indiana\, 46201\, United States
CATEGORIES:Friday
ORGANIZER;CN="Amy Ilherd":MAILTO:amy.ilherd@yahoo.com
END:VEVENT
BEGIN:VEVENT
DTSTART;TZID=America/Indiana/Indianapolis:20261012T170000
DTEND;TZID=America/Indiana/Indianapolis:20261012T190000
DTSTAMP:20260422T060715
CREATED:20251110T135227Z
LAST-MODIFIED:20251110T135227Z
UID:10003048-1791824400-1791831600@woodruffplacebaptist.org
SUMMARY:Closed - Blue Tiger Group
DESCRIPTION:For questions on involvement in this time\, please contact Mike Tandy.
URL:https://woodruffplacebaptist.org/event/closed-blue-tiger-group/2026-10-12/
LOCATION:Woodruff Place Church\, 1739 E Michigan St\, Indianapolis\, Indiana\, 46201\, United States
CATEGORIES:Monday
ORGANIZER;CN="Mike Tandy":MAILTO:Tandy90@gmail.com
END:VEVENT
BEGIN:VEVENT
DTSTART;TZID=America/Indiana/Indianapolis:20261013T193000
DTEND;TZID=America/Indiana/Indianapolis:20261013T210000
DTSTAMP:20260422T060715
CREATED:20251110T163930Z
LAST-MODIFIED:20251110T163930Z
UID:10003631-1791919800-1791925200@woodruffplacebaptist.org
SUMMARY:N.A
DESCRIPTION:Located Downstairs
URL:https://woodruffplacebaptist.org/event/n-a/2026-10-13/
LOCATION:Woodruff Place Church\, 1739 E Michigan St\, Indianapolis\, Indiana\, 46201\, United States
CATEGORIES:Tuesday
ORGANIZER;CN="Amy Ilherd":MAILTO:amy.ilherd@yahoo.com
END:VEVENT
BEGIN:VEVENT
DTSTART;TZID=America/Indiana/Indianapolis:20261014T190000
DTEND;TZID=America/Indiana/Indianapolis:20261014T210000
DTSTAMP:20260422T060715
CREATED:20251110T164117Z
LAST-MODIFIED:20251110T164117Z
UID:10003893-1792004400-1792011600@woodruffplacebaptist.org
SUMMARY:N.A
DESCRIPTION:Located Downstairs
URL:https://woodruffplacebaptist.org/event/n-a-2/2026-10-14/
LOCATION:Woodruff Place Church\, 1739 E Michigan St\, Indianapolis\, Indiana\, 46201\, United States
CATEGORIES:Wednesday
ORGANIZER;CN="Amy Ilherd":MAILTO:amy.ilherd@yahoo.com
END:VEVENT
BEGIN:VEVENT
DTSTART;TZID=America/Indiana/Indianapolis:20261016T183000
DTEND;TZID=America/Indiana/Indianapolis:20261016T203000
DTSTAMP:20260422T060715
CREATED:20251110T171014Z
LAST-MODIFIED:20260331T222017Z
UID:10004702-1792175400-1792182600@woodruffplacebaptist.org
SUMMARY:The Friday Thing
DESCRIPTION:Join Urban Hope for a night of fun and purpose most 1st & 3rd Friday of the month! For info about this night or cancellations contact Jonny Ray.
URL:https://woodruffplacebaptist.org/event/the-friday-thing-3/2026-10-16/
LOCATION:Woodruff Place Church\, 1739 E Michigan St\, Indianapolis\, Indiana\, 46201\, United States
CATEGORIES:Friday
ATTACH;FMTTYPE=image/png:https://woodruffplacebaptist.org/wp-content/uploads/2025/11/urban-hope.png
ORGANIZER;CN="Jonny Ray":MAILTO:jonny@urbanhopeindy.org
END:VEVENT
BEGIN:VEVENT
DTSTART;TZID=America/Indiana/Indianapolis:20261016T193000
DTEND;TZID=America/Indiana/Indianapolis:20261016T204500
DTSTAMP:20260422T060715
CREATED:20251110T164259Z
LAST-MODIFIED:20251110T164259Z
UID:10004155-1792179000-1792183500@woodruffplacebaptist.org
SUMMARY:N.A
DESCRIPTION:Located Downstairs
URL:https://woodruffplacebaptist.org/event/n-a-3/2026-10-16/
LOCATION:Woodruff Place Church\, 1739 E Michigan St\, Indianapolis\, Indiana\, 46201\, United States
CATEGORIES:Friday
ORGANIZER;CN="Amy Ilherd":MAILTO:amy.ilherd@yahoo.com
END:VEVENT
BEGIN:VEVENT
DTSTART;TZID=America/Indiana/Indianapolis:20261019T170000
DTEND;TZID=America/Indiana/Indianapolis:20261019T190000
DTSTAMP:20260422T060715
CREATED:20251110T135227Z
LAST-MODIFIED:20251110T135227Z
UID:10003049-1792429200-1792436400@woodruffplacebaptist.org
SUMMARY:Closed - Blue Tiger Group
DESCRIPTION:For questions on involvement in this time\, please contact Mike Tandy.
URL:https://woodruffplacebaptist.org/event/closed-blue-tiger-group/2026-10-19/
LOCATION:Woodruff Place Church\, 1739 E Michigan St\, Indianapolis\, Indiana\, 46201\, United States
CATEGORIES:Monday
ORGANIZER;CN="Mike Tandy":MAILTO:Tandy90@gmail.com
END:VEVENT
BEGIN:VEVENT
DTSTART;TZID=America/Indiana/Indianapolis:20261020T193000
DTEND;TZID=America/Indiana/Indianapolis:20261020T210000
DTSTAMP:20260422T060715
CREATED:20251110T163930Z
LAST-MODIFIED:20251110T163930Z
UID:10003632-1792524600-1792530000@woodruffplacebaptist.org
SUMMARY:N.A
DESCRIPTION:Located Downstairs
URL:https://woodruffplacebaptist.org/event/n-a/2026-10-20/
LOCATION:Woodruff Place Church\, 1739 E Michigan St\, Indianapolis\, Indiana\, 46201\, United States
CATEGORIES:Tuesday
ORGANIZER;CN="Amy Ilherd":MAILTO:amy.ilherd@yahoo.com
END:VEVENT
BEGIN:VEVENT
DTSTART;TZID=America/Indiana/Indianapolis:20261021T190000
DTEND;TZID=America/Indiana/Indianapolis:20261021T210000
DTSTAMP:20260422T060715
CREATED:20251110T164117Z
LAST-MODIFIED:20251110T164117Z
UID:10003894-1792609200-1792616400@woodruffplacebaptist.org
SUMMARY:N.A
DESCRIPTION:Located Downstairs
URL:https://woodruffplacebaptist.org/event/n-a-2/2026-10-21/
LOCATION:Woodruff Place Church\, 1739 E Michigan St\, Indianapolis\, Indiana\, 46201\, United States
CATEGORIES:Wednesday
ORGANIZER;CN="Amy Ilherd":MAILTO:amy.ilherd@yahoo.com
END:VEVENT
BEGIN:VEVENT
DTSTART;TZID=America/Indiana/Indianapolis:20261023T193000
DTEND;TZID=America/Indiana/Indianapolis:20261023T204500
DTSTAMP:20260422T060715
CREATED:20251110T164259Z
LAST-MODIFIED:20251110T164259Z
UID:10004156-1792783800-1792788300@woodruffplacebaptist.org
SUMMARY:N.A
DESCRIPTION:Located Downstairs
URL:https://woodruffplacebaptist.org/event/n-a-3/2026-10-23/
LOCATION:Woodruff Place Church\, 1739 E Michigan St\, Indianapolis\, Indiana\, 46201\, United States
CATEGORIES:Friday
ORGANIZER;CN="Amy Ilherd":MAILTO:amy.ilherd@yahoo.com
END:VEVENT
BEGIN:VEVENT
DTSTART;TZID=America/Indiana/Indianapolis:20261026T170000
DTEND;TZID=America/Indiana/Indianapolis:20261026T190000
DTSTAMP:20260422T060715
CREATED:20251110T135227Z
LAST-MODIFIED:20251110T135227Z
UID:10003050-1793034000-1793041200@woodruffplacebaptist.org
SUMMARY:Closed - Blue Tiger Group
DESCRIPTION:For questions on involvement in this time\, please contact Mike Tandy.
URL:https://woodruffplacebaptist.org/event/closed-blue-tiger-group/2026-10-26/
LOCATION:Woodruff Place Church\, 1739 E Michigan St\, Indianapolis\, Indiana\, 46201\, United States
CATEGORIES:Monday
ORGANIZER;CN="Mike Tandy":MAILTO:Tandy90@gmail.com
END:VEVENT
BEGIN:VEVENT
DTSTART;TZID=America/Indiana/Indianapolis:20261027T193000
DTEND;TZID=America/Indiana/Indianapolis:20261027T210000
DTSTAMP:20260422T060715
CREATED:20251110T163930Z
LAST-MODIFIED:20251110T163930Z
UID:10003633-1793129400-1793134800@woodruffplacebaptist.org
SUMMARY:N.A
DESCRIPTION:Located Downstairs
URL:https://woodruffplacebaptist.org/event/n-a/2026-10-27/
LOCATION:Woodruff Place Church\, 1739 E Michigan St\, Indianapolis\, Indiana\, 46201\, United States
CATEGORIES:Tuesday
ORGANIZER;CN="Amy Ilherd":MAILTO:amy.ilherd@yahoo.com
END:VEVENT
BEGIN:VEVENT
DTSTART;TZID=America/Indiana/Indianapolis:20261028T190000
DTEND;TZID=America/Indiana/Indianapolis:20261028T210000
DTSTAMP:20260422T060715
CREATED:20251110T164117Z
LAST-MODIFIED:20251110T164117Z
UID:10003895-1793214000-1793221200@woodruffplacebaptist.org
SUMMARY:N.A
DESCRIPTION:Located Downstairs
URL:https://woodruffplacebaptist.org/event/n-a-2/2026-10-28/
LOCATION:Woodruff Place Church\, 1739 E Michigan St\, Indianapolis\, Indiana\, 46201\, United States
CATEGORIES:Wednesday
ORGANIZER;CN="Amy Ilherd":MAILTO:amy.ilherd@yahoo.com
END:VEVENT
BEGIN:VEVENT
DTSTART;TZID=America/Indiana/Indianapolis:20261030T193000
DTEND;TZID=America/Indiana/Indianapolis:20261030T204500
DTSTAMP:20260422T060715
CREATED:20251110T164259Z
LAST-MODIFIED:20251110T164259Z
UID:10004157-1793388600-1793393100@woodruffplacebaptist.org
SUMMARY:N.A
DESCRIPTION:Located Downstairs
URL:https://woodruffplacebaptist.org/event/n-a-3/2026-10-30/
LOCATION:Woodruff Place Church\, 1739 E Michigan St\, Indianapolis\, Indiana\, 46201\, United States
CATEGORIES:Friday
ORGANIZER;CN="Amy Ilherd":MAILTO:amy.ilherd@yahoo.com
END:VEVENT
END:VCALENDAR