BEGIN:VCALENDAR
VERSION:2.0
PRODID:-//Woodruff Place Baptist Church - ECPv6.15.18//NONSGML v1.0//EN
CALSCALE:GREGORIAN
METHOD:PUBLISH
X-WR-CALNAME:Woodruff Place Baptist Church
X-ORIGINAL-URL:https://woodruffplacebaptist.org
X-WR-CALDESC:Events for Woodruff Place Baptist Church
REFRESH-INTERVAL;VALUE=DURATION:PT1H
X-Robots-Tag:noindex
X-PUBLISHED-TTL:PT1H
BEGIN:VTIMEZONE
TZID:America/Indiana/Indianapolis
BEGIN:DAYLIGHT
TZOFFSETFROM:-0500
TZOFFSETTO:-0400
TZNAME:EDT
DTSTART:20280312T070000
END:DAYLIGHT
BEGIN:STANDARD
TZOFFSETFROM:-0400
TZOFFSETTO:-0500
TZNAME:EST
DTSTART:20281105T060000
END:STANDARD
BEGIN:DAYLIGHT
TZOFFSETFROM:-0500
TZOFFSETTO:-0400
TZNAME:EDT
DTSTART:20290311T070000
END:DAYLIGHT
BEGIN:STANDARD
TZOFFSETFROM:-0400
TZOFFSETTO:-0500
TZNAME:EST
DTSTART:20291104T060000
END:STANDARD
BEGIN:DAYLIGHT
TZOFFSETFROM:-0500
TZOFFSETTO:-0400
TZNAME:EDT
DTSTART:20300310T070000
END:DAYLIGHT
BEGIN:STANDARD
TZOFFSETFROM:-0400
TZOFFSETTO:-0500
TZNAME:EST
DTSTART:20301103T060000
END:STANDARD
END:VTIMEZONE
BEGIN:VEVENT
DTSTART;TZID=America/Indiana/Indianapolis:20290703T193000
DTEND;TZID=America/Indiana/Indianapolis:20290703T210000
DTSTAMP:20260421T190541
CREATED:20251110T163930Z
LAST-MODIFIED:20251110T163930Z
UID:10003773-1877801400-1877806800@woodruffplacebaptist.org
SUMMARY:N.A
DESCRIPTION:Located Downstairs
URL:https://woodruffplacebaptist.org/event/n-a/2029-07-03/
LOCATION:Woodruff Place Church\, 1739 E Michigan St\, Indianapolis\, Indiana\, 46201\, United States
CATEGORIES:Tuesday
ORGANIZER;CN="Amy Ilherd":MAILTO:amy.ilherd@yahoo.com
END:VEVENT
BEGIN:VEVENT
DTSTART;TZID=America/Indiana/Indianapolis:20290704T183000
DTEND;TZID=America/Indiana/Indianapolis:20290704T200000
DTSTAMP:20260421T190541
CREATED:20251106T151627Z
LAST-MODIFIED:20251110T135633Z
UID:10001868-1877884200-1877889600@woodruffplacebaptist.org
SUMMARY:Missional Community
DESCRIPTION:
URL:https://woodruffplacebaptist.org/event/missional-community/2029-07-04/
LOCATION:Indiana
CATEGORIES:Wednesday
ATTACH;FMTTYPE=image/jpeg:https://woodruffplacebaptist.org/wp-content/uploads/2025/11/3.23.2025_-Sunday-Slides_March-2025.jpg
END:VEVENT
BEGIN:VEVENT
DTSTART;TZID=America/Indiana/Indianapolis:20290704T190000
DTEND;TZID=America/Indiana/Indianapolis:20290704T210000
DTSTAMP:20260421T190541
CREATED:20251110T164117Z
LAST-MODIFIED:20251110T164117Z
UID:10004035-1877886000-1877893200@woodruffplacebaptist.org
SUMMARY:N.A
DESCRIPTION:Located Downstairs
URL:https://woodruffplacebaptist.org/event/n-a-2/2029-07-04/
LOCATION:Woodruff Place Church\, 1739 E Michigan St\, Indianapolis\, Indiana\, 46201\, United States
CATEGORIES:Wednesday
ORGANIZER;CN="Amy Ilherd":MAILTO:amy.ilherd@yahoo.com
END:VEVENT
BEGIN:VEVENT
DTSTART;TZID=America/Indiana/Indianapolis:20290705T170000
DTEND;TZID=America/Indiana/Indianapolis:20290705T200000
DTSTAMP:20260421T190541
CREATED:20251104T172500Z
LAST-MODIFIED:20251106T142928Z
UID:10000797-1877965200-1877976000@woodruffplacebaptist.org
SUMMARY:Closed Community Partner - Elevate Indianapolis
DESCRIPTION:Alongside students\, teacher-mentors counter disadvantages\, close gaps\, and remove obstacles that heighten vulnerability to the harmful consequences of starting life with significant deterrents and limited opportunities to achieve upward economic mobility and to develop into leaders. \nGrounded in Elevate USA’s 40-year+ model that anchors all efforts in mentoring relationships\, our education nonprofit focuses on teaching and mentoring our city’s most vulnerable youth by living out this mission: \nBuilding long-term\, life-changing relationships with Indianapolis urban youth\, equipping them to thrive and contribute to their community. This IS Elevate.
URL:https://woodruffplacebaptist.org/event/closed-community-partner-elevate-indianapolis-6/2029-07-05/
LOCATION:Woodruff Place Church\, 1739 E Michigan St\, Indianapolis\, Indiana\, 46201\, United States
CATEGORIES:Thursday
ATTACH;FMTTYPE=image/jpeg:https://woodruffplacebaptist.org/wp-content/uploads/2025/11/elevate-logo.jpg
ORGANIZER;CN="Aaron Story":MAILTO:astory@elevateindy.org
END:VEVENT
BEGIN:VEVENT
DTSTART;TZID=America/Indiana/Indianapolis:20290706T193000
DTEND;TZID=America/Indiana/Indianapolis:20290706T204500
DTSTAMP:20260421T190541
CREATED:20251110T164259Z
LAST-MODIFIED:20251110T164259Z
UID:10004297-1878060600-1878065100@woodruffplacebaptist.org
SUMMARY:N.A
DESCRIPTION:Located Downstairs
URL:https://woodruffplacebaptist.org/event/n-a-3/2029-07-06/
LOCATION:Woodruff Place Church\, 1739 E Michigan St\, Indianapolis\, Indiana\, 46201\, United States
CATEGORIES:Friday
ORGANIZER;CN="Amy Ilherd":MAILTO:amy.ilherd@yahoo.com
END:VEVENT
BEGIN:VEVENT
DTSTART;TZID=America/Indiana/Indianapolis:20290710T193000
DTEND;TZID=America/Indiana/Indianapolis:20290710T210000
DTSTAMP:20260421T190541
CREATED:20251110T163930Z
LAST-MODIFIED:20251110T163930Z
UID:10003774-1878406200-1878411600@woodruffplacebaptist.org
SUMMARY:N.A
DESCRIPTION:Located Downstairs
URL:https://woodruffplacebaptist.org/event/n-a/2029-07-10/
LOCATION:Woodruff Place Church\, 1739 E Michigan St\, Indianapolis\, Indiana\, 46201\, United States
CATEGORIES:Tuesday
ORGANIZER;CN="Amy Ilherd":MAILTO:amy.ilherd@yahoo.com
END:VEVENT
BEGIN:VEVENT
DTSTART;TZID=America/Indiana/Indianapolis:20290711T183000
DTEND;TZID=America/Indiana/Indianapolis:20290711T200000
DTSTAMP:20260421T190541
CREATED:20251106T151627Z
LAST-MODIFIED:20251110T135633Z
UID:10001869-1878489000-1878494400@woodruffplacebaptist.org
SUMMARY:Missional Community
DESCRIPTION:
URL:https://woodruffplacebaptist.org/event/missional-community/2029-07-11/
LOCATION:Indiana
CATEGORIES:Wednesday
ATTACH;FMTTYPE=image/jpeg:https://woodruffplacebaptist.org/wp-content/uploads/2025/11/3.23.2025_-Sunday-Slides_March-2025.jpg
END:VEVENT
BEGIN:VEVENT
DTSTART;TZID=America/Indiana/Indianapolis:20290711T190000
DTEND;TZID=America/Indiana/Indianapolis:20290711T210000
DTSTAMP:20260421T190541
CREATED:20251110T164117Z
LAST-MODIFIED:20251110T164117Z
UID:10004036-1878490800-1878498000@woodruffplacebaptist.org
SUMMARY:N.A
DESCRIPTION:Located Downstairs
URL:https://woodruffplacebaptist.org/event/n-a-2/2029-07-11/
LOCATION:Woodruff Place Church\, 1739 E Michigan St\, Indianapolis\, Indiana\, 46201\, United States
CATEGORIES:Wednesday
ORGANIZER;CN="Amy Ilherd":MAILTO:amy.ilherd@yahoo.com
END:VEVENT
BEGIN:VEVENT
DTSTART;TZID=America/Indiana/Indianapolis:20290712T170000
DTEND;TZID=America/Indiana/Indianapolis:20290712T200000
DTSTAMP:20260421T190541
CREATED:20251104T172500Z
LAST-MODIFIED:20251106T142928Z
UID:10000798-1878570000-1878580800@woodruffplacebaptist.org
SUMMARY:Closed Community Partner - Elevate Indianapolis
DESCRIPTION:Alongside students\, teacher-mentors counter disadvantages\, close gaps\, and remove obstacles that heighten vulnerability to the harmful consequences of starting life with significant deterrents and limited opportunities to achieve upward economic mobility and to develop into leaders. \nGrounded in Elevate USA’s 40-year+ model that anchors all efforts in mentoring relationships\, our education nonprofit focuses on teaching and mentoring our city’s most vulnerable youth by living out this mission: \nBuilding long-term\, life-changing relationships with Indianapolis urban youth\, equipping them to thrive and contribute to their community. This IS Elevate.
URL:https://woodruffplacebaptist.org/event/closed-community-partner-elevate-indianapolis-6/2029-07-12/
LOCATION:Woodruff Place Church\, 1739 E Michigan St\, Indianapolis\, Indiana\, 46201\, United States
CATEGORIES:Thursday
ATTACH;FMTTYPE=image/jpeg:https://woodruffplacebaptist.org/wp-content/uploads/2025/11/elevate-logo.jpg
ORGANIZER;CN="Aaron Story":MAILTO:astory@elevateindy.org
END:VEVENT
BEGIN:VEVENT
DTSTART;TZID=America/Indiana/Indianapolis:20290713T193000
DTEND;TZID=America/Indiana/Indianapolis:20290713T204500
DTSTAMP:20260421T190541
CREATED:20251110T164259Z
LAST-MODIFIED:20251110T164259Z
UID:10004298-1878665400-1878669900@woodruffplacebaptist.org
SUMMARY:N.A
DESCRIPTION:Located Downstairs
URL:https://woodruffplacebaptist.org/event/n-a-3/2029-07-13/
LOCATION:Woodruff Place Church\, 1739 E Michigan St\, Indianapolis\, Indiana\, 46201\, United States
CATEGORIES:Friday
ORGANIZER;CN="Amy Ilherd":MAILTO:amy.ilherd@yahoo.com
END:VEVENT
BEGIN:VEVENT
DTSTART;TZID=America/Indiana/Indianapolis:20290714T093000
DTEND;TZID=America/Indiana/Indianapolis:20290714T110000
DTSTAMP:20260421T190541
CREATED:20251110T140120Z
LAST-MODIFIED:20251110T140120Z
UID:10003565-1878715800-1878721200@woodruffplacebaptist.org
SUMMARY:Women's Prayer Group
DESCRIPTION:Join the women of Woodruff Place\, every second Saturday at 9:30 am for a time of prayer! \nLocated in the Community Room
URL:https://woodruffplacebaptist.org/event/womens-prayer-group/2029-07-14/
LOCATION:Woodruff Place Church\, 1739 E Michigan St\, Indianapolis\, Indiana\, 46201\, United States
CATEGORIES:Saturday
END:VEVENT
BEGIN:VEVENT
DTSTART;TZID=America/Indiana/Indianapolis:20290717T193000
DTEND;TZID=America/Indiana/Indianapolis:20290717T210000
DTSTAMP:20260421T190541
CREATED:20251110T163930Z
LAST-MODIFIED:20251110T163930Z
UID:10003775-1879011000-1879016400@woodruffplacebaptist.org
SUMMARY:N.A
DESCRIPTION:Located Downstairs
URL:https://woodruffplacebaptist.org/event/n-a/2029-07-17/
LOCATION:Woodruff Place Church\, 1739 E Michigan St\, Indianapolis\, Indiana\, 46201\, United States
CATEGORIES:Tuesday
ORGANIZER;CN="Amy Ilherd":MAILTO:amy.ilherd@yahoo.com
END:VEVENT
BEGIN:VEVENT
DTSTART;TZID=America/Indiana/Indianapolis:20290718T183000
DTEND;TZID=America/Indiana/Indianapolis:20290718T200000
DTSTAMP:20260421T190541
CREATED:20251106T151627Z
LAST-MODIFIED:20251110T135633Z
UID:10001870-1879093800-1879099200@woodruffplacebaptist.org
SUMMARY:Missional Community
DESCRIPTION:
URL:https://woodruffplacebaptist.org/event/missional-community/2029-07-18/
LOCATION:Indiana
CATEGORIES:Wednesday
ATTACH;FMTTYPE=image/jpeg:https://woodruffplacebaptist.org/wp-content/uploads/2025/11/3.23.2025_-Sunday-Slides_March-2025.jpg
END:VEVENT
BEGIN:VEVENT
DTSTART;TZID=America/Indiana/Indianapolis:20290718T190000
DTEND;TZID=America/Indiana/Indianapolis:20290718T210000
DTSTAMP:20260421T190541
CREATED:20251110T164117Z
LAST-MODIFIED:20251110T164117Z
UID:10004037-1879095600-1879102800@woodruffplacebaptist.org
SUMMARY:N.A
DESCRIPTION:Located Downstairs
URL:https://woodruffplacebaptist.org/event/n-a-2/2029-07-18/
LOCATION:Woodruff Place Church\, 1739 E Michigan St\, Indianapolis\, Indiana\, 46201\, United States
CATEGORIES:Wednesday
ORGANIZER;CN="Amy Ilherd":MAILTO:amy.ilherd@yahoo.com
END:VEVENT
BEGIN:VEVENT
DTSTART;TZID=America/Indiana/Indianapolis:20290719T170000
DTEND;TZID=America/Indiana/Indianapolis:20290719T200000
DTSTAMP:20260421T190541
CREATED:20251104T172500Z
LAST-MODIFIED:20251106T142928Z
UID:10000799-1879174800-1879185600@woodruffplacebaptist.org
SUMMARY:Closed Community Partner - Elevate Indianapolis
DESCRIPTION:Alongside students\, teacher-mentors counter disadvantages\, close gaps\, and remove obstacles that heighten vulnerability to the harmful consequences of starting life with significant deterrents and limited opportunities to achieve upward economic mobility and to develop into leaders. \nGrounded in Elevate USA’s 40-year+ model that anchors all efforts in mentoring relationships\, our education nonprofit focuses on teaching and mentoring our city’s most vulnerable youth by living out this mission: \nBuilding long-term\, life-changing relationships with Indianapolis urban youth\, equipping them to thrive and contribute to their community. This IS Elevate.
URL:https://woodruffplacebaptist.org/event/closed-community-partner-elevate-indianapolis-6/2029-07-19/
LOCATION:Woodruff Place Church\, 1739 E Michigan St\, Indianapolis\, Indiana\, 46201\, United States
CATEGORIES:Thursday
ATTACH;FMTTYPE=image/jpeg:https://woodruffplacebaptist.org/wp-content/uploads/2025/11/elevate-logo.jpg
ORGANIZER;CN="Aaron Story":MAILTO:astory@elevateindy.org
END:VEVENT
BEGIN:VEVENT
DTSTART;TZID=America/Indiana/Indianapolis:20290720T193000
DTEND;TZID=America/Indiana/Indianapolis:20290720T204500
DTSTAMP:20260421T190541
CREATED:20251110T164259Z
LAST-MODIFIED:20251110T164259Z
UID:10004299-1879270200-1879274700@woodruffplacebaptist.org
SUMMARY:N.A
DESCRIPTION:Located Downstairs
URL:https://woodruffplacebaptist.org/event/n-a-3/2029-07-20/
LOCATION:Woodruff Place Church\, 1739 E Michigan St\, Indianapolis\, Indiana\, 46201\, United States
CATEGORIES:Friday
ORGANIZER;CN="Amy Ilherd":MAILTO:amy.ilherd@yahoo.com
END:VEVENT
BEGIN:VEVENT
DTSTART;TZID=America/Indiana/Indianapolis:20290724T193000
DTEND;TZID=America/Indiana/Indianapolis:20290724T210000
DTSTAMP:20260421T190541
CREATED:20251110T163930Z
LAST-MODIFIED:20251110T163930Z
UID:10003776-1879615800-1879621200@woodruffplacebaptist.org
SUMMARY:N.A
DESCRIPTION:Located Downstairs
URL:https://woodruffplacebaptist.org/event/n-a/2029-07-24/
LOCATION:Woodruff Place Church\, 1739 E Michigan St\, Indianapolis\, Indiana\, 46201\, United States
CATEGORIES:Tuesday
ORGANIZER;CN="Amy Ilherd":MAILTO:amy.ilherd@yahoo.com
END:VEVENT
BEGIN:VEVENT
DTSTART;TZID=America/Indiana/Indianapolis:20290725T183000
DTEND;TZID=America/Indiana/Indianapolis:20290725T200000
DTSTAMP:20260421T190541
CREATED:20251106T151627Z
LAST-MODIFIED:20251110T135633Z
UID:10001871-1879698600-1879704000@woodruffplacebaptist.org
SUMMARY:Missional Community
DESCRIPTION:
URL:https://woodruffplacebaptist.org/event/missional-community/2029-07-25/
LOCATION:Indiana
CATEGORIES:Wednesday
ATTACH;FMTTYPE=image/jpeg:https://woodruffplacebaptist.org/wp-content/uploads/2025/11/3.23.2025_-Sunday-Slides_March-2025.jpg
END:VEVENT
BEGIN:VEVENT
DTSTART;TZID=America/Indiana/Indianapolis:20290725T190000
DTEND;TZID=America/Indiana/Indianapolis:20290725T210000
DTSTAMP:20260421T190541
CREATED:20251110T164117Z
LAST-MODIFIED:20251110T164117Z
UID:10004038-1879700400-1879707600@woodruffplacebaptist.org
SUMMARY:N.A
DESCRIPTION:Located Downstairs
URL:https://woodruffplacebaptist.org/event/n-a-2/2029-07-25/
LOCATION:Woodruff Place Church\, 1739 E Michigan St\, Indianapolis\, Indiana\, 46201\, United States
CATEGORIES:Wednesday
ORGANIZER;CN="Amy Ilherd":MAILTO:amy.ilherd@yahoo.com
END:VEVENT
BEGIN:VEVENT
DTSTART;TZID=America/Indiana/Indianapolis:20290726T170000
DTEND;TZID=America/Indiana/Indianapolis:20290726T200000
DTSTAMP:20260421T190541
CREATED:20251104T172500Z
LAST-MODIFIED:20251106T142928Z
UID:10000800-1879779600-1879790400@woodruffplacebaptist.org
SUMMARY:Closed Community Partner - Elevate Indianapolis
DESCRIPTION:Alongside students\, teacher-mentors counter disadvantages\, close gaps\, and remove obstacles that heighten vulnerability to the harmful consequences of starting life with significant deterrents and limited opportunities to achieve upward economic mobility and to develop into leaders. \nGrounded in Elevate USA’s 40-year+ model that anchors all efforts in mentoring relationships\, our education nonprofit focuses on teaching and mentoring our city’s most vulnerable youth by living out this mission: \nBuilding long-term\, life-changing relationships with Indianapolis urban youth\, equipping them to thrive and contribute to their community. This IS Elevate.
URL:https://woodruffplacebaptist.org/event/closed-community-partner-elevate-indianapolis-6/2029-07-26/
LOCATION:Woodruff Place Church\, 1739 E Michigan St\, Indianapolis\, Indiana\, 46201\, United States
CATEGORIES:Thursday
ATTACH;FMTTYPE=image/jpeg:https://woodruffplacebaptist.org/wp-content/uploads/2025/11/elevate-logo.jpg
ORGANIZER;CN="Aaron Story":MAILTO:astory@elevateindy.org
END:VEVENT
BEGIN:VEVENT
DTSTART;TZID=America/Indiana/Indianapolis:20290727T193000
DTEND;TZID=America/Indiana/Indianapolis:20290727T204500
DTSTAMP:20260421T190541
CREATED:20251110T164259Z
LAST-MODIFIED:20251110T164259Z
UID:10004300-1879875000-1879879500@woodruffplacebaptist.org
SUMMARY:N.A
DESCRIPTION:Located Downstairs
URL:https://woodruffplacebaptist.org/event/n-a-3/2029-07-27/
LOCATION:Woodruff Place Church\, 1739 E Michigan St\, Indianapolis\, Indiana\, 46201\, United States
CATEGORIES:Friday
ORGANIZER;CN="Amy Ilherd":MAILTO:amy.ilherd@yahoo.com
END:VEVENT
BEGIN:VEVENT
DTSTART;TZID=America/Indiana/Indianapolis:20290731T193000
DTEND;TZID=America/Indiana/Indianapolis:20290731T210000
DTSTAMP:20260421T190541
CREATED:20251110T163930Z
LAST-MODIFIED:20251110T163930Z
UID:10003777-1880220600-1880226000@woodruffplacebaptist.org
SUMMARY:N.A
DESCRIPTION:Located Downstairs
URL:https://woodruffplacebaptist.org/event/n-a/2029-07-31/
LOCATION:Woodruff Place Church\, 1739 E Michigan St\, Indianapolis\, Indiana\, 46201\, United States
CATEGORIES:Tuesday
ORGANIZER;CN="Amy Ilherd":MAILTO:amy.ilherd@yahoo.com
END:VEVENT
END:VCALENDAR