BEGIN:VCALENDAR
VERSION:2.0
PRODID:-//Woodruff Place Baptist Church - ECPv6.15.18//NONSGML v1.0//EN
CALSCALE:GREGORIAN
METHOD:PUBLISH
X-ORIGINAL-URL:https://woodruffplacebaptist.org
X-WR-CALDESC:Events for Woodruff Place Baptist Church
REFRESH-INTERVAL;VALUE=DURATION:PT1H
X-Robots-Tag:noindex
X-PUBLISHED-TTL:PT1H
BEGIN:VTIMEZONE
TZID:America/Indiana/Indianapolis
BEGIN:DAYLIGHT
TZOFFSETFROM:-0500
TZOFFSETTO:-0400
TZNAME:EDT
DTSTART:20280312T070000
END:DAYLIGHT
BEGIN:STANDARD
TZOFFSETFROM:-0400
TZOFFSETTO:-0500
TZNAME:EST
DTSTART:20281105T060000
END:STANDARD
BEGIN:DAYLIGHT
TZOFFSETFROM:-0500
TZOFFSETTO:-0400
TZNAME:EDT
DTSTART:20290311T070000
END:DAYLIGHT
BEGIN:STANDARD
TZOFFSETFROM:-0400
TZOFFSETTO:-0500
TZNAME:EST
DTSTART:20291104T060000
END:STANDARD
BEGIN:DAYLIGHT
TZOFFSETFROM:-0500
TZOFFSETTO:-0400
TZNAME:EDT
DTSTART:20300310T070000
END:DAYLIGHT
BEGIN:STANDARD
TZOFFSETFROM:-0400
TZOFFSETTO:-0500
TZNAME:EST
DTSTART:20301103T060000
END:STANDARD
END:VTIMEZONE
BEGIN:VEVENT
DTSTART;TZID=America/Indiana/Indianapolis:20290201T170000
DTEND;TZID=America/Indiana/Indianapolis:20290201T200000
DTSTAMP:20260421T125516
CREATED:20251104T172500Z
LAST-MODIFIED:20251106T142928Z
UID:10000775-1864659600-1864670400@woodruffplacebaptist.org
SUMMARY:Closed Community Partner - Elevate Indianapolis
DESCRIPTION:Alongside students\, teacher-mentors counter disadvantages\, close gaps\, and remove obstacles that heighten vulnerability to the harmful consequences of starting life with significant deterrents and limited opportunities to achieve upward economic mobility and to develop into leaders. \nGrounded in Elevate USA’s 40-year+ model that anchors all efforts in mentoring relationships\, our education nonprofit focuses on teaching and mentoring our city’s most vulnerable youth by living out this mission: \nBuilding long-term\, life-changing relationships with Indianapolis urban youth\, equipping them to thrive and contribute to their community. This IS Elevate.
URL:https://woodruffplacebaptist.org/event/closed-community-partner-elevate-indianapolis-6/2029-02-01/
LOCATION:Woodruff Place Church\, 1739 E Michigan St\, Indianapolis\, Indiana\, 46201\, United States
CATEGORIES:Thursday
ATTACH;FMTTYPE=image/jpeg:https://woodruffplacebaptist.org/wp-content/uploads/2025/11/elevate-logo.jpg
ORGANIZER;CN="Aaron Story":MAILTO:astory@elevateindy.org
END:VEVENT
BEGIN:VEVENT
DTSTART;TZID=America/Indiana/Indianapolis:20290202T193000
DTEND;TZID=America/Indiana/Indianapolis:20290202T204500
DTSTAMP:20260421T125516
CREATED:20251110T164259Z
LAST-MODIFIED:20251110T164259Z
UID:10004275-1864755000-1864759500@woodruffplacebaptist.org
SUMMARY:N.A
DESCRIPTION:Located Downstairs
URL:https://woodruffplacebaptist.org/event/n-a-3/2029-02-02/
LOCATION:Woodruff Place Church\, 1739 E Michigan St\, Indianapolis\, Indiana\, 46201\, United States
CATEGORIES:Friday
ORGANIZER;CN="Amy Ilherd":MAILTO:amy.ilherd@yahoo.com
END:VEVENT
BEGIN:VEVENT
DTSTART;TZID=America/Indiana/Indianapolis:20290206T193000
DTEND;TZID=America/Indiana/Indianapolis:20290206T210000
DTSTAMP:20260421T125516
CREATED:20251110T163930Z
LAST-MODIFIED:20251110T163930Z
UID:10003752-1865100600-1865106000@woodruffplacebaptist.org
SUMMARY:N.A
DESCRIPTION:Located Downstairs
URL:https://woodruffplacebaptist.org/event/n-a/2029-02-06/
LOCATION:Woodruff Place Church\, 1739 E Michigan St\, Indianapolis\, Indiana\, 46201\, United States
CATEGORIES:Tuesday
ORGANIZER;CN="Amy Ilherd":MAILTO:amy.ilherd@yahoo.com
END:VEVENT
BEGIN:VEVENT
DTSTART;TZID=America/Indiana/Indianapolis:20290207T183000
DTEND;TZID=America/Indiana/Indianapolis:20290207T200000
DTSTAMP:20260421T125516
CREATED:20251106T151627Z
LAST-MODIFIED:20251110T135633Z
UID:10001847-1865183400-1865188800@woodruffplacebaptist.org
SUMMARY:Missional Community
DESCRIPTION:
URL:https://woodruffplacebaptist.org/event/missional-community/2029-02-07/
LOCATION:Indiana
CATEGORIES:Wednesday
ATTACH;FMTTYPE=image/jpeg:https://woodruffplacebaptist.org/wp-content/uploads/2025/11/3.23.2025_-Sunday-Slides_March-2025.jpg
END:VEVENT
BEGIN:VEVENT
DTSTART;TZID=America/Indiana/Indianapolis:20290207T190000
DTEND;TZID=America/Indiana/Indianapolis:20290207T210000
DTSTAMP:20260421T125516
CREATED:20251110T164117Z
LAST-MODIFIED:20251110T164117Z
UID:10004014-1865185200-1865192400@woodruffplacebaptist.org
SUMMARY:N.A
DESCRIPTION:Located Downstairs
URL:https://woodruffplacebaptist.org/event/n-a-2/2029-02-07/
LOCATION:Woodruff Place Church\, 1739 E Michigan St\, Indianapolis\, Indiana\, 46201\, United States
CATEGORIES:Wednesday
ORGANIZER;CN="Amy Ilherd":MAILTO:amy.ilherd@yahoo.com
END:VEVENT
BEGIN:VEVENT
DTSTART;TZID=America/Indiana/Indianapolis:20290208T170000
DTEND;TZID=America/Indiana/Indianapolis:20290208T200000
DTSTAMP:20260421T125516
CREATED:20251104T172500Z
LAST-MODIFIED:20251106T142928Z
UID:10000776-1865264400-1865275200@woodruffplacebaptist.org
SUMMARY:Closed Community Partner - Elevate Indianapolis
DESCRIPTION:Alongside students\, teacher-mentors counter disadvantages\, close gaps\, and remove obstacles that heighten vulnerability to the harmful consequences of starting life with significant deterrents and limited opportunities to achieve upward economic mobility and to develop into leaders. \nGrounded in Elevate USA’s 40-year+ model that anchors all efforts in mentoring relationships\, our education nonprofit focuses on teaching and mentoring our city’s most vulnerable youth by living out this mission: \nBuilding long-term\, life-changing relationships with Indianapolis urban youth\, equipping them to thrive and contribute to their community. This IS Elevate.
URL:https://woodruffplacebaptist.org/event/closed-community-partner-elevate-indianapolis-6/2029-02-08/
LOCATION:Woodruff Place Church\, 1739 E Michigan St\, Indianapolis\, Indiana\, 46201\, United States
CATEGORIES:Thursday
ATTACH;FMTTYPE=image/jpeg:https://woodruffplacebaptist.org/wp-content/uploads/2025/11/elevate-logo.jpg
ORGANIZER;CN="Aaron Story":MAILTO:astory@elevateindy.org
END:VEVENT
BEGIN:VEVENT
DTSTART;TZID=America/Indiana/Indianapolis:20290209T193000
DTEND;TZID=America/Indiana/Indianapolis:20290209T204500
DTSTAMP:20260421T125516
CREATED:20251110T164259Z
LAST-MODIFIED:20251110T164259Z
UID:10004276-1865359800-1865364300@woodruffplacebaptist.org
SUMMARY:N.A
DESCRIPTION:Located Downstairs
URL:https://woodruffplacebaptist.org/event/n-a-3/2029-02-09/
LOCATION:Woodruff Place Church\, 1739 E Michigan St\, Indianapolis\, Indiana\, 46201\, United States
CATEGORIES:Friday
ORGANIZER;CN="Amy Ilherd":MAILTO:amy.ilherd@yahoo.com
END:VEVENT
BEGIN:VEVENT
DTSTART;TZID=America/Indiana/Indianapolis:20290210T093000
DTEND;TZID=America/Indiana/Indianapolis:20290210T110000
DTSTAMP:20260421T125516
CREATED:20251110T140120Z
LAST-MODIFIED:20251110T140120Z
UID:10003560-1865410200-1865415600@woodruffplacebaptist.org
SUMMARY:Women's Prayer Group
DESCRIPTION:Join the women of Woodruff Place\, every second Saturday at 9:30 am for a time of prayer! \nLocated in the Community Room
URL:https://woodruffplacebaptist.org/event/womens-prayer-group/2029-02-10/
LOCATION:Woodruff Place Church\, 1739 E Michigan St\, Indianapolis\, Indiana\, 46201\, United States
CATEGORIES:Saturday
END:VEVENT
BEGIN:VEVENT
DTSTART;TZID=America/Indiana/Indianapolis:20290213T193000
DTEND;TZID=America/Indiana/Indianapolis:20290213T210000
DTSTAMP:20260421T125516
CREATED:20251110T163930Z
LAST-MODIFIED:20251110T163930Z
UID:10003753-1865705400-1865710800@woodruffplacebaptist.org
SUMMARY:N.A
DESCRIPTION:Located Downstairs
URL:https://woodruffplacebaptist.org/event/n-a/2029-02-13/
LOCATION:Woodruff Place Church\, 1739 E Michigan St\, Indianapolis\, Indiana\, 46201\, United States
CATEGORIES:Tuesday
ORGANIZER;CN="Amy Ilherd":MAILTO:amy.ilherd@yahoo.com
END:VEVENT
BEGIN:VEVENT
DTSTART;TZID=America/Indiana/Indianapolis:20290214T183000
DTEND;TZID=America/Indiana/Indianapolis:20290214T200000
DTSTAMP:20260421T125516
CREATED:20251106T151627Z
LAST-MODIFIED:20251110T135633Z
UID:10001848-1865788200-1865793600@woodruffplacebaptist.org
SUMMARY:Missional Community
DESCRIPTION:
URL:https://woodruffplacebaptist.org/event/missional-community/2029-02-14/
LOCATION:Indiana
CATEGORIES:Wednesday
ATTACH;FMTTYPE=image/jpeg:https://woodruffplacebaptist.org/wp-content/uploads/2025/11/3.23.2025_-Sunday-Slides_March-2025.jpg
END:VEVENT
BEGIN:VEVENT
DTSTART;TZID=America/Indiana/Indianapolis:20290214T190000
DTEND;TZID=America/Indiana/Indianapolis:20290214T210000
DTSTAMP:20260421T125516
CREATED:20251110T164117Z
LAST-MODIFIED:20251110T164117Z
UID:10004015-1865790000-1865797200@woodruffplacebaptist.org
SUMMARY:N.A
DESCRIPTION:Located Downstairs
URL:https://woodruffplacebaptist.org/event/n-a-2/2029-02-14/
LOCATION:Woodruff Place Church\, 1739 E Michigan St\, Indianapolis\, Indiana\, 46201\, United States
CATEGORIES:Wednesday
ORGANIZER;CN="Amy Ilherd":MAILTO:amy.ilherd@yahoo.com
END:VEVENT
BEGIN:VEVENT
DTSTART;TZID=America/Indiana/Indianapolis:20290215T170000
DTEND;TZID=America/Indiana/Indianapolis:20290215T200000
DTSTAMP:20260421T125516
CREATED:20251104T172500Z
LAST-MODIFIED:20251106T142928Z
UID:10000777-1865869200-1865880000@woodruffplacebaptist.org
SUMMARY:Closed Community Partner - Elevate Indianapolis
DESCRIPTION:Alongside students\, teacher-mentors counter disadvantages\, close gaps\, and remove obstacles that heighten vulnerability to the harmful consequences of starting life with significant deterrents and limited opportunities to achieve upward economic mobility and to develop into leaders. \nGrounded in Elevate USA’s 40-year+ model that anchors all efforts in mentoring relationships\, our education nonprofit focuses on teaching and mentoring our city’s most vulnerable youth by living out this mission: \nBuilding long-term\, life-changing relationships with Indianapolis urban youth\, equipping them to thrive and contribute to their community. This IS Elevate.
URL:https://woodruffplacebaptist.org/event/closed-community-partner-elevate-indianapolis-6/2029-02-15/
LOCATION:Woodruff Place Church\, 1739 E Michigan St\, Indianapolis\, Indiana\, 46201\, United States
CATEGORIES:Thursday
ATTACH;FMTTYPE=image/jpeg:https://woodruffplacebaptist.org/wp-content/uploads/2025/11/elevate-logo.jpg
ORGANIZER;CN="Aaron Story":MAILTO:astory@elevateindy.org
END:VEVENT
BEGIN:VEVENT
DTSTART;TZID=America/Indiana/Indianapolis:20290216T193000
DTEND;TZID=America/Indiana/Indianapolis:20290216T204500
DTSTAMP:20260421T125516
CREATED:20251110T164259Z
LAST-MODIFIED:20251110T164259Z
UID:10004277-1865964600-1865969100@woodruffplacebaptist.org
SUMMARY:N.A
DESCRIPTION:Located Downstairs
URL:https://woodruffplacebaptist.org/event/n-a-3/2029-02-16/
LOCATION:Woodruff Place Church\, 1739 E Michigan St\, Indianapolis\, Indiana\, 46201\, United States
CATEGORIES:Friday
ORGANIZER;CN="Amy Ilherd":MAILTO:amy.ilherd@yahoo.com
END:VEVENT
BEGIN:VEVENT
DTSTART;TZID=America/Indiana/Indianapolis:20290220T193000
DTEND;TZID=America/Indiana/Indianapolis:20290220T210000
DTSTAMP:20260421T125516
CREATED:20251110T163930Z
LAST-MODIFIED:20251110T163930Z
UID:10003754-1866310200-1866315600@woodruffplacebaptist.org
SUMMARY:N.A
DESCRIPTION:Located Downstairs
URL:https://woodruffplacebaptist.org/event/n-a/2029-02-20/
LOCATION:Woodruff Place Church\, 1739 E Michigan St\, Indianapolis\, Indiana\, 46201\, United States
CATEGORIES:Tuesday
ORGANIZER;CN="Amy Ilherd":MAILTO:amy.ilherd@yahoo.com
END:VEVENT
BEGIN:VEVENT
DTSTART;TZID=America/Indiana/Indianapolis:20290221T183000
DTEND;TZID=America/Indiana/Indianapolis:20290221T200000
DTSTAMP:20260421T125516
CREATED:20251106T151627Z
LAST-MODIFIED:20251110T135633Z
UID:10001849-1866393000-1866398400@woodruffplacebaptist.org
SUMMARY:Missional Community
DESCRIPTION:
URL:https://woodruffplacebaptist.org/event/missional-community/2029-02-21/
LOCATION:Indiana
CATEGORIES:Wednesday
ATTACH;FMTTYPE=image/jpeg:https://woodruffplacebaptist.org/wp-content/uploads/2025/11/3.23.2025_-Sunday-Slides_March-2025.jpg
END:VEVENT
BEGIN:VEVENT
DTSTART;TZID=America/Indiana/Indianapolis:20290221T190000
DTEND;TZID=America/Indiana/Indianapolis:20290221T210000
DTSTAMP:20260421T125516
CREATED:20251110T164117Z
LAST-MODIFIED:20251110T164117Z
UID:10004016-1866394800-1866402000@woodruffplacebaptist.org
SUMMARY:N.A
DESCRIPTION:Located Downstairs
URL:https://woodruffplacebaptist.org/event/n-a-2/2029-02-21/
LOCATION:Woodruff Place Church\, 1739 E Michigan St\, Indianapolis\, Indiana\, 46201\, United States
CATEGORIES:Wednesday
ORGANIZER;CN="Amy Ilherd":MAILTO:amy.ilherd@yahoo.com
END:VEVENT
BEGIN:VEVENT
DTSTART;TZID=America/Indiana/Indianapolis:20290222T170000
DTEND;TZID=America/Indiana/Indianapolis:20290222T200000
DTSTAMP:20260421T125516
CREATED:20251104T172500Z
LAST-MODIFIED:20251106T142928Z
UID:10000778-1866474000-1866484800@woodruffplacebaptist.org
SUMMARY:Closed Community Partner - Elevate Indianapolis
DESCRIPTION:Alongside students\, teacher-mentors counter disadvantages\, close gaps\, and remove obstacles that heighten vulnerability to the harmful consequences of starting life with significant deterrents and limited opportunities to achieve upward economic mobility and to develop into leaders. \nGrounded in Elevate USA’s 40-year+ model that anchors all efforts in mentoring relationships\, our education nonprofit focuses on teaching and mentoring our city’s most vulnerable youth by living out this mission: \nBuilding long-term\, life-changing relationships with Indianapolis urban youth\, equipping them to thrive and contribute to their community. This IS Elevate.
URL:https://woodruffplacebaptist.org/event/closed-community-partner-elevate-indianapolis-6/2029-02-22/
LOCATION:Woodruff Place Church\, 1739 E Michigan St\, Indianapolis\, Indiana\, 46201\, United States
CATEGORIES:Thursday
ATTACH;FMTTYPE=image/jpeg:https://woodruffplacebaptist.org/wp-content/uploads/2025/11/elevate-logo.jpg
ORGANIZER;CN="Aaron Story":MAILTO:astory@elevateindy.org
END:VEVENT
BEGIN:VEVENT
DTSTART;TZID=America/Indiana/Indianapolis:20290223T193000
DTEND;TZID=America/Indiana/Indianapolis:20290223T204500
DTSTAMP:20260421T125516
CREATED:20251110T164259Z
LAST-MODIFIED:20251110T164259Z
UID:10004278-1866569400-1866573900@woodruffplacebaptist.org
SUMMARY:N.A
DESCRIPTION:Located Downstairs
URL:https://woodruffplacebaptist.org/event/n-a-3/2029-02-23/
LOCATION:Woodruff Place Church\, 1739 E Michigan St\, Indianapolis\, Indiana\, 46201\, United States
CATEGORIES:Friday
ORGANIZER;CN="Amy Ilherd":MAILTO:amy.ilherd@yahoo.com
END:VEVENT
BEGIN:VEVENT
DTSTART;TZID=America/Indiana/Indianapolis:20290227T193000
DTEND;TZID=America/Indiana/Indianapolis:20290227T210000
DTSTAMP:20260421T125516
CREATED:20251110T163930Z
LAST-MODIFIED:20251110T163930Z
UID:10003755-1866915000-1866920400@woodruffplacebaptist.org
SUMMARY:N.A
DESCRIPTION:Located Downstairs
URL:https://woodruffplacebaptist.org/event/n-a/2029-02-27/
LOCATION:Woodruff Place Church\, 1739 E Michigan St\, Indianapolis\, Indiana\, 46201\, United States
CATEGORIES:Tuesday
ORGANIZER;CN="Amy Ilherd":MAILTO:amy.ilherd@yahoo.com
END:VEVENT
BEGIN:VEVENT
DTSTART;TZID=America/Indiana/Indianapolis:20290228T183000
DTEND;TZID=America/Indiana/Indianapolis:20290228T200000
DTSTAMP:20260421T125516
CREATED:20251106T151627Z
LAST-MODIFIED:20251110T135633Z
UID:10001850-1866997800-1867003200@woodruffplacebaptist.org
SUMMARY:Missional Community
DESCRIPTION:
URL:https://woodruffplacebaptist.org/event/missional-community/2029-02-28/
LOCATION:Indiana
CATEGORIES:Wednesday
ATTACH;FMTTYPE=image/jpeg:https://woodruffplacebaptist.org/wp-content/uploads/2025/11/3.23.2025_-Sunday-Slides_March-2025.jpg
END:VEVENT
BEGIN:VEVENT
DTSTART;TZID=America/Indiana/Indianapolis:20290228T190000
DTEND;TZID=America/Indiana/Indianapolis:20290228T210000
DTSTAMP:20260421T125516
CREATED:20251110T164117Z
LAST-MODIFIED:20251110T164117Z
UID:10004017-1866999600-1867006800@woodruffplacebaptist.org
SUMMARY:N.A
DESCRIPTION:Located Downstairs
URL:https://woodruffplacebaptist.org/event/n-a-2/2029-02-28/
LOCATION:Woodruff Place Church\, 1739 E Michigan St\, Indianapolis\, Indiana\, 46201\, United States
CATEGORIES:Wednesday
ORGANIZER;CN="Amy Ilherd":MAILTO:amy.ilherd@yahoo.com
END:VEVENT
END:VCALENDAR