BEGIN:VCALENDAR
VERSION:2.0
PRODID:-//Woodruff Place Baptist Church - ECPv6.15.18//NONSGML v1.0//EN
CALSCALE:GREGORIAN
METHOD:PUBLISH
X-ORIGINAL-URL:https://woodruffplacebaptist.org
X-WR-CALDESC:Events for Woodruff Place Baptist Church
REFRESH-INTERVAL;VALUE=DURATION:PT1H
X-Robots-Tag:noindex
X-PUBLISHED-TTL:PT1H
BEGIN:VTIMEZONE
TZID:America/Indiana/Indianapolis
BEGIN:DAYLIGHT
TZOFFSETFROM:-0500
TZOFFSETTO:-0400
TZNAME:EDT
DTSTART:20270314T070000
END:DAYLIGHT
BEGIN:STANDARD
TZOFFSETFROM:-0400
TZOFFSETTO:-0500
TZNAME:EST
DTSTART:20271107T060000
END:STANDARD
BEGIN:DAYLIGHT
TZOFFSETFROM:-0500
TZOFFSETTO:-0400
TZNAME:EDT
DTSTART:20280312T070000
END:DAYLIGHT
BEGIN:STANDARD
TZOFFSETFROM:-0400
TZOFFSETTO:-0500
TZNAME:EST
DTSTART:20281105T060000
END:STANDARD
BEGIN:DAYLIGHT
TZOFFSETFROM:-0500
TZOFFSETTO:-0400
TZNAME:EDT
DTSTART:20290311T070000
END:DAYLIGHT
BEGIN:STANDARD
TZOFFSETFROM:-0400
TZOFFSETTO:-0500
TZNAME:EST
DTSTART:20291104T060000
END:STANDARD
END:VTIMEZONE
BEGIN:VEVENT
DTSTART;VALUE=DATE:20280604
DTEND;VALUE=DATE:20280605
DTSTAMP:20260421T052607
CREATED:20260122T192459Z
LAST-MODIFIED:20260122T192459Z
UID:10004875-1843689600-1843775999@woodruffplacebaptist.org
SUMMARY:Non Rental Time
DESCRIPTION:
URL:https://woodruffplacebaptist.org/event/non-rental-time/2028-06-04/
LOCATION:Woodruff Place Church\, 1739 E Michigan St\, Indianapolis\, Indiana\, 46201\, United States
CATEGORIES:Sunday
ORGANIZER;CN="Donna Studevent":MAILTO:dstudevent@woodruffplacebaptist.org
END:VEVENT
BEGIN:VEVENT
DTSTART;TZID=America/Indiana/Indianapolis:20280604T110000
DTEND;TZID=America/Indiana/Indianapolis:20280604T123000
DTSTAMP:20260421T052607
CREATED:20251105T190923Z
LAST-MODIFIED:20251106T142059Z
UID:10000176-1843729200-1843734600@woodruffplacebaptist.org
SUMMARY:Sunday Service
DESCRIPTION:Join us for Sunday Service every Sunday morning from 11am – 12:30pm!
URL:https://woodruffplacebaptist.org/event/sunday-service-12/2028-06-04/
LOCATION:Woodruff Place Church\, 1739 E Michigan St\, Indianapolis\, Indiana\, 46201\, United States
CATEGORIES:Sunday
ATTACH;FMTTYPE=image/jpeg:https://woodruffplacebaptist.org/wp-content/uploads/2023/04/cropped-wpbc_logo-1.jpg
END:VEVENT
BEGIN:VEVENT
DTSTART;TZID=America/Indiana/Indianapolis:20280604T130000
DTEND;TZID=America/Indiana/Indianapolis:20280604T140000
DTSTAMP:20260421T052607
CREATED:20251106T192357Z
LAST-MODIFIED:20251106T192357Z
UID:10002859-1843736400-1843740000@woodruffplacebaptist.org
SUMMARY:Lunch
DESCRIPTION:Join us in the gymnasium every Sunday afternoon for lunch\, right after service\, from 1pm – 2 pm!
URL:https://woodruffplacebaptist.org/event/lunch/2028-06-04/
LOCATION:Woodruff Place Church\, 1739 E Michigan St\, Indianapolis\, Indiana\, 46201\, United States
CATEGORIES:Sunday
ATTACH;FMTTYPE=image/jpeg:https://woodruffplacebaptist.org/wp-content/uploads/2023/04/cropped-cropped-cropped-wpbc_logo-e1680980621204.jpg
END:VEVENT
BEGIN:VEVENT
DTSTART;VALUE=DATE:20280611
DTEND;VALUE=DATE:20280612
DTSTAMP:20260421T052607
CREATED:20260122T192459Z
LAST-MODIFIED:20260122T192459Z
UID:10004876-1844294400-1844380799@woodruffplacebaptist.org
SUMMARY:Non Rental Time
DESCRIPTION:
URL:https://woodruffplacebaptist.org/event/non-rental-time/2028-06-11/
LOCATION:Woodruff Place Church\, 1739 E Michigan St\, Indianapolis\, Indiana\, 46201\, United States
CATEGORIES:Sunday
ORGANIZER;CN="Donna Studevent":MAILTO:dstudevent@woodruffplacebaptist.org
END:VEVENT
BEGIN:VEVENT
DTSTART;TZID=America/Indiana/Indianapolis:20280611T110000
DTEND;TZID=America/Indiana/Indianapolis:20280611T123000
DTSTAMP:20260421T052607
CREATED:20251105T190923Z
LAST-MODIFIED:20251106T142059Z
UID:10000177-1844334000-1844339400@woodruffplacebaptist.org
SUMMARY:Sunday Service
DESCRIPTION:Join us for Sunday Service every Sunday morning from 11am – 12:30pm!
URL:https://woodruffplacebaptist.org/event/sunday-service-12/2028-06-11/
LOCATION:Woodruff Place Church\, 1739 E Michigan St\, Indianapolis\, Indiana\, 46201\, United States
CATEGORIES:Sunday
ATTACH;FMTTYPE=image/jpeg:https://woodruffplacebaptist.org/wp-content/uploads/2023/04/cropped-wpbc_logo-1.jpg
END:VEVENT
BEGIN:VEVENT
DTSTART;TZID=America/Indiana/Indianapolis:20280611T130000
DTEND;TZID=America/Indiana/Indianapolis:20280611T140000
DTSTAMP:20260421T052607
CREATED:20251106T192357Z
LAST-MODIFIED:20251106T192357Z
UID:10002860-1844341200-1844344800@woodruffplacebaptist.org
SUMMARY:Lunch
DESCRIPTION:Join us in the gymnasium every Sunday afternoon for lunch\, right after service\, from 1pm – 2 pm!
URL:https://woodruffplacebaptist.org/event/lunch/2028-06-11/
LOCATION:Woodruff Place Church\, 1739 E Michigan St\, Indianapolis\, Indiana\, 46201\, United States
CATEGORIES:Sunday
ATTACH;FMTTYPE=image/jpeg:https://woodruffplacebaptist.org/wp-content/uploads/2023/04/cropped-cropped-cropped-wpbc_logo-e1680980621204.jpg
END:VEVENT
BEGIN:VEVENT
DTSTART;VALUE=DATE:20280618
DTEND;VALUE=DATE:20280619
DTSTAMP:20260421T052607
CREATED:20260122T192459Z
LAST-MODIFIED:20260122T192459Z
UID:10004877-1844899200-1844985599@woodruffplacebaptist.org
SUMMARY:Non Rental Time
DESCRIPTION:
URL:https://woodruffplacebaptist.org/event/non-rental-time/2028-06-18/
LOCATION:Woodruff Place Church\, 1739 E Michigan St\, Indianapolis\, Indiana\, 46201\, United States
CATEGORIES:Sunday
ORGANIZER;CN="Donna Studevent":MAILTO:dstudevent@woodruffplacebaptist.org
END:VEVENT
BEGIN:VEVENT
DTSTART;TZID=America/Indiana/Indianapolis:20280618T110000
DTEND;TZID=America/Indiana/Indianapolis:20280618T123000
DTSTAMP:20260421T052607
CREATED:20251105T190923Z
LAST-MODIFIED:20251106T142059Z
UID:10000178-1844938800-1844944200@woodruffplacebaptist.org
SUMMARY:Sunday Service
DESCRIPTION:Join us for Sunday Service every Sunday morning from 11am – 12:30pm!
URL:https://woodruffplacebaptist.org/event/sunday-service-12/2028-06-18/
LOCATION:Woodruff Place Church\, 1739 E Michigan St\, Indianapolis\, Indiana\, 46201\, United States
CATEGORIES:Sunday
ATTACH;FMTTYPE=image/jpeg:https://woodruffplacebaptist.org/wp-content/uploads/2023/04/cropped-wpbc_logo-1.jpg
END:VEVENT
BEGIN:VEVENT
DTSTART;TZID=America/Indiana/Indianapolis:20280618T130000
DTEND;TZID=America/Indiana/Indianapolis:20280618T140000
DTSTAMP:20260421T052607
CREATED:20251106T192357Z
LAST-MODIFIED:20251106T192357Z
UID:10002861-1844946000-1844949600@woodruffplacebaptist.org
SUMMARY:Lunch
DESCRIPTION:Join us in the gymnasium every Sunday afternoon for lunch\, right after service\, from 1pm – 2 pm!
URL:https://woodruffplacebaptist.org/event/lunch/2028-06-18/
LOCATION:Woodruff Place Church\, 1739 E Michigan St\, Indianapolis\, Indiana\, 46201\, United States
CATEGORIES:Sunday
ATTACH;FMTTYPE=image/jpeg:https://woodruffplacebaptist.org/wp-content/uploads/2023/04/cropped-cropped-cropped-wpbc_logo-e1680980621204.jpg
END:VEVENT
BEGIN:VEVENT
DTSTART;VALUE=DATE:20280625
DTEND;VALUE=DATE:20280626
DTSTAMP:20260421T052607
CREATED:20260122T192459Z
LAST-MODIFIED:20260122T192459Z
UID:10004878-1845504000-1845590399@woodruffplacebaptist.org
SUMMARY:Non Rental Time
DESCRIPTION:
URL:https://woodruffplacebaptist.org/event/non-rental-time/2028-06-25/
LOCATION:Woodruff Place Church\, 1739 E Michigan St\, Indianapolis\, Indiana\, 46201\, United States
CATEGORIES:Sunday
ORGANIZER;CN="Donna Studevent":MAILTO:dstudevent@woodruffplacebaptist.org
END:VEVENT
BEGIN:VEVENT
DTSTART;TZID=America/Indiana/Indianapolis:20280625T110000
DTEND;TZID=America/Indiana/Indianapolis:20280625T123000
DTSTAMP:20260421T052607
CREATED:20251105T190923Z
LAST-MODIFIED:20251106T142059Z
UID:10000179-1845543600-1845549000@woodruffplacebaptist.org
SUMMARY:Sunday Service
DESCRIPTION:Join us for Sunday Service every Sunday morning from 11am – 12:30pm!
URL:https://woodruffplacebaptist.org/event/sunday-service-12/2028-06-25/
LOCATION:Woodruff Place Church\, 1739 E Michigan St\, Indianapolis\, Indiana\, 46201\, United States
CATEGORIES:Sunday
ATTACH;FMTTYPE=image/jpeg:https://woodruffplacebaptist.org/wp-content/uploads/2023/04/cropped-wpbc_logo-1.jpg
END:VEVENT
BEGIN:VEVENT
DTSTART;TZID=America/Indiana/Indianapolis:20280625T130000
DTEND;TZID=America/Indiana/Indianapolis:20280625T140000
DTSTAMP:20260421T052607
CREATED:20251106T192357Z
LAST-MODIFIED:20251106T192357Z
UID:10002862-1845550800-1845554400@woodruffplacebaptist.org
SUMMARY:Lunch
DESCRIPTION:Join us in the gymnasium every Sunday afternoon for lunch\, right after service\, from 1pm – 2 pm!
URL:https://woodruffplacebaptist.org/event/lunch/2028-06-25/
LOCATION:Woodruff Place Church\, 1739 E Michigan St\, Indianapolis\, Indiana\, 46201\, United States
CATEGORIES:Sunday
ATTACH;FMTTYPE=image/jpeg:https://woodruffplacebaptist.org/wp-content/uploads/2023/04/cropped-cropped-cropped-wpbc_logo-e1680980621204.jpg
END:VEVENT
END:VCALENDAR