BEGIN:VCALENDAR
VERSION:2.0
PRODID:-//Woodruff Place Baptist Church - ECPv6.15.18//NONSGML v1.0//EN
CALSCALE:GREGORIAN
METHOD:PUBLISH
X-WR-CALNAME:Woodruff Place Baptist Church
X-ORIGINAL-URL:https://woodruffplacebaptist.org
X-WR-CALDESC:Events for Woodruff Place Baptist Church
REFRESH-INTERVAL;VALUE=DURATION:PT1H
X-Robots-Tag:noindex
X-PUBLISHED-TTL:PT1H
BEGIN:VTIMEZONE
TZID:America/Indiana/Indianapolis
BEGIN:DAYLIGHT
TZOFFSETFROM:-0500
TZOFFSETTO:-0400
TZNAME:EDT
DTSTART:20250309T070000
END:DAYLIGHT
BEGIN:STANDARD
TZOFFSETFROM:-0400
TZOFFSETTO:-0500
TZNAME:EST
DTSTART:20251102T060000
END:STANDARD
BEGIN:DAYLIGHT
TZOFFSETFROM:-0500
TZOFFSETTO:-0400
TZNAME:EDT
DTSTART:20260308T070000
END:DAYLIGHT
BEGIN:STANDARD
TZOFFSETFROM:-0400
TZOFFSETTO:-0500
TZNAME:EST
DTSTART:20261101T060000
END:STANDARD
BEGIN:DAYLIGHT
TZOFFSETFROM:-0500
TZOFFSETTO:-0400
TZNAME:EDT
DTSTART:20270314T070000
END:DAYLIGHT
BEGIN:STANDARD
TZOFFSETFROM:-0400
TZOFFSETTO:-0500
TZNAME:EST
DTSTART:20271107T060000
END:STANDARD
END:VTIMEZONE
BEGIN:VEVENT
DTSTART;TZID=America/Indiana/Indianapolis:20260709T080000
DTEND;TZID=America/Indiana/Indianapolis:20260709T120000
DTSTAMP:20260422T043804
CREATED:20260413T151241Z
LAST-MODIFIED:20260413T151241Z
UID:10005940-1783584000-1783598400@woodruffplacebaptist.org
SUMMARY:Futsal Clinic
DESCRIPTION:
URL:https://woodruffplacebaptist.org/event/futsal-clinic-2/2026-07-09/
ORGANIZER;CN="Joshua Mendoza":MAILTO:jmendoza@woodruffplacebaptist.org
END:VEVENT
BEGIN:VEVENT
DTSTART;TZID=America/Indiana/Indianapolis:20260710T080000
DTEND;TZID=America/Indiana/Indianapolis:20260710T120000
DTSTAMP:20260422T043804
CREATED:20260413T151241Z
LAST-MODIFIED:20260413T151241Z
UID:10005941-1783670400-1783684800@woodruffplacebaptist.org
SUMMARY:Futsal Clinic
DESCRIPTION:
URL:https://woodruffplacebaptist.org/event/futsal-clinic-2/2026-07-10/
ORGANIZER;CN="Joshua Mendoza":MAILTO:jmendoza@woodruffplacebaptist.org
END:VEVENT
BEGIN:VEVENT
DTSTART;TZID=America/Indiana/Indianapolis:20260711T080000
DTEND;TZID=America/Indiana/Indianapolis:20260711T120000
DTSTAMP:20260422T043804
CREATED:20260413T151241Z
LAST-MODIFIED:20260413T151241Z
UID:10005942-1783756800-1783771200@woodruffplacebaptist.org
SUMMARY:Futsal Clinic
DESCRIPTION:
URL:https://woodruffplacebaptist.org/event/futsal-clinic-2/2026-07-11/
ORGANIZER;CN="Joshua Mendoza":MAILTO:jmendoza@woodruffplacebaptist.org
END:VEVENT
END:VCALENDAR