BEGIN:VCALENDAR
VERSION:2.0
PRODID:-//Woodruff Place Baptist Church - ECPv6.15.18//NONSGML v1.0//EN
CALSCALE:GREGORIAN
METHOD:PUBLISH
X-WR-CALNAME:Woodruff Place Baptist Church
X-ORIGINAL-URL:https://woodruffplacebaptist.org
X-WR-CALDESC:Events for Woodruff Place Baptist Church
REFRESH-INTERVAL;VALUE=DURATION:PT1H
X-Robots-Tag:noindex
X-PUBLISHED-TTL:PT1H
BEGIN:VTIMEZONE
TZID:America/Indiana/Indianapolis
BEGIN:DAYLIGHT
TZOFFSETFROM:-0500
TZOFFSETTO:-0400
TZNAME:EDT
DTSTART:20260308T070000
END:DAYLIGHT
BEGIN:STANDARD
TZOFFSETFROM:-0400
TZOFFSETTO:-0500
TZNAME:EST
DTSTART:20261101T060000
END:STANDARD
BEGIN:DAYLIGHT
TZOFFSETFROM:-0500
TZOFFSETTO:-0400
TZNAME:EDT
DTSTART:20270314T070000
END:DAYLIGHT
BEGIN:STANDARD
TZOFFSETFROM:-0400
TZOFFSETTO:-0500
TZNAME:EST
DTSTART:20271107T060000
END:STANDARD
BEGIN:DAYLIGHT
TZOFFSETFROM:-0500
TZOFFSETTO:-0400
TZNAME:EDT
DTSTART:20280312T070000
END:DAYLIGHT
BEGIN:STANDARD
TZOFFSETFROM:-0400
TZOFFSETTO:-0500
TZNAME:EST
DTSTART:20281105T060000
END:STANDARD
END:VTIMEZONE
BEGIN:VEVENT
DTSTART;TZID=America/Indiana/Indianapolis:20270203T170000
DTEND;TZID=America/Indiana/Indianapolis:20270203T190000
DTSTAMP:20260422T085944
CREATED:20251110T135440Z
LAST-MODIFIED:20251110T135440Z
UID:10003324-1801674000-1801681200@woodruffplacebaptist.org
SUMMARY:Closed - Blue Tiger Group
DESCRIPTION:For questions on involvement in this time\, please contact Mike Tandy.
URL:https://woodruffplacebaptist.org/event/closed-blue-tiger-group-2/2027-02-03/
LOCATION:Woodruff Place Church\, 1739 E Michigan St\, Indianapolis\, Indiana\, 46201\, United States
CATEGORIES:Wednesday
ORGANIZER;CN="Mike Tandy":MAILTO:Tandy90@gmail.com
END:VEVENT
BEGIN:VEVENT
DTSTART;TZID=America/Indiana/Indianapolis:20270203T183000
DTEND;TZID=America/Indiana/Indianapolis:20270203T200000
DTSTAMP:20260422T085944
CREATED:20251106T151627Z
LAST-MODIFIED:20251110T135633Z
UID:10001742-1801679400-1801684800@woodruffplacebaptist.org
SUMMARY:Missional Community
DESCRIPTION:
URL:https://woodruffplacebaptist.org/event/missional-community/2027-02-03/
LOCATION:Indiana
CATEGORIES:Wednesday
ATTACH;FMTTYPE=image/jpeg:https://woodruffplacebaptist.org/wp-content/uploads/2025/11/3.23.2025_-Sunday-Slides_March-2025.jpg
END:VEVENT
BEGIN:VEVENT
DTSTART;TZID=America/Indiana/Indianapolis:20270203T190000
DTEND;TZID=America/Indiana/Indianapolis:20270203T210000
DTSTAMP:20260422T085944
CREATED:20251110T164117Z
LAST-MODIFIED:20251110T164117Z
UID:10003909-1801681200-1801688400@woodruffplacebaptist.org
SUMMARY:N.A
DESCRIPTION:Located Downstairs
URL:https://woodruffplacebaptist.org/event/n-a-2/2027-02-03/
LOCATION:Woodruff Place Church\, 1739 E Michigan St\, Indianapolis\, Indiana\, 46201\, United States
CATEGORIES:Wednesday
ORGANIZER;CN="Amy Ilherd":MAILTO:amy.ilherd@yahoo.com
END:VEVENT
BEGIN:VEVENT
DTSTART;TZID=America/Indiana/Indianapolis:20270210T170000
DTEND;TZID=America/Indiana/Indianapolis:20270210T190000
DTSTAMP:20260422T085944
CREATED:20251110T135440Z
LAST-MODIFIED:20251110T135440Z
UID:10003325-1802278800-1802286000@woodruffplacebaptist.org
SUMMARY:Closed - Blue Tiger Group
DESCRIPTION:For questions on involvement in this time\, please contact Mike Tandy.
URL:https://woodruffplacebaptist.org/event/closed-blue-tiger-group-2/2027-02-10/
LOCATION:Woodruff Place Church\, 1739 E Michigan St\, Indianapolis\, Indiana\, 46201\, United States
CATEGORIES:Wednesday
ORGANIZER;CN="Mike Tandy":MAILTO:Tandy90@gmail.com
END:VEVENT
BEGIN:VEVENT
DTSTART;TZID=America/Indiana/Indianapolis:20270210T183000
DTEND;TZID=America/Indiana/Indianapolis:20270210T200000
DTSTAMP:20260422T085944
CREATED:20251106T151627Z
LAST-MODIFIED:20251110T135633Z
UID:10001743-1802284200-1802289600@woodruffplacebaptist.org
SUMMARY:Missional Community
DESCRIPTION:
URL:https://woodruffplacebaptist.org/event/missional-community/2027-02-10/
LOCATION:Indiana
CATEGORIES:Wednesday
ATTACH;FMTTYPE=image/jpeg:https://woodruffplacebaptist.org/wp-content/uploads/2025/11/3.23.2025_-Sunday-Slides_March-2025.jpg
END:VEVENT
BEGIN:VEVENT
DTSTART;TZID=America/Indiana/Indianapolis:20270210T190000
DTEND;TZID=America/Indiana/Indianapolis:20270210T210000
DTSTAMP:20260422T085944
CREATED:20251110T164117Z
LAST-MODIFIED:20251110T164117Z
UID:10003910-1802286000-1802293200@woodruffplacebaptist.org
SUMMARY:N.A
DESCRIPTION:Located Downstairs
URL:https://woodruffplacebaptist.org/event/n-a-2/2027-02-10/
LOCATION:Woodruff Place Church\, 1739 E Michigan St\, Indianapolis\, Indiana\, 46201\, United States
CATEGORIES:Wednesday
ORGANIZER;CN="Amy Ilherd":MAILTO:amy.ilherd@yahoo.com
END:VEVENT
BEGIN:VEVENT
DTSTART;TZID=America/Indiana/Indianapolis:20270217T170000
DTEND;TZID=America/Indiana/Indianapolis:20270217T190000
DTSTAMP:20260422T085944
CREATED:20251110T135440Z
LAST-MODIFIED:20251110T135440Z
UID:10003326-1802883600-1802890800@woodruffplacebaptist.org
SUMMARY:Closed - Blue Tiger Group
DESCRIPTION:For questions on involvement in this time\, please contact Mike Tandy.
URL:https://woodruffplacebaptist.org/event/closed-blue-tiger-group-2/2027-02-17/
LOCATION:Woodruff Place Church\, 1739 E Michigan St\, Indianapolis\, Indiana\, 46201\, United States
CATEGORIES:Wednesday
ORGANIZER;CN="Mike Tandy":MAILTO:Tandy90@gmail.com
END:VEVENT
BEGIN:VEVENT
DTSTART;TZID=America/Indiana/Indianapolis:20270217T183000
DTEND;TZID=America/Indiana/Indianapolis:20270217T200000
DTSTAMP:20260422T085944
CREATED:20251106T151627Z
LAST-MODIFIED:20251110T135633Z
UID:10001744-1802889000-1802894400@woodruffplacebaptist.org
SUMMARY:Missional Community
DESCRIPTION:
URL:https://woodruffplacebaptist.org/event/missional-community/2027-02-17/
LOCATION:Indiana
CATEGORIES:Wednesday
ATTACH;FMTTYPE=image/jpeg:https://woodruffplacebaptist.org/wp-content/uploads/2025/11/3.23.2025_-Sunday-Slides_March-2025.jpg
END:VEVENT
BEGIN:VEVENT
DTSTART;TZID=America/Indiana/Indianapolis:20270217T190000
DTEND;TZID=America/Indiana/Indianapolis:20270217T210000
DTSTAMP:20260422T085944
CREATED:20251110T164117Z
LAST-MODIFIED:20251110T164117Z
UID:10003911-1802890800-1802898000@woodruffplacebaptist.org
SUMMARY:N.A
DESCRIPTION:Located Downstairs
URL:https://woodruffplacebaptist.org/event/n-a-2/2027-02-17/
LOCATION:Woodruff Place Church\, 1739 E Michigan St\, Indianapolis\, Indiana\, 46201\, United States
CATEGORIES:Wednesday
ORGANIZER;CN="Amy Ilherd":MAILTO:amy.ilherd@yahoo.com
END:VEVENT
BEGIN:VEVENT
DTSTART;TZID=America/Indiana/Indianapolis:20270224T170000
DTEND;TZID=America/Indiana/Indianapolis:20270224T190000
DTSTAMP:20260422T085944
CREATED:20251110T135440Z
LAST-MODIFIED:20251110T135440Z
UID:10003327-1803488400-1803495600@woodruffplacebaptist.org
SUMMARY:Closed - Blue Tiger Group
DESCRIPTION:For questions on involvement in this time\, please contact Mike Tandy.
URL:https://woodruffplacebaptist.org/event/closed-blue-tiger-group-2/2027-02-24/
LOCATION:Woodruff Place Church\, 1739 E Michigan St\, Indianapolis\, Indiana\, 46201\, United States
CATEGORIES:Wednesday
ORGANIZER;CN="Mike Tandy":MAILTO:Tandy90@gmail.com
END:VEVENT
BEGIN:VEVENT
DTSTART;TZID=America/Indiana/Indianapolis:20270224T183000
DTEND;TZID=America/Indiana/Indianapolis:20270224T200000
DTSTAMP:20260422T085944
CREATED:20251106T151627Z
LAST-MODIFIED:20251110T135633Z
UID:10001745-1803493800-1803499200@woodruffplacebaptist.org
SUMMARY:Missional Community
DESCRIPTION:
URL:https://woodruffplacebaptist.org/event/missional-community/2027-02-24/
LOCATION:Indiana
CATEGORIES:Wednesday
ATTACH;FMTTYPE=image/jpeg:https://woodruffplacebaptist.org/wp-content/uploads/2025/11/3.23.2025_-Sunday-Slides_March-2025.jpg
END:VEVENT
BEGIN:VEVENT
DTSTART;TZID=America/Indiana/Indianapolis:20270224T190000
DTEND;TZID=America/Indiana/Indianapolis:20270224T210000
DTSTAMP:20260422T085944
CREATED:20251110T164117Z
LAST-MODIFIED:20251110T164117Z
UID:10003912-1803495600-1803502800@woodruffplacebaptist.org
SUMMARY:N.A
DESCRIPTION:Located Downstairs
URL:https://woodruffplacebaptist.org/event/n-a-2/2027-02-24/
LOCATION:Woodruff Place Church\, 1739 E Michigan St\, Indianapolis\, Indiana\, 46201\, United States
CATEGORIES:Wednesday
ORGANIZER;CN="Amy Ilherd":MAILTO:amy.ilherd@yahoo.com
END:VEVENT
END:VCALENDAR